Workbook

Sheet 事業情報
A1: （様式２のスケジュール） | E1: ='様式２のスケジュール（ＦＳ事業）'!Q1 -> ver.1.0
A3: 事業情報
A4: ※備考欄（F列）記載の注意点を参考に各項目（D、E列）の入力をお願いします。
A5: ※本シートは様式1の「事業情報」シートに記載した内容を転記して作成してください。 ※事業形態についてのみ、様式2-1をもとに選択してください。 | F5: 備考 入力時の注意点など
A6: ■ | B6: 事業情報
A7: 幹事法人名 | F7: 様式1申請書の「事業情報」シートの内容をそのまま転記してください。
A8: 事業名称 | F8: 様式1申請書の「事業情報」シートの内容をそのまま転記してください。
A9: 事業形態（該当する事業形態を選択してください。） | E9: ＦＳ事業 | F9: 様式2-1_提案書の「4.事業形態」で選択した事業形態と同じものを選択してください。
E10: 実証事業

Sheet 【記載例】様式２のスケジュール
A1: （様式２のスケジュール）ＦＳ事業 | Q1: =+'様式２のスケジュール（ＦＳ事業）'!Q1 -> ver.1.0
B3: ※様式２－２提案書「４.本事業のスケジュール」について、
B4: 「３.事業内容・実施方法等」に記載いただいた内容を実施項目ごとに整理した上で、スケジュールを記載ください。
B5: ※事業期間は交付決定月の翌月から起算して１２ヶ月以内です。(最長で令和１０年４月３０日（日）までとなります）
B6: ※交付決定は令和９年３月～４月頃を予定しております。(交付審査状況により日にちが前後しますのでご留意ください)
B8: 事業の開始および終了予定月 | C8: 開始予定月 | D8: 46478 | E8: ~ | F8: 終了予定月 | I8: 46844 | L8: =+IF(I8>EOMONTH(EDATE($D$8,12),0),"←事業期間が超過しています","")
C10: 実施期間 | E10: =IF($D$8<>"",IF($I$8<>"",IF(YEAR($D$8)=YEAR($I$8),YEAR($D$8)&"年",YEAR($D$8)&"年～"&YEAR($I$8)&"年"),YEAR($D$8)&"年～20●●年"),"20●●年～20●●年") -> 2027年～2028年
B11: 実施項目 | C11: 開始月 | D11: 終了月 | E11: =IF($D$8="","●月",EOMONTH($D$8,-1)+1) -> 46478 | F11: =IF($D$8="","●月",IF(EDATE(EOMONTH($D$8,-1)+1,1)>$I$8,"●月",EDATE(EOMONTH($D$8,-1)+1,1))) -> 46508 | G11: =IF($D$8="","●月",IF(EDATE(EOMONTH($D$8,-1)+1,2)>$I$8,"●月",EDATE(EOMONTH($D$8,-1)+1,2))) -> 46539 | H11: =IF($D$8="","●月",IF(EDATE(EOMONTH($D$8,-1)+1,3)>$I$8,"●月",EDATE(EOMONTH($D$8,-1)+1,3))) -> 46569 | I11: =IF($D$8="","●月",IF(EDATE(EOMONTH($D$8,-1)+1,4)>$I$8,"●月",EDATE(EOMONTH($D$8,-1)+1,4))) -> 46600 | J11: =IF($D$8="","●月",IF(EDATE(EOMONTH($D$8,-1)+1,5)>$I$8,"●月",EDATE(EOMONTH($D$8,-1)+1,5))) -> 46631 | K11: =IF($D$8="","●月",IF(EDATE(EOMONTH($D$8,-1)+1,6)>$I$8,"●月",EDATE(EOMONTH($D$8,-1)+1,6))) -> 46661 | L11: =IF($D$8="","●月",IF(EDATE(EOMONTH($D$8,-1)+1,7)>$I$8,"●月",EDATE(EOMONTH($D$8,-1)+1,7))) -> 46692 | M11: =IF($D$8="","●月",IF(EDATE(EOMONTH($D$8,-1)+1,8)>$I$8,"●月",EDATE(EOMONTH($D$8,-1)+1,8))) -> 46722 | N11: =IF($D$8="","●月",IF(EDATE(EOMONTH($D$8,-1)+1,9)>$I$8,"●月",EDATE(EOMONTH($D$8,-1)+1,9))) -> 46753 | O11: =IF($D$8="","●月",IF(EDATE(EOMONTH($D$8,-1)+1,10)>$I$8,"●月",EDATE(EOMONTH($D$8,-1)+1,10))) -> 46784 | P11: =IF($D$8="","●月",IF(EDATE(EOMONTH($D$8,-1)+1,11)>$I$8,"●月",EDATE(EOMONTH($D$8,-1)+1,11))) -> 46813 | Q11: =IF($D$8="","●月",IF(EDATE(EOMONTH($D$8,-1)+1,12)>$I$8,"●月",EDATE(EOMONTH($D$8,-1)+1,12))) -> 46844
B12: 1.実施項目a ●●●●●● | C12: 46478 | D12: 46844
B13: a-1. ○○○○ | C13: 46478 | D13: 46722
B14: a-2. ○○○○ | C14: 46569 | D14: 46722
B15: a-3. ○○○○ | C15: 46753 | D15: 46844
B16: 2.実施項目b ■■■■■■ | C16: 46478 | D16: 46844
B17: b-1. □□□□ | C17: 46478 | D17: 46692
B18: b-2. □□□□ | C18: 46569 | D18: 46844
B19: b-3. □□□□ | C19: 46631
B34: ↑行数が不足する場合はここより上に行を挿入（追加）してください

Sheet 様式２のスケジュール（ＦＳ事業）
A1: （様式２のスケジュール）ＦＳ事業 | Q1: ver.1.0
B3: ※様式２－２提案書「４.本事業のスケジュール」について、
B4: 「３.事業内容・実施方法等」に記載いただいた内容を実施項目ごとに整理した上で、スケジュールを記載ください。
B5: ※事業期間は交付決定月の翌月から起算して１２ヶ月以内です。(最長で令和１０年４月３０日（日）までとなります）
B6: ※交付決定は令和９年３月～４月頃を予定しております。(交付審査状況により日にちが前後しますのでご留意ください)
B8: 事業の開始および終了予定月 | C8: 開始予定月 | E8: ~ | F8: 終了予定月 | L8: =+IF(I8>EOMONTH(EDATE($D$8,12),0),"←事業期間が超過しています","")
C10: 実施期間 | E10: =IF($D$8<>"",IF($I$8<>"",IF(YEAR($D$8)=YEAR($I$8),YEAR($D$8)&"年",YEAR($D$8)&"年～"&YEAR($I$8)&"年"),YEAR($D$8)&"年～20●●年"),"20●●年～20●●年") -> 20●●年～20●●年
B11: 実施項目 | C11: 開始月 | D11: 終了月 | E11: =IF($D$8="","●月",EOMONTH($D$8,-1)+1) -> ●月 | F11: =IF($D$8="","●月",IF(EDATE(EOMONTH($D$8,-1)+1,1)>$I$8,"●月",EDATE(EOMONTH($D$8,-1)+1,1))) -> ●月 | G11: =IF($D$8="","●月",IF(EDATE(EOMONTH($D$8,-1)+1,2)>$I$8,"●月",EDATE(EOMONTH($D$8,-1)+1,2))) -> ●月 | H11: =IF($D$8="","●月",IF(EDATE(EOMONTH($D$8,-1)+1,3)>$I$8,"●月",EDATE(EOMONTH($D$8,-1)+1,3))) -> ●月 | I11: =IF($D$8="","●月",IF(EDATE(EOMONTH($D$8,-1)+1,4)>$I$8,"●月",EDATE(EOMONTH($D$8,-1)+1,4))) -> ●月 | J11: =IF($D$8="","●月",IF(EDATE(EOMONTH($D$8,-1)+1,5)>$I$8,"●月",EDATE(EOMONTH($D$8,-1)+1,5))) -> ●月 | K11: =IF($D$8="","●月",IF(EDATE(EOMONTH($D$8,-1)+1,6)>$I$8,"●月",EDATE(EOMONTH($D$8,-1)+1,6))) -> ●月 | L11: =IF($D$8="","●月",IF(EDATE(EOMONTH($D$8,-1)+1,7)>$I$8,"●月",EDATE(EOMONTH($D$8,-1)+1,7))) -> ●月 | M11: =IF($D$8="","●月",IF(EDATE(EOMONTH($D$8,-1)+1,8)>$I$8,"●月",EDATE(EOMONTH($D$8,-1)+1,8))) -> ●月 | N11: =IF($D$8="","●月",IF(EDATE(EOMONTH($D$8,-1)+1,9)>$I$8,"●月",EDATE(EOMONTH($D$8,-1)+1,9))) -> ●月 | O11: =IF($D$8="","●月",IF(EDATE(EOMONTH($D$8,-1)+1,10)>$I$8,"●月",EDATE(EOMONTH($D$8,-1)+1,10))) -> ●月 | P11: =IF($D$8="","●月",IF(EDATE(EOMONTH($D$8,-1)+1,11)>$I$8,"●月",EDATE(EOMONTH($D$8,-1)+1,11))) -> ●月 | Q11: =IF($D$8="","●月",IF(EDATE(EOMONTH($D$8,-1)+1,12)>$I$8,"●月",EDATE(EOMONTH($D$8,-1)+1,12))) -> ●月
B34: ↑行数が不足する場合はここより上に行を挿入（追加）してください

Sheet 様式２のスケジュール（実証事業）
A1: （様式２のスケジュール）実証事業 | W1: ='様式２のスケジュール（ＦＳ事業）'!Q1 -> ver.1.0
B3: ※様式２－２提案書「４.本事業のスケジュール」について、
B4: 「３.事業内容・実施方法等」に記載いただいた内容を実施項目ごとに整理した上で、スケジュールを記載ください。
B5: ※事業期間は交付決定月の翌月から起算して１８ヶ月以内です。(最長で令和１０年１０月３１日（火）までとなります）
B6: ※交付決定は令和９年３月～４月頃を予定しております。(交付審査状況により日にちが前後しますのでご留意ください)
B8: 事業の開始および終了予定月 | C8: 開始予定月 | E8: ~ | F8: 終了予定月 | L8: =+IF(I8>EOMONTH(EDATE($D$8,18),0),"←事業期間が超過しています","")
C10: 実施期間 | E10: =IF($D$8<>"",IF($I$8<>"",IF(YEAR($D$8)=YEAR($I$8),YEAR($D$8)&"年",YEAR($D$8)&"年～"&YEAR($I$8)&"年"),YEAR($D$8)&"年～20●●年"),"20●●年～20●●年") -> 20●●年～20●●年
B11: 実施項目 | C11: 開始月 | D11: 終了月 | E11: =IF($D$8="","●月",EOMONTH($D$8,-1)+1) -> ●月 | F11: =IF($D$8="","●月",IF(EDATE(EOMONTH($D$8,-1)+1,1)>$I$8,"●月",EDATE(EOMONTH($D$8,-1)+1,1))) -> ●月 | G11: =IF($D$8="","●月",IF(EDATE(EOMONTH($D$8,-1)+1,2)>$I$8,"●月",EDATE(EOMONTH($D$8,-1)+1,2))) -> ●月 | H11: =IF($D$8="","●月",IF(EDATE(EOMONTH($D$8,-1)+1,3)>$I$8,"●月",EDATE(EOMONTH($D$8,-1)+1,3))) -> ●月 | I11: =IF($D$8="","●月",IF(EDATE(EOMONTH($D$8,-1)+1,4)>$I$8,"●月",EDATE(EOMONTH($D$8,-1)+1,4))) -> ●月 | J11: =IF($D$8="","●月",IF(EDATE(EOMONTH($D$8,-1)+1,5)>$I$8,"●月",EDATE(EOMONTH($D$8,-1)+1,5))) -> ●月 | K11: =IF($D$8="","●月",IF(EDATE(EOMONTH($D$8,-1)+1,6)>$I$8,"●月",EDATE(EOMONTH($D$8,-1)+1,6))) -> ●月 | L11: =IF($D$8="","●月",IF(EDATE(EOMONTH($D$8,-1)+1,7)>$I$8,"●月",EDATE(EOMONTH($D$8,-1)+1,7))) -> ●月 | M11: =IF($D$8="","●月",IF(EDATE(EOMONTH($D$8,-1)+1,8)>$I$8,"●月",EDATE(EOMONTH($D$8,-1)+1,8))) -> ●月 | N11: =IF($D$8="","●月",IF(EDATE(EOMONTH($D$8,-1)+1,9)>$I$8,"●月",EDATE(EOMONTH($D$8,-1)+1,9))) -> ●月 | O11: =IF($D$8="","●月",IF(EDATE(EOMONTH($D$8,-1)+1,10)>$I$8,"●月",EDATE(EOMONTH($D$8,-1)+1,10))) -> ●月 | P11: =IF($D$8="","●月",IF(EDATE(EOMONTH($D$8,-1)+1,11)>$I$8,"●月",EDATE(EOMONTH($D$8,-1)+1,11))) -> ●月 | Q11: =IF($D$8="","●月",IF(EDATE(EOMONTH($D$8,-1)+1,12)>$I$8,"●月",EDATE(EOMONTH($D$8,-1)+1,12))) -> ●月 | R11: =IF($D$8="","●月",IF(EDATE(EOMONTH($D$8,-1)+1,13)>$I$8,"●月",EDATE(EOMONTH($D$8,-1)+1,13))) -> ●月 | S11: =IF($D$8="","●月",IF(EDATE(EOMONTH($D$8,-1)+1,14)>$I$8,"●月",EDATE(EOMONTH($D$8,-1)+1,14))) -> ●月 | T11: =IF($D$8="","●月",IF(EDATE(EOMONTH($D$8,-1)+1,15)>$I$8,"●月",EDATE(EOMONTH($D$8,-1)+1,15))) -> ●月 | U11: =IF($D$8="","●月",IF(EDATE(EOMONTH($D$8,-1)+1,16)>$I$8,"●月",EDATE(EOMONTH($D$8,-1)+1,16))) -> ●月 | V11: =IF($D$8="","●月",IF(EDATE(EOMONTH($D$8,-1)+1,17)>$I$8,"●月",EDATE(EOMONTH($D$8,-1)+1,17))) -> ●月 | W11: =IF($D$8="","●月",IF(EDATE(EOMONTH($D$8,-1)+1,18)>$I$8,"●月",EDATE(EOMONTH($D$8,-1)+1,18))) -> ●月
B34: ↑行数が不足する場合はここより上に行を挿入（追加）してください

Sheet マスタ
A1: FS | B1: 実証 | C1: FS | D1: 実証 | F1: 開始月 | G1: 終了月(FS) | H1: 終了月(実証)
A2: =$F$2 -> 46447 | B2: =$F$2 -> 46447 | C2: ='様式２のスケジュール（ＦＳ事業）'!$D$8 -> 0 | D2: ='様式２のスケジュール（実証事業）'!$D$8 -> 0 | F2: 46447 | G2: 46873 | H2: 47057
A3: =IFERROR(IF(EDATE(EOMONTH(A2,-1)+1,1)<=$G$2,EDATE(EOMONTH(A2,-1)+1,1),""),"") -> 46478 | B3: =IFERROR(IF(EDATE(EOMONTH(B2,-1)+1,1)<=$H$2,EDATE(EOMONTH(B2,-1)+1,1),""),"") -> 46478 | C3: =IFERROR(IF(EDATE(EOMONTH(C2,-1)+1,1)<='様式２のスケジュール（ＦＳ事業）'!$I$8,EDATE(EOMONTH(C2,-1)+1,1),""),"") | D3: =IFERROR(IF(EDATE(EOMONTH(D2,-1)+1,1)<='様式２のスケジュール（実証事業）'!$I$8,EDATE(EOMONTH(D2,-1)+1,1),""),"")
A4: =IFERROR(IF(EDATE(EOMONTH(A3,-1)+1,1)<=$G$2,EDATE(EOMONTH(A3,-1)+1,1),""),"") -> 46508 | B4: =IFERROR(IF(EDATE(EOMONTH(B3,-1)+1,1)<=$H$2,EDATE(EOMONTH(B3,-1)+1,1),""),"") -> 46508 | C4: =IFERROR(IF(EDATE(EOMONTH(C3,-1)+1,1)<='様式２のスケジュール（ＦＳ事業）'!$I$8,EDATE(EOMONTH(C3,-1)+1,1),""),"") | D4: =IFERROR(IF(EDATE(EOMONTH(D3,-1)+1,1)<='様式２のスケジュール（実証事業）'!$I$8,EDATE(EOMONTH(D3,-1)+1,1),""),"")
A5: =IFERROR(IF(EDATE(EOMONTH(A4,-1)+1,1)<=$G$2,EDATE(EOMONTH(A4,-1)+1,1),""),"") -> 46539 | B5: =IFERROR(IF(EDATE(EOMONTH(B4,-1)+1,1)<=$H$2,EDATE(EOMONTH(B4,-1)+1,1),""),"") -> 46539 | C5: =IFERROR(IF(EDATE(EOMONTH(C4,-1)+1,1)<='様式２のスケジュール（ＦＳ事業）'!$I$8,EDATE(EOMONTH(C4,-1)+1,1),""),"") | D5: =IFERROR(IF(EDATE(EOMONTH(D4,-1)+1,1)<='様式２のスケジュール（実証事業）'!$I$8,EDATE(EOMONTH(D4,-1)+1,1),""),"")
A6: =IFERROR(IF(EDATE(EOMONTH(A5,-1)+1,1)<=$G$2,EDATE(EOMONTH(A5,-1)+1,1),""),"") -> 46569 | B6: =IFERROR(IF(EDATE(EOMONTH(B5,-1)+1,1)<=$H$2,EDATE(EOMONTH(B5,-1)+1,1),""),"") -> 46569 | C6: =IFERROR(IF(EDATE(EOMONTH(C5,-1)+1,1)<='様式２のスケジュール（ＦＳ事業）'!$I$8,EDATE(EOMONTH(C5,-1)+1,1),""),"") | D6: =IFERROR(IF(EDATE(EOMONTH(D5,-1)+1,1)<='様式２のスケジュール（実証事業）'!$I$8,EDATE(EOMONTH(D5,-1)+1,1),""),"")
A7: =IFERROR(IF(EDATE(EOMONTH(A6,-1)+1,1)<=$G$2,EDATE(EOMONTH(A6,-1)+1,1),""),"") -> 46600 | B7: =IFERROR(IF(EDATE(EOMONTH(B6,-1)+1,1)<=$H$2,EDATE(EOMONTH(B6,-1)+1,1),""),"") -> 46600 | C7: =IFERROR(IF(EDATE(EOMONTH(C6,-1)+1,1)<='様式２のスケジュール（ＦＳ事業）'!$I$8,EDATE(EOMONTH(C6,-1)+1,1),""),"") | D7: =IFERROR(IF(EDATE(EOMONTH(D6,-1)+1,1)<='様式２のスケジュール（実証事業）'!$I$8,EDATE(EOMONTH(D6,-1)+1,1),""),"")
A8: =IFERROR(IF(EDATE(EOMONTH(A7,-1)+1,1)<=$G$2,EDATE(EOMONTH(A7,-1)+1,1),""),"") -> 46631 | B8: =IFERROR(IF(EDATE(EOMONTH(B7,-1)+1,1)<=$H$2,EDATE(EOMONTH(B7,-1)+1,1),""),"") -> 46631 | C8: =IFERROR(IF(EDATE(EOMONTH(C7,-1)+1,1)<='様式２のスケジュール（ＦＳ事業）'!$I$8,EDATE(EOMONTH(C7,-1)+1,1),""),"") | D8: =IFERROR(IF(EDATE(EOMONTH(D7,-1)+1,1)<='様式２のスケジュール（実証事業）'!$I$8,EDATE(EOMONTH(D7,-1)+1,1),""),"")
A9: =IFERROR(IF(EDATE(EOMONTH(A8,-1)+1,1)<=$G$2,EDATE(EOMONTH(A8,-1)+1,1),""),"") -> 46661 | B9: =IFERROR(IF(EDATE(EOMONTH(B8,-1)+1,1)<=$H$2,EDATE(EOMONTH(B8,-1)+1,1),""),"") -> 46661 | C9: =IFERROR(IF(EDATE(EOMONTH(C8,-1)+1,1)<='様式２のスケジュール（ＦＳ事業）'!$I$8,EDATE(EOMONTH(C8,-1)+1,1),""),"") | D9: =IFERROR(IF(EDATE(EOMONTH(D8,-1)+1,1)<='様式２のスケジュール（実証事業）'!$I$8,EDATE(EOMONTH(D8,-1)+1,1),""),"")
A10: =IFERROR(IF(EDATE(EOMONTH(A9,-1)+1,1)<=$G$2,EDATE(EOMONTH(A9,-1)+1,1),""),"") -> 46692 | B10: =IFERROR(IF(EDATE(EOMONTH(B9,-1)+1,1)<=$H$2,EDATE(EOMONTH(B9,-1)+1,1),""),"") -> 46692 | C10: =IFERROR(IF(EDATE(EOMONTH(C9,-1)+1,1)<='様式２のスケジュール（ＦＳ事業）'!$I$8,EDATE(EOMONTH(C9,-1)+1,1),""),"") | D10: =IFERROR(IF(EDATE(EOMONTH(D9,-1)+1,1)<='様式２のスケジュール（実証事業）'!$I$8,EDATE(EOMONTH(D9,-1)+1,1),""),"")
A11: =IFERROR(IF(EDATE(EOMONTH(A10,-1)+1,1)<=$G$2,EDATE(EOMONTH(A10,-1)+1,1),""),"") -> 46722 | B11: =IFERROR(IF(EDATE(EOMONTH(B10,-1)+1,1)<=$H$2,EDATE(EOMONTH(B10,-1)+1,1),""),"") -> 46722 | C11: =IFERROR(IF(EDATE(EOMONTH(C10,-1)+1,1)<='様式２のスケジュール（ＦＳ事業）'!$I$8,EDATE(EOMONTH(C10,-1)+1,1),""),"") | D11: =IFERROR(IF(EDATE(EOMONTH(D10,-1)+1,1)<='様式２のスケジュール（実証事業）'!$I$8,EDATE(EOMONTH(D10,-1)+1,1),""),"")
A12: =IFERROR(IF(EDATE(EOMONTH(A11,-1)+1,1)<=$G$2,EDATE(EOMONTH(A11,-1)+1,1),""),"") -> 46753 | B12: =IFERROR(IF(EDATE(EOMONTH(B11,-1)+1,1)<=$H$2,EDATE(EOMONTH(B11,-1)+1,1),""),"") -> 46753 | C12: =IFERROR(IF(EDATE(EOMONTH(C11,-1)+1,1)<='様式２のスケジュール（ＦＳ事業）'!$I$8,EDATE(EOMONTH(C11,-1)+1,1),""),"") | D12: =IFERROR(IF(EDATE(EOMONTH(D11,-1)+1,1)<='様式２のスケジュール（実証事業）'!$I$8,EDATE(EOMONTH(D11,-1)+1,1),""),"")
A13: =IFERROR(IF(EDATE(EOMONTH(A12,-1)+1,1)<=$G$2,EDATE(EOMONTH(A12,-1)+1,1),""),"") -> 46784 | B13: =IFERROR(IF(EDATE(EOMONTH(B12,-1)+1,1)<=$H$2,EDATE(EOMONTH(B12,-1)+1,1),""),"") -> 46784 | C13: =IFERROR(IF(EDATE(EOMONTH(C12,-1)+1,1)<='様式２のスケジュール（ＦＳ事業）'!$I$8,EDATE(EOMONTH(C12,-1)+1,1),""),"") | D13: =IFERROR(IF(EDATE(EOMONTH(D12,-1)+1,1)<='様式２のスケジュール（実証事業）'!$I$8,EDATE(EOMONTH(D12,-1)+1,1),""),"")
A14: =IFERROR(IF(EDATE(EOMONTH(A13,-1)+1,1)<=$G$2,EDATE(EOMONTH(A13,-1)+1,1),""),"") -> 46813 | B14: =IFERROR(IF(EDATE(EOMONTH(B13,-1)+1,1)<=$H$2,EDATE(EOMONTH(B13,-1)+1,1),""),"") -> 46813 | C14: =IFERROR(IF(EDATE(EOMONTH(C13,-1)+1,1)<='様式２のスケジュール（ＦＳ事業）'!$I$8,EDATE(EOMONTH(C13,-1)+1,1),""),"") | D14: =IFERROR(IF(EDATE(EOMONTH(D13,-1)+1,1)<='様式２のスケジュール（実証事業）'!$I$8,EDATE(EOMONTH(D13,-1)+1,1),""),"")
A15: =IFERROR(IF(EDATE(EOMONTH(A14,-1)+1,1)<=$G$2,EDATE(EOMONTH(A14,-1)+1,1),""),"") -> 46844 | B15: =IFERROR(IF(EDATE(EOMONTH(B14,-1)+1,1)<=$H$2,EDATE(EOMONTH(B14,-1)+1,1),""),"") -> 46844 | D15: =IFERROR(IF(EDATE(EOMONTH(D14,-1)+1,1)<='様式２のスケジュール（実証事業）'!$I$8,EDATE(EOMONTH(D14,-1)+1,1),""),"")
B16: =IFERROR(IF(EDATE(EOMONTH(B15,-1)+1,1)<=$H$2,EDATE(EOMONTH(B15,-1)+1,1),""),"") -> 46874 | D16: =IFERROR(IF(EDATE(EOMONTH(D15,-1)+1,1)<='様式２のスケジュール（実証事業）'!$I$8,EDATE(EOMONTH(D15,-1)+1,1),""),"")
B17: =IFERROR(IF(EDATE(EOMONTH(B16,-1)+1,1)<=$H$2,EDATE(EOMONTH(B16,-1)+1,1),""),"") -> 46905 | D17: =IFERROR(IF(EDATE(EOMONTH(D16,-1)+1,1)<='様式２のスケジュール（実証事業）'!$I$8,EDATE(EOMONTH(D16,-1)+1,1),""),"")
B18: =IFERROR(IF(EDATE(EOMONTH(B17,-1)+1,1)<=$H$2,EDATE(EOMONTH(B17,-1)+1,1),""),"") -> 46935 | D18: =IFERROR(IF(EDATE(EOMONTH(D17,-1)+1,1)<='様式２のスケジュール（実証事業）'!$I$8,EDATE(EOMONTH(D17,-1)+1,1),""),"")
B19: =IFERROR(IF(EDATE(EOMONTH(B18,-1)+1,1)<=$H$2,EDATE(EOMONTH(B18,-1)+1,1),""),"") -> 46966 | D19: =IFERROR(IF(EDATE(EOMONTH(D18,-1)+1,1)<='様式２のスケジュール（実証事業）'!$I$8,EDATE(EOMONTH(D18,-1)+1,1),""),"")
B20: =IFERROR(IF(EDATE(EOMONTH(B19,-1)+1,1)<=$H$2,EDATE(EOMONTH(B19,-1)+1,1),""),"") -> 46997 | D20: =IFERROR(IF(EDATE(EOMONTH(D19,-1)+1,1)<='様式２のスケジュール（実証事業）'!$I$8,EDATE(EOMONTH(D19,-1)+1,1),""),"")
B21: =IFERROR(IF(EDATE(EOMONTH(B20,-1)+1,1)<=$H$2,EDATE(EOMONTH(B20,-1)+1,1),""),"") -> 47027
