Workbook

Sheet 事業情報
A1: ='様式２別添２(幹事法人)'!B2 -> （様式２ 別添２） | E1: ='様式２別添２(幹事法人)'!I1 -> ver.1.0
A3: 事業情報
A4: ※備考欄（F列）記載の注意点を参考に各項目（D、E列）の入力をお願いします。
A5: ※本シートは様式1の「事業情報」シートに記載した内容を転記して作成してください。 | F5: 備考 入力時の注意点など
A6: ■ | B6: 事業情報
A7: 幹事法人名 | F7: 様式1申請書の「事業情報」シートの内容をそのまま転記してください。
A8: 事業名称 | F8: 様式1申請書の「事業情報」シートの内容をそのまま転記してください。

Sheet 総括表
H1: =+'様式２別添２(幹事法人)'!I1 -> ver.1.0
B2: （様式２ 別添２）
B6: 令和７年度補正グローバルサウス未来志向型共創等事業費補助金 （小規模実証・ＦＳ事業：二次公募）
B7: 積算内訳書 総括表
B10: １．積算内訳書 総括表
B11: （１） | C11: 申請者（幹事法人） | D11: ='様式２別添２(幹事法人)'!$D$11 -> 0 | G11: ※「様式２別添２(幹事法人)」シート内 （１）申請者（法人名）が自動反映されます
C12: 申請者（共同申請者１） | D12: ='様式２別添２(共同申請者１)'!$D$11 -> 0 | G12: ※「様式２別添２(共同申請者１)」シート内 （１）共同申請者１が自動反映されます
C13: 申請者（共同申請者２） | D13: ='様式２別添２(共同申請者２)'!$D$11 -> 0 | G13: ※「様式２別添２(共同申請者２)」シート内 （１）共同申請者２が自動反映されます
C14: 申請者（共同申請者３） | D14: ='様式２別添２(共同申請者３)'!$D$11 -> 0 | G14: ※「様式２別添２(共同申請者３)」シート内 （１）共同申請者３が自動反映されます
C15: 申請者（共同申請者４） | D15: ='様式２別添２(共同申請者４)'!$D$11 -> 0 | G15: ※「様式２別添２(共同申請者４)」シート内 （１）共同申請者４が自動反映されます
C16: 申請者（共同申請者５） | D16: ='様式２別添２(共同申請者５)'!$D$11 -> 0 | G16: ※「様式２別添２(共同申請者５)」シート内 （１）共同申請者５が自動反映されます
C17: 申請者（未設立法人） | D17: ='様式２別添２(未設立法人)'!$D$11 -> 0 | G17: ※「様式２別添２(未設立法人)」シート内 （１）未設立法人が自動反映されます
C18: 申請者（未設立法人２） | D18: ='様式２別添２(未設立法人２)'!$D$11 -> 0 | G18: ※「様式２別添２(未設立法人２)」シート内 （１）未設立法人２が自動反映されます
B19: （２） | C19: 事業形態 | D19: ='様式２別添２(幹事法人)'!D12 -> 0 | F19: ※「様式２別添２(幹事法人)」シート内（２）事業形態が自動反映されます
B20: （３） | C20: 補助金申請額 合計額 | D20: =IF($D$19="FS事業",IF($S$34>100000000,"補助金上限額を超えています",$S$34),IF($D$19="実証事業",IF($S$34>500000000,"補助金上限額を超えています",$S$34),0)) -> 0 | F20: ※（４）積算内訳の補助金申請額が自動反映されます。幹事法人～共同申請者の各シートにて補助金申請額の「手入力欄」に記載がある場合は、「手入力欄」の金額を参照します。
B21: （４） | C21: 積算内訳 | D21: ※幹事法人～共同申請者の各シート内（５）積算内訳が費目ごとに合計され自動反映されます
B22: 区分 | C22: 内訳（費目ごと） | D22: 補助事業に要する経費 | E22: 補助対象経費 | F22: 補助金申請額
B23: 事業費 | C23: 人件費 | D23: =SUM('様式２別添２(幹事法人)'!O18,'様式２別添２(共同申請者１)'!O18,'様式２別添２(共同申請者２)'!O18,'様式２別添２(共同申請者３)'!O18,'様式２別添２(共同申請者４)'!O18,'様式２別添２(共同申請者５)'!O18,'様式２別添２(未設立法人)'!O18,'様式２別添２(未設立法人２)'!O18) -> 0 | E23: =SUM('様式２別添２(幹事法人)'!P18,'様式２別添２(共同申請者１)'!P18,'様式２別添２(共同申請者２)'!P18,'様式２別添２(共同申請者３)'!P18,'様式２別添２(共同申請者４)'!P18,'様式２別添２(共同申請者５)'!P18,'様式２別添２(未設立法人)'!P18,'様式２別添２(未設立法人２)'!P18) -> 0
C24: 旅費 | D24: =SUM('様式２別添２(幹事法人)'!O19,'様式２別添２(共同申請者１)'!O19,'様式２別添２(共同申請者２)'!O19,'様式２別添２(共同申請者３)'!O19,'様式２別添２(共同申請者４)'!O19,'様式２別添２(共同申請者５)'!O19,'様式２別添２(未設立法人)'!O19,'様式２別添２(未設立法人２)'!O19) -> 0 | E24: =SUM('様式２別添２(幹事法人)'!P19,'様式２別添２(共同申請者１)'!P19,'様式２別添２(共同申請者２)'!P19,'様式２別添２(共同申請者３)'!P19,'様式２別添２(共同申請者４)'!P19,'様式２別添２(共同申請者５)'!P19,'様式２別添２(未設立法人)'!P19,'様式２別添２(未設立法人２)'!P19) -> 0
C25: 会場費 | D25: =SUM('様式２別添２(幹事法人)'!O20,'様式２別添２(共同申請者１)'!O20,'様式２別添２(共同申請者２)'!O20,'様式２別添２(共同申請者３)'!O20,'様式２別添２(共同申請者４)'!O20,'様式２別添２(共同申請者５)'!O20,'様式２別添２(未設立法人)'!O20,'様式２別添２(未設立法人２)'!O20) -> 0 | E25: =SUM('様式２別添２(幹事法人)'!P20,'様式２別添２(共同申請者１)'!P20,'様式２別添２(共同申請者２)'!P20,'様式２別添２(共同申請者３)'!P20,'様式２別添２(共同申請者４)'!P20,'様式２別添２(共同申請者５)'!P20,'様式２別添２(未設立法人)'!P20,'様式２別添２(未設立法人２)'!P20) -> 0
C26: 謝金 | D26: =SUM('様式２別添２(幹事法人)'!O21,'様式２別添２(共同申請者１)'!O21,'様式２別添２(共同申請者２)'!O21,'様式２別添２(共同申請者３)'!O21,'様式２別添２(共同申請者４)'!O21,'様式２別添２(共同申請者５)'!O21,'様式２別添２(未設立法人)'!O21,'様式２別添２(未設立法人２)'!O21) -> 0 | E26: =SUM('様式２別添２(幹事法人)'!P21,'様式２別添２(共同申請者１)'!P21,'様式２別添２(共同申請者２)'!P21,'様式２別添２(共同申請者３)'!P21,'様式２別添２(共同申請者４)'!P21,'様式２別添２(共同申請者５)'!P21,'様式２別添２(未設立法人)'!P21,'様式２別添２(未設立法人２)'!P21) -> 0
C27: 借料及び損料 | D27: =SUM('様式２別添２(幹事法人)'!O22,'様式２別添２(共同申請者１)'!O22,'様式２別添２(共同申請者２)'!O22,'様式２別添２(共同申請者３)'!O22,'様式２別添２(共同申請者４)'!O22,'様式２別添２(共同申請者５)'!O22,'様式２別添２(未設立法人)'!O22,'様式２別添２(未設立法人２)'!O22) -> 0 | E27: =SUM('様式２別添２(幹事法人)'!P22,'様式２別添２(共同申請者１)'!P22,'様式２別添２(共同申請者２)'!P22,'様式２別添２(共同申請者３)'!P22,'様式２別添２(共同申請者４)'!P22,'様式２別添２(共同申請者５)'!P22,'様式２別添２(未設立法人)'!P22,'様式２別添２(未設立法人２)'!P22) -> 0
C28: 消耗品費 | D28: =SUM('様式２別添２(幹事法人)'!O23,'様式２別添２(共同申請者１)'!O23,'様式２別添２(共同申請者２)'!O23,'様式２別添２(共同申請者３)'!O23,'様式２別添２(共同申請者４)'!O23,'様式２別添２(共同申請者５)'!O23,'様式２別添２(未設立法人)'!O23,'様式２別添２(未設立法人２)'!O23) -> 0 | E28: =SUM('様式２別添２(幹事法人)'!P23,'様式２別添２(共同申請者１)'!P23,'様式２別添２(共同申請者２)'!P23,'様式２別添２(共同申請者３)'!P23,'様式２別添２(共同申請者４)'!P23,'様式２別添２(共同申請者５)'!P23,'様式２別添２(未設立法人)'!P23,'様式２別添２(未設立法人２)'!P23) -> 0
C29: 機械設備費・システム購入費（実証事業に限る） | D29: =SUM('様式２別添２(幹事法人)'!O24,'様式２別添２(共同申請者１)'!O24,'様式２別添２(共同申請者２)'!O24,'様式２別添２(共同申請者３)'!O24,'様式２別添２(共同申請者４)'!O24,'様式２別添２(共同申請者５)'!O24,'様式２別添２(未設立法人)'!O24,'様式２別添２(未設立法人２)'!O24) -> 0 | E29: =SUM('様式２別添２(幹事法人)'!P24,'様式２別添２(共同申請者１)'!P24,'様式２別添２(共同申請者２)'!P24,'様式２別添２(共同申請者３)'!P24,'様式２別添２(共同申請者４)'!P24,'様式２別添２(共同申請者５)'!P24,'様式２別添２(未設立法人)'!P24,'様式２別添２(未設立法人２)'!P24) -> 0 | G29: =IF(D19="FS事業",IF(OR(D29>0,E29>0),"事業形態にてFS事業を選択した場合は、機械設備費・システム購入費を計上できません",""),"")
C30: 委託・外注費 | D30: =SUM('様式２別添２(幹事法人)'!O25,'様式２別添２(共同申請者１)'!O25,'様式２別添２(共同申請者２)'!O25,'様式２別添２(共同申請者３)'!O25,'様式２別添２(共同申請者４)'!O25,'様式２別添２(共同申請者５)'!O25,'様式２別添２(未設立法人)'!O25,'様式２別添２(未設立法人２)'!O25) -> 0 | E30: =SUM('様式２別添２(幹事法人)'!P25,'様式２別添２(共同申請者１)'!P25,'様式２別添２(共同申請者２)'!P25,'様式２別添２(共同申請者３)'!P25,'様式２別添２(共同申請者４)'!P25,'様式２別添２(共同申請者５)'!P25,'様式２別添２(未設立法人)'!P25,'様式２別添２(未設立法人２)'!P25) -> 0
C31: 印刷製本費 | D31: =SUM('様式２別添２(幹事法人)'!O26,'様式２別添２(共同申請者１)'!O26,'様式２別添２(共同申請者２)'!O26,'様式２別添２(共同申請者３)'!O26,'様式２別添２(共同申請者４)'!O26,'様式２別添２(共同申請者５)'!O26,'様式２別添２(未設立法人)'!O26,'様式２別添２(未設立法人２)'!O26) -> 0 | E31: =SUM('様式２別添２(幹事法人)'!P26,'様式２別添２(共同申請者１)'!P26,'様式２別添２(共同申請者２)'!P26,'様式２別添２(共同申請者３)'!P26,'様式２別添２(共同申請者４)'!P26,'様式２別添２(共同申請者５)'!P26,'様式２別添２(未設立法人)'!P26,'様式２別添２(未設立法人２)'!P26) -> 0
C32: 補助員人件費 | D32: =SUM('様式２別添２(幹事法人)'!O27,'様式２別添２(共同申請者１)'!O27,'様式２別添２(共同申請者２)'!O27,'様式２別添２(共同申請者３)'!O27,'様式２別添２(共同申請者４)'!O27,'様式２別添２(共同申請者５)'!O27,'様式２別添２(未設立法人)'!O27,'様式２別添２(未設立法人２)'!O27) -> 0 | E32: =SUM('様式２別添２(幹事法人)'!P27,'様式２別添２(共同申請者１)'!P27,'様式２別添２(共同申請者２)'!P27,'様式２別添２(共同申請者３)'!P27,'様式２別添２(共同申請者４)'!P27,'様式２別添２(共同申請者５)'!P27,'様式２別添２(未設立法人)'!P27,'様式２別添２(未設立法人２)'!P27) -> 0
C33: その他諸経費 | D33: =SUM('様式２別添２(幹事法人)'!O28,'様式２別添２(共同申請者１)'!O28,'様式２別添２(共同申請者２)'!O28,'様式２別添２(共同申請者３)'!O28,'様式２別添２(共同申請者４)'!O28,'様式２別添２(共同申請者５)'!O28,'様式２別添２(未設立法人)'!O28,'様式２別添２(未設立法人２)'!O28) -> 0 | E33: =SUM('様式２別添２(幹事法人)'!P28,'様式２別添２(共同申請者１)'!P28,'様式２別添２(共同申請者２)'!P28,'様式２別添２(共同申請者３)'!P28,'様式２別添２(共同申請者４)'!P28,'様式２別添２(共同申請者５)'!P28,'様式２別添２(未設立法人)'!P28,'様式２別添２(未設立法人２)'!P28) -> 0
C34: 合計額 | D34: =SUM(D23:D33) -> 0 | E34: =SUM(E23:E33) -> 0 | F34: ='様式２別添２(幹事法人)'!G39+'様式２別添２(共同申請者１)'!G39+'様式２別添２(共同申請者２)'!G39+'様式２別添２(共同申請者３)'!G39+'様式２別添２(共同申請者４)'!G39+'様式２別添２(共同申請者５)'!G39+'様式２別添２(未設立法人)'!G39+'様式２別添２(未設立法人２)'!G39 -> 0 | R34: D19算出用 | S34: {=ROUNDDOWN(SUM('様式２別添２(幹事法人)'!$D$47:$E$47+'様式２別添２(共同申請者１)'!$D$47:$E$47+'様式２別添２(共同申請者２)'!$D$47:$E$47+'様式２別添２(共同申請者３)'!$D$47:$E$47+'様式２別添２(共同申請者４)'!$D$47:$E$47+'様式２別添２(共同申請者５)'!$D$47:$E$47+'様式２別添２(未設立法人)'!$D$47:$E$47,'様式２別添２(未設立法人２)'!$D$47:$E$47),0)} -> 0
B36: ※補助対象経費について、募集要領の「１０．（３）補助対象経費からの消費税額の除外」のとおり、原則、消費税等を除外して計上してください。
B38: （５） | C38: 委託・外注費率 | D38: =IFERROR(ROUNDDOWN((E30+E31+E33)/E34,4),"") | E38: ※（４）積算内訳で計算した委託・外注費率が自動反映されます。 ４０%を超える場合は、「様式２別添３委託・外注費率に関する理由書」の 「２．本事業における委託・外注費率」に左記で算出された割合を記載しご提出ください。

Sheet 記入例
I1: =+'様式２別添２(幹事法人)'!I1 -> ver.1.0
B2: （様式２ 別添２）
B6: 令和７年度補正グローバルサウス未来志向型共創等事業費補助金 （小規模実証・ＦＳ事業：二次公募）
B7: 積算内訳書
B10: １．積算内訳書
B11: （１） | C11: 申請者（法人名） | D11: ○○株式会社
B12: （２） | C12: 事業形態 | D12: FS事業 | F12: ※プルダウン選択してください
B13: （３） | C13: 補助率 | D13: １/２以内 | F13: ※プルダウン選択してください ※共同申請の場合も法人ごとに補助率を選択してください。 ※中小企業補助率「2/3以内」の適用を受けるためには、様式４の提出が必要です。
B14: （４） | C14: 補助金申請額 | D14: 自動反映欄 | E14: =G39 -> 99500000 | F14: ※（５）積算内訳の補助金申請額が自動反映されます。
D15: 手入力欄 ※必要に応じて記入 | F15: ※自動反映欄は、「1/2」もしくは「2/3」の補助率で算出されます。 「1/2以内」もしくは「2/3以内」の金額で補助金を申請したい場合は、手入力欄に 自動反映欄で算出された申請額「以内」になるように金額を手入力してください。 「手入力欄」に記載がある場合は、「手入力欄」の金額を参照します。
B16: （５） | C16: 積算内訳 | E16: =IF(E15>E14,"申請額が補助率を超えています。","")
B17: 区分 | C17: 内訳 | D17: 補助事業に要する経費 | E17: 補助対象経費 | F17: 積算根拠 ※簡潔に記載して下さい | G17: 補助金申請額 | N17: 費目合計 | O17: 補助事業に要する経費 | P17: 補助対象経費
B18: 事業費 | C18: 人件費 | D18: 70000000 | E18: 70000000 | F18: ●●実施のための稼働人員○名×単価●円×●時間×●ヶ月 | N18: 人件費 | O18: =SUMIFS($D$18:$D$38,$C$18:$C$38,"人件費") -> 70000000 | P18: =SUMIFS($E$18:$E$38,$C$18:$C$38,"人件費") -> 70000000
C19: 旅費 | D19: 11000000 | E19: 10000000 | F19: ●円×●人×●回（東京-インド移動想定） | N19: 旅費 | O19: =SUMIFS($D$18:$D$38,$C$18:$C$38,"旅費") -> 18700000 | P19: =SUMIFS($E$18:$E$38,$C$18:$C$38,"旅費") -> 17000000
C20: 旅費 | D20: 7700000 | E20: 7000000 | F20: ●円×●人×●回（東京-パキスタン移動想定） | N20: 会場費 | O20: =SUMIFS($D$18:$D$38,$C$18:$C$38,"会場費") -> 0 | P20: =SUMIFS($E$18:$E$38,$C$18:$C$38,"会場費") -> 0
C21: 委託・外注費 | D21: 49500000 | E21: 45000000 | F21: ●●調査費、2社合計 | N21: 謝金 | O21: =SUMIFS($D$18:$D$38,$C$18:$C$38,"謝金") -> 0 | P21: =SUMIFS($E$18:$E$38,$C$18:$C$38,"謝金") -> 0
C22: 機械設備費・システム購入費（実証事業に限る） | D22: 48400000 | E22: 44000000 | F22: ●●システム購入費 | N22: 借料及び損料 | O22: =SUMIFS($D$18:$D$38,$C$18:$C$38,"借料及び損料") -> 0 | P22: =SUMIFS($E$18:$E$38,$C$18:$C$38,"借料及び損料") -> 0
C23: 補助員人件費 | D23: 23000000 | E23: 23000000 | F23: ●●実施のための派遣人員○名×単価●円×●時間×●ヶ月 | N23: 消耗品費 | O23: =SUMIFS($D$18:$D$38,$C$18:$C$38,"消耗品費") -> 0 | P23: =SUMIFS($E$18:$E$38,$C$18:$C$38,"消耗品費") -> 0
N24: 機械設備費・システム購入費（実証事業に限る） | O24: =SUMIFS($D$18:$D$38,$C$18:$C$38,"機械設備費・システム購入費（実証事業に限る）") -> 48400000 | P24: =SUMIFS($E$18:$E$38,$C$18:$C$38,"機械設備費・システム購入費（実証事業に限る）") -> 44000000
N25: 委託・外注費 | O25: =SUMIFS($D$18:$D$38,$C$18:$C$38,"委託・外注費") -> 49500000 | P25: =SUMIFS($E$18:$E$38,$C$18:$C$38,"委託・外注費") -> 45000000
N26: 印刷製本費 | O26: =SUMIFS($D$18:$D$38,$C$18:$C$38,"印刷製本費") -> 0 | P26: =SUMIFS($E$18:$E$38,$C$18:$C$38,"印刷製本費") -> 0
N27: 補助員人件費 | O27: =SUMIFS($D$18:$D$38,$C$18:$C$38,"補助員人件費") -> 23000000 | P27: =SUMIFS($E$18:$E$38,$C$18:$C$38,"補助員人件費") -> 23000000
N28: その他諸経費 | O28: =SUMIFS($D$18:$D$38,$C$18:$C$38,"その他諸経費") -> 0 | P28: =SUMIFS($E$18:$E$38,$C$18:$C$38,"その他諸経費") -> 0
C39: 合計額 | D39: =SUM(D18:D38) -> 209600000 | E39: =SUM(E18:E38) -> 199000000 | G39: =IF(ISBLANK(D13),0,IF(D12="FS事業",IF(ROUNDDOWN(IF(D13="１/２以内",(E39*1/2),(E39*2/3)),0)>100000000,"補助金上限額を超えています",ROUNDDOWN(IF(D13="１/２以内",(E39*1/2),(E39*2/3)),0)),IF(ROUNDDOWN(IF(D13="１/２以内",(E39*1/2),(E39*2/3)),0)>500000000,"補助金上限額を超えています",ROUNDDOWN(IF(D13="１/２以内",(E39*1/2),(E39*2/3)),0)))) -> 99500000 | P39: =SUM(P18:P28) -> 199000000
B41: ※補助対象経費について、募集要領の「１０．（３）補助対象経費からの消費税額の除外」のとおり、原則、消費税等を除外して計上してください。
B45: ２．資金計画
B46: （１） | C46: 補助事業に要する経費 | D46: =D39 -> 209600000 | F46: ※１．積算内訳書「（５）積算内訳の補助事業に要する経費 合計額」 が自動反映されます
B47: （２） | C47: 補助金充当（予定）額 | D47: =IF(E15="",E14,E15) -> 99500000 | F47: ※１．積算内訳書「（５）積算内訳の補助金申請額」が自動反映されます。 手入力欄に金額を入力されている場合はそちらを優先します。
B48: （３） | C48: 資金計画について | D48: 精算払までの期間は、自己資金で支弁予定 | F48: ※プルダウン選択してください。
B49: （４） | C49: 金融機関等からの借入れ（予定）額 | D49: 0 | F49: ※借入を予定していない場合は、「0」を入力してください。
C50: 借入条件：補助事業取得財産の担保予定 | D50: なし | F50: ※プルダウン選択してください。
B51: （５） | C51: 自己資金充当額 | D51: =D46-D47-D49 -> 110100000 | F51: ※２．資金計画「（１）補助事業に要する経費」-「（２）補助金充当（予定）額」-「（４）金融機関等からの借入れ（予定）額」が自動反映されます
B52: （６） | C52: 本事業における収入金 | D52: 0 | F52: ※収入金の見込みがない場合は「0」を入力してください。
C53: 収入金の詳細 ※収入金の見込みが有る場合のみ記載

Sheet 様式２別添２(幹事法人)
I1: ver.1.0
B2: （様式２ 別添２）
B6: 令和７年度補正グローバルサウス未来志向型共創等事業費補助金 （小規模実証・ＦＳ事業：二次公募）
B7: 積算内訳書
B10: １．積算内訳書
B11: （１） | C11: 申請者（法人名）
B12: （２） | C12: 事業形態 | F12: ※プルダウン選択してください
B13: （３） | C13: 補助率 | F13: ※プルダウン選択してください ※中小企業補助率「2/3以内」の適用を受けるためには、様式４の提出が必要です。
B14: （４） | C14: 補助金申請額 | D14: 自動反映欄 | E14: =G39 -> 0 | F14: ※（５）積算内訳の補助金申請額が自動反映されます。
D15: 手入力欄 ※必要に応じて記入 | F15: ※自動反映欄は、「1/2」もしくは「2/3」の補助率で算出されます。 「1/2以内」もしくは「2/3以内」の金額で補助金を申請したい場合は、手入力欄に 自動反映欄で算出された申請額「以内」になるように金額を手入力してください。 「手入力欄」に記載がある場合は、「手入力欄」の金額を参照します。
B16: （５） | C16: 積算内訳 | E16: =IF(E15>E14,"申請額が補助率を超えています。","")
B17: 区分 | C17: 内訳 | D17: 補助事業に要する経費 | E17: 補助対象経費 | F17: 積算根拠 ※簡潔に記載して下さい | G17: 補助金申請額 | N17: 費目合計 | O17: 補助事業に要する経費 | P17: 補助対象経費
B18: 事業費 | N18: 人件費 | O18: =SUMIFS($D$18:$D$38,$C$18:$C$38,$N18) -> 0 | P18: =SUMIFS($E$18:$E$38,$C$18:$C$38,$N18) -> 0
N19: 旅費 | O19: =SUMIFS($D$18:$D$38,$C$18:$C$38,$N19) -> 0 | P19: =SUMIFS($E$18:$E$38,$C$18:$C$38,$N19) -> 0
N20: 会場費 | O20: =SUMIFS($D$18:$D$38,$C$18:$C$38,$N20) -> 0 | P20: =SUMIFS($E$18:$E$38,$C$18:$C$38,$N20) -> 0
N21: 謝金 | O21: =SUMIFS($D$18:$D$38,$C$18:$C$38,$N21) -> 0 | P21: =SUMIFS($E$18:$E$38,$C$18:$C$38,$N21) -> 0
N22: 借料及び損料 | O22: =SUMIFS($D$18:$D$38,$C$18:$C$38,$N22) -> 0 | P22: =SUMIFS($E$18:$E$38,$C$18:$C$38,$N22) -> 0
N23: 消耗品費 | O23: =SUMIFS($D$18:$D$38,$C$18:$C$38,$N23) -> 0 | P23: =SUMIFS($E$18:$E$38,$C$18:$C$38,$N23) -> 0
N24: 機械設備費・システム購入費（実証事業に限る） | O24: =SUMIFS($D$18:$D$38,$C$18:$C$38,$N24) -> 0 | P24: =SUMIFS($E$18:$E$38,$C$18:$C$38,$N24) -> 0
N25: 委託・外注費 | O25: =SUMIFS($D$18:$D$38,$C$18:$C$38,$N25) -> 0 | P25: =SUMIFS($E$18:$E$38,$C$18:$C$38,$N25) -> 0
N26: 印刷製本費 | O26: =SUMIFS($D$18:$D$38,$C$18:$C$38,$N26) -> 0 | P26: =SUMIFS($E$18:$E$38,$C$18:$C$38,$N26) -> 0
N27: 補助員人件費 | O27: =SUMIFS($D$18:$D$38,$C$18:$C$38,$N27) -> 0 | P27: =SUMIFS($E$18:$E$38,$C$18:$C$38,$N27) -> 0
N28: その他諸経費 | O28: =SUMIFS($D$18:$D$38,$C$18:$C$38,$N28) -> 0 | P28: =SUMIFS($E$18:$E$38,$C$18:$C$38,$N28) -> 0
C39: 合計額 | D39: =SUM(D18:D38) -> 0 | E39: =SUM(E18:E38) -> 0 | G39: =IF(ISBLANK(D13),0,IF(D12="FS事業",IF(ROUNDDOWN(IF(D13="１/２以内",(E39*1/2),(E39*2/3)),0)>100000000,"補助金上限額を超えています",ROUNDDOWN(IF(D13="１/２以内",(E39*1/2),(E39*2/3)),0)),IF(ROUNDDOWN(IF(D13="１/２以内",(E39*1/2),(E39*2/3)),0)>500000000,"補助金上限額を超えています",ROUNDDOWN(IF(D13="１/２以内",(E39*1/2),(E39*2/3)),0)))) -> 0 | P39: =SUM(P18:P28) -> 0
B41: ※補助対象経費について、募集要領の「１０．（３）補助対象経費からの消費税額の除外」のとおり、原則、消費税等を除外して計上してください。
B45: ２．資金計画
B46: （１） | C46: 補助事業に要する経費 | D46: =D39 -> 0 | F46: ※１．積算内訳書「（５）積算内訳の補助事業に要する経費 合計額」 が自動反映されます
B47: （２） | C47: 補助金充当（予定）額 | D47: =IF(E15="",E14,E15) -> 0 | F47: ※１．積算内訳書「（５）積算内訳の補助金申請額」が自動反映されます。 手入力欄に金額を入力されている場合はそちらを優先します。
B48: （３） | C48: 資金計画について | F48: ※プルダウン選択してください。
B49: （４） | C49: 金融機関等からの借入れ（予定）額 | F49: ※借入を予定していない場合は、「0」を入力してください。
C50: 借入条件：補助事業取得財産の担保予定 | F50: ※プルダウン選択してください。
B51: （５） | C51: 自己資金充当額 | D51: =D46-D47-D49 -> 0 | F51: ※２．資金計画「（１）補助事業に要する経費」-「（２）補助金充当（予定）額」-「（４）金融機関等からの借入れ（予定）額」が自動反映されます
B52: （６） | C52: 本事業における収入金 | F52: ※収入金の見込みがない場合は「0」を入力してください。
C53: 収入金の詳細 ※収入金の見込みが有る場合のみ記載

Sheet 様式２別添２(共同申請者１)
I1: =+'様式２別添２(幹事法人)'!I1 -> ver.1.0
B2: （様式２ 別添２）
B6: 令和７年度補正グローバルサウス未来志向型共創等事業費補助金 （小規模実証・ＦＳ事業：二次公募）
B7: 積算内訳書
B10: １．積算内訳書
B11: （１） | C11: 共同申請者１
B12: （２） | C12: 事業形態 | D12: ='様式２別添２(幹事法人)'!D12 -> 0 | F12: ※「様式２別添２(幹事法人)」シート内（２）事業形態が自動反映されます
B13: （３） | C13: 補助率 | F13: ※プルダウン選択してください ※共同申請の場合も法人ごとに補助率を選択してください。 ※中小企業補助率「2/3以内」の適用を受けるためには、様式４の提出が必要です。
B14: （４） | C14: 補助金申請額 | D14: 自動反映欄 | E14: =G39 -> 0 | F14: ※（５）積算内訳の補助金申請額が自動反映されます。
D15: 手入力欄 ※必要に応じて記入 | F15: ※自動反映欄は、「1/2」もしくは「2/3」の補助率で算出されます。 「1/2以内」もしくは「2/3以内」の金額で補助金を申請したい場合は、手入力欄に 自動反映欄で算出された申請額「以内」になるように金額を手入力してください。 「手入力欄」に記載がある場合は、「手入力欄」の金額を参照します。
B16: （５） | C16: 積算内訳 | E16: =IF(E15>E14,"申請額が補助率を超えています。","")
B17: 区分 | C17: 内訳 | D17: 補助事業に要する経費 | E17: 補助対象経費 | F17: 積算根拠 ※簡潔に記載して下さい | G17: 補助金申請額 | N17: 費目合計 | O17: 補助事業に要する経費 | P17: 補助対象経費
B18: 事業費 | N18: 人件費 | O18: =SUMIFS($D$18:$D$38,$C$18:$C$38,$N18) -> 0 | P18: =SUMIFS($E$18:$E$38,$C$18:$C$38,$N18) -> 0
N19: 旅費 | O19: =SUMIFS($D$18:$D$38,$C$18:$C$38,$N19) -> 0 | P19: =SUMIFS($E$18:$E$38,$C$18:$C$38,$N19) -> 0
N20: 会場費 | O20: =SUMIFS($D$18:$D$38,$C$18:$C$38,$N20) -> 0 | P20: =SUMIFS($E$18:$E$38,$C$18:$C$38,$N20) -> 0
N21: 謝金 | O21: =SUMIFS($D$18:$D$38,$C$18:$C$38,$N21) -> 0 | P21: =SUMIFS($E$18:$E$38,$C$18:$C$38,$N21) -> 0
N22: 借料及び損料 | O22: =SUMIFS($D$18:$D$38,$C$18:$C$38,$N22) -> 0 | P22: =SUMIFS($E$18:$E$38,$C$18:$C$38,$N22) -> 0
N23: 消耗品費 | O23: =SUMIFS($D$18:$D$38,$C$18:$C$38,$N23) -> 0 | P23: =SUMIFS($E$18:$E$38,$C$18:$C$38,$N23) -> 0
N24: 機械設備費・システム購入費（実証事業に限る） | O24: =SUMIFS($D$18:$D$38,$C$18:$C$38,$N24) -> 0 | P24: =SUMIFS($E$18:$E$38,$C$18:$C$38,$N24) -> 0
N25: 委託・外注費 | O25: =SUMIFS($D$18:$D$38,$C$18:$C$38,$N25) -> 0 | P25: =SUMIFS($E$18:$E$38,$C$18:$C$38,$N25) -> 0
N26: 印刷製本費 | O26: =SUMIFS($D$18:$D$38,$C$18:$C$38,$N26) -> 0 | P26: =SUMIFS($E$18:$E$38,$C$18:$C$38,$N26) -> 0
N27: 補助員人件費 | O27: =SUMIFS($D$18:$D$38,$C$18:$C$38,$N27) -> 0 | P27: =SUMIFS($E$18:$E$38,$C$18:$C$38,$N27) -> 0
N28: その他諸経費 | O28: =SUMIFS($D$18:$D$38,$C$18:$C$38,$N28) -> 0 | P28: =SUMIFS($E$18:$E$38,$C$18:$C$38,$N28) -> 0
C39: 合計額 | D39: =SUM(D18:D38) -> 0 | E39: =SUM(E18:E38) -> 0 | G39: =IF(ISBLANK(D13),0,IF(D12="FS事業",IF(ROUNDDOWN(IF(D13="１/２以内",(E39*1/2),(E39*2/3)),0)>100000000,"補助金上限額を超えています",ROUNDDOWN(IF(D13="１/２以内",(E39*1/2),(E39*2/3)),0)),IF(ROUNDDOWN(IF(D13="１/２以内",(E39*1/2),(E39*2/3)),0)>500000000,"補助金上限額を超えています",ROUNDDOWN(IF(D13="１/２以内",(E39*1/2),(E39*2/3)),0)))) -> 0
B41: ※補助対象経費について、公募要領の「１０．（３）補助対象経費からの消費税額の除外」のとおり、原則、消費税等を除外して計上してください。
B45: ２．資金計画
B46: （１） | C46: 補助事業に要する経費 | D46: =D39 -> 0 | F46: ※１．積算内訳書「（５）積算内訳の補助事業に要する経費 合計額」 が自動反映されます
B47: （２） | C47: 補助金充当（予定）額 | D47: =IF(E15="",E14,E15) -> 0 | F47: ※１．積算内訳書「（５）積算内訳の補助金申請額」が自動反映されます。手入力欄に金額を入力されている場合はそちらを優先します。
B48: （３） | C48: 資金計画について | F48: ※プルダウン選択してください。
B49: （４） | C49: 金融機関等からの借入れ（予定）額 | F49: ※借入を予定していない場合は、「0」を入力してください。
C50: 借入条件：補助事業取得財産の担保予定 | F50: ※プルダウン選択してください。
B51: （５） | C51: 自己資金充当額 | D51: =D46-D47-D49 -> 0 | F51: ※２．資金計画「（１）補助事業に要する経費」-「（２）補助金充当（予定）額」-「（４）金融機関等からの借入れ（予定）額」が自動反映されます
B52: （６） | C52: 本事業における収入金 | F52: ※収入金の見込みがない場合は「0」を入力してください。
C53: 収入金の詳細 ※収入金の見込みが有る場合のみ記載

Sheet 様式２別添２(共同申請者２)
I1: =+'様式２別添２(幹事法人)'!I1 -> ver.1.0
B2: （様式２ 別添２）
B6: 令和７年度補正グローバルサウス未来志向型共創等事業費補助金 （小規模実証・ＦＳ事業：二次公募）
B7: 積算内訳書
B10: １．積算内訳書
B11: （１） | C11: 共同申請者２
B12: （２） | C12: 事業形態 | D12: ='様式２別添２(幹事法人)'!D12 -> 0 | F12: ※「様式２別添２(幹事法人)」シート内（２）事業形態が自動反映されます
B13: （３） | C13: 補助率 | F13: ※プルダウン選択してください ※共同申請の場合も法人ごとに補助率を選択してください。 ※中小企業補助率「2/3以内」の適用を受けるためには、様式４の提出が必要です。
B14: （４） | C14: 補助金申請額 | D14: 自動反映欄 | E14: =G39 -> 0 | F14: ※（５）積算内訳の補助金申請額が自動反映されます。
D15: 手入力欄 ※必要に応じて記入 | F15: ※自動反映欄は、「1/2」もしくは「2/3」の補助率で算出されます。 「1/2以内」もしくは「2/3以内」の金額で補助金を申請したい場合は、手入力欄に 自動反映欄で算出された申請額「以内」になるように金額を手入力してください。 「手入力欄」に記載がある場合は、「手入力欄」の金額を参照します。
B16: （５） | C16: 積算内訳 | E16: =IF(E15>E14,"申請額が補助率を超えています。","")
B17: 区分 | C17: 内訳 | D17: 補助事業に要する経費 | E17: 補助対象経費 | F17: 積算根拠 ※簡潔に記載して下さい | G17: 補助金申請額 | N17: 費目合計 | O17: 補助事業に要する経費 | P17: 補助対象経費
B18: 事業費 | N18: 人件費 | O18: =SUMIFS($D$18:$D$38,$C$18:$C$38,$N18) -> 0 | P18: =SUMIFS($E$18:$E$38,$C$18:$C$38,$N18) -> 0
N19: 旅費 | O19: =SUMIFS($D$18:$D$38,$C$18:$C$38,$N19) -> 0 | P19: =SUMIFS($E$18:$E$38,$C$18:$C$38,$N19) -> 0
N20: 会場費 | O20: =SUMIFS($D$18:$D$38,$C$18:$C$38,$N20) -> 0 | P20: =SUMIFS($E$18:$E$38,$C$18:$C$38,$N20) -> 0
N21: 謝金 | O21: =SUMIFS($D$18:$D$38,$C$18:$C$38,$N21) -> 0 | P21: =SUMIFS($E$18:$E$38,$C$18:$C$38,$N21) -> 0
N22: 借料及び損料 | O22: =SUMIFS($D$18:$D$38,$C$18:$C$38,$N22) -> 0 | P22: =SUMIFS($E$18:$E$38,$C$18:$C$38,$N22) -> 0
N23: 消耗品費 | O23: =SUMIFS($D$18:$D$38,$C$18:$C$38,$N23) -> 0 | P23: =SUMIFS($E$18:$E$38,$C$18:$C$38,$N23) -> 0
N24: 機械設備費・システム購入費（実証事業に限る） | O24: =SUMIFS($D$18:$D$38,$C$18:$C$38,$N24) -> 0 | P24: =SUMIFS($E$18:$E$38,$C$18:$C$38,$N24) -> 0
N25: 委託・外注費 | O25: =SUMIFS($D$18:$D$38,$C$18:$C$38,$N25) -> 0 | P25: =SUMIFS($E$18:$E$38,$C$18:$C$38,$N25) -> 0
N26: 印刷製本費 | O26: =SUMIFS($D$18:$D$38,$C$18:$C$38,$N26) -> 0 | P26: =SUMIFS($E$18:$E$38,$C$18:$C$38,$N26) -> 0
N27: 補助員人件費 | O27: =SUMIFS($D$18:$D$38,$C$18:$C$38,$N27) -> 0 | P27: =SUMIFS($E$18:$E$38,$C$18:$C$38,$N27) -> 0
N28: その他諸経費 | O28: =SUMIFS($D$18:$D$38,$C$18:$C$38,$N28) -> 0 | P28: =SUMIFS($E$18:$E$38,$C$18:$C$38,$N28) -> 0
C39: 合計額 | D39: =SUM(D18:D38) -> 0 | E39: =SUM(E18:E38) -> 0 | G39: =IF(ISBLANK(D13),0,IF(D12="FS事業",IF(ROUNDDOWN(IF(D13="１/２以内",(E39*1/2),(E39*2/3)),0)>100000000,"補助金上限額を超えています",ROUNDDOWN(IF(D13="１/２以内",(E39*1/2),(E39*2/3)),0)),IF(ROUNDDOWN(IF(D13="１/２以内",(E39*1/2),(E39*2/3)),0)>500000000,"補助金上限額を超えています",ROUNDDOWN(IF(D13="１/２以内",(E39*1/2),(E39*2/3)),0)))) -> 0
B41: ※補助対象経費について、公募要領の「１０．（３）補助対象経費からの消費税額の除外」のとおり、原則、消費税等を除外して計上してください。
B45: ２．資金計画
B46: （１） | C46: 補助事業に要する経費 | D46: =D39 -> 0 | F46: ※１．積算内訳書「（５）積算内訳の補助事業に要する経費 合計額」 が自動反映されます
B47: （２） | C47: 補助金充当（予定）額 | D47: =IF(E15="",E14,E15) -> 0 | F47: ※１．積算内訳書「（５）積算内訳の補助金申請額」が自動反映されます。手入力欄に金額を入力されている場合はそちらを優先します。
B48: （３） | C48: 資金計画について | F48: ※プルダウン選択してください。
B49: （４） | C49: 金融機関等からの借入れ（予定）額 | F49: ※借入を予定していない場合は、「0」を入力してください。
C50: 借入条件：補助事業取得財産の担保予定 | F50: ※プルダウン選択してください。
B51: （５） | C51: 自己資金充当額 | D51: =D46-D47-D49 -> 0 | F51: ※２．資金計画「（１）補助事業に要する経費」-「（２）補助金充当（予定）額」-「（４）金融機関等からの借入れ（予定）額」が自動反映されます
B52: （６） | C52: 本事業における収入金 | F52: ※収入金の見込みがない場合は「0」を入力してください。
C53: 収入金の詳細 ※収入金の見込みが有る場合のみ記載

Sheet 様式２別添２(共同申請者３)
I1: =+'様式２別添２(幹事法人)'!I1 -> ver.1.0
B2: （様式２ 別添２）
B6: 令和７年度補正グローバルサウス未来志向型共創等事業費補助金 （小規模実証・ＦＳ事業：二次公募）
B7: 積算内訳書
B10: １．積算内訳書
B11: （１） | C11: 共同申請者３
B12: （２） | C12: 事業形態 | D12: ='様式２別添２(幹事法人)'!D12 -> 0 | F12: ※「様式２別添２(幹事法人)」シート内（２）事業形態が自動反映されます
B13: （３） | C13: 補助率 | F13: ※プルダウン選択してください ※共同申請の場合も法人ごとに補助率を選択してください。 ※中小企業補助率「2/3以内」の適用を受けるためには、様式４の提出が必要です。
B14: （４） | C14: 補助金申請額 | D14: 自動反映欄 | E14: =G39 -> 0 | F14: ※（５）積算内訳の補助金申請額が自動反映されます。
D15: 手入力欄 ※必要に応じて記入 | F15: ※自動反映欄は、「1/2」もしくは「2/3」の補助率で算出されます。 「1/2以内」もしくは「2/3以内」の金額で補助金を申請したい場合は、手入力欄に 自動反映欄で算出された申請額「以内」になるように金額を手入力してください。 「手入力欄」に記載がある場合は、「手入力欄」の金額を参照します。
B16: （５） | C16: 積算内訳 | E16: =IF(E15>E14,"申請額が補助率を超えています。","")
B17: 区分 | C17: 内訳 | D17: 補助事業に要する経費 | E17: 補助対象経費 | F17: 積算根拠 ※簡潔に記載して下さい | G17: 補助金申請額 | N17: 費目合計 | O17: 補助事業に要する経費 | P17: 補助対象経費
B18: 事業費 | N18: 人件費 | O18: =SUMIFS($D$18:$D$38,$C$18:$C$38,$N18) -> 0 | P18: =SUMIFS($E$18:$E$38,$C$18:$C$38,$N18) -> 0
N19: 旅費 | O19: =SUMIFS($D$18:$D$38,$C$18:$C$38,$N19) -> 0 | P19: =SUMIFS($E$18:$E$38,$C$18:$C$38,$N19) -> 0
N20: 会場費 | O20: =SUMIFS($D$18:$D$38,$C$18:$C$38,$N20) -> 0 | P20: =SUMIFS($E$18:$E$38,$C$18:$C$38,$N20) -> 0
N21: 謝金 | O21: =SUMIFS($D$18:$D$38,$C$18:$C$38,$N21) -> 0 | P21: =SUMIFS($E$18:$E$38,$C$18:$C$38,$N21) -> 0
N22: 借料及び損料 | O22: =SUMIFS($D$18:$D$38,$C$18:$C$38,$N22) -> 0 | P22: =SUMIFS($E$18:$E$38,$C$18:$C$38,$N22) -> 0
N23: 消耗品費 | O23: =SUMIFS($D$18:$D$38,$C$18:$C$38,$N23) -> 0 | P23: =SUMIFS($E$18:$E$38,$C$18:$C$38,$N23) -> 0
N24: 機械設備費・システム購入費（実証事業に限る） | O24: =SUMIFS($D$18:$D$38,$C$18:$C$38,$N24) -> 0 | P24: =SUMIFS($E$18:$E$38,$C$18:$C$38,$N24) -> 0
N25: 委託・外注費 | O25: =SUMIFS($D$18:$D$38,$C$18:$C$38,$N25) -> 0 | P25: =SUMIFS($E$18:$E$38,$C$18:$C$38,$N25) -> 0
N26: 印刷製本費 | O26: =SUMIFS($D$18:$D$38,$C$18:$C$38,$N26) -> 0 | P26: =SUMIFS($E$18:$E$38,$C$18:$C$38,$N26) -> 0
N27: 補助員人件費 | O27: =SUMIFS($D$18:$D$38,$C$18:$C$38,$N27) -> 0 | P27: =SUMIFS($E$18:$E$38,$C$18:$C$38,$N27) -> 0
N28: その他諸経費 | O28: =SUMIFS($D$18:$D$38,$C$18:$C$38,$N28) -> 0 | P28: =SUMIFS($E$18:$E$38,$C$18:$C$38,$N28) -> 0
C39: 合計額 | D39: =SUM(D18:D38) -> 0 | E39: =SUM(E18:E38) -> 0 | G39: =IF(ISBLANK(D13),0,IF(D12="FS事業",IF(ROUNDDOWN(IF(D13="１/２以内",(E39*1/2),(E39*2/3)),0)>100000000,"補助金上限額を超えています",ROUNDDOWN(IF(D13="１/２以内",(E39*1/2),(E39*2/3)),0)),IF(ROUNDDOWN(IF(D13="１/２以内",(E39*1/2),(E39*2/3)),0)>500000000,"補助金上限額を超えています",ROUNDDOWN(IF(D13="１/２以内",(E39*1/2),(E39*2/3)),0)))) -> 0
B41: ※補助対象経費について、公募要領の「１０．（３）補助対象経費からの消費税額の除外」のとおり、原則、消費税等を除外して計上してください。
B45: ２．資金計画
B46: （１） | C46: 補助事業に要する経費 | D46: =D39 -> 0 | F46: ※１．積算内訳書「（５）積算内訳の補助事業に要する経費 合計額」 が自動反映されます
B47: （２） | C47: 補助金充当（予定）額 | D47: =IF(E15="",E14,E15) -> 0 | F47: ※１．積算内訳書「（５）積算内訳の補助金申請額」が自動反映されます。手入力欄に金額を入力されている場合はそちらを優先します。
B48: （３） | C48: 資金計画について | F48: ※プルダウン選択してください。
B49: （４） | C49: 金融機関等からの借入れ（予定）額 | F49: ※借入を予定していない場合は、「0」を入力してください。
C50: 借入条件：補助事業取得財産の担保予定 | F50: ※プルダウン選択してください。
B51: （５） | C51: 自己資金充当額 | D51: =D46-D47-D49 -> 0 | F51: ※２．資金計画「（１）補助事業に要する経費」-「（２）補助金充当（予定）額」-「（４）金融機関等からの借入れ（予定）額」が自動反映されます
B52: （６） | C52: 本事業における収入金 | F52: ※収入金の見込みがない場合は「0」を入力してください。
C53: 収入金の詳細 ※収入金の見込みが有る場合のみ記載

Sheet 様式２別添２(共同申請者４)
I1: =+'様式２別添２(幹事法人)'!I1 -> ver.1.0
B2: （様式２ 別添２）
B6: 令和７年度補正グローバルサウス未来志向型共創等事業費補助金 （小規模実証・ＦＳ事業：二次公募）
B7: 積算内訳書
B10: １．積算内訳書
B11: （１） | C11: 共同申請者４
B12: （２） | C12: 事業形態 | D12: ='様式２別添２(幹事法人)'!D12 -> 0 | F12: ※「様式２別添２(幹事法人)」シート内（２）事業形態が自動反映されます
B13: （３） | C13: 補助率 | F13: ※プルダウン選択してください ※共同申請の場合も法人ごとに補助率を選択してください。 ※中小企業補助率「2/3以内」の適用を受けるためには、様式４の提出が必要です。
B14: （４） | C14: 補助金申請額 | D14: 自動反映欄 | E14: =G39 -> 0 | F14: ※（５）積算内訳の補助金申請額が自動反映されます。
D15: 手入力欄 ※必要に応じて記入 | F15: ※自動反映欄は、「1/2」もしくは「2/3」の補助率で算出されます。 「1/2以内」もしくは「2/3以内」の金額で補助金を申請したい場合は、手入力欄に 自動反映欄で算出された申請額「以内」になるように金額を手入力してください。 「手入力欄」に記載がある場合は、「手入力欄」の金額を参照します。
B16: （５） | C16: 積算内訳 | E16: =IF(E15>E14,"申請額が補助率を超えています。","")
B17: 区分 | C17: 内訳 | D17: 補助事業に要する経費 | E17: 補助対象経費 | F17: 積算根拠 ※簡潔に記載して下さい | G17: 補助金申請額 | N17: 費目合計 | O17: 補助事業に要する経費 | P17: 補助対象経費
B18: 事業費 | N18: 人件費 | O18: =SUMIFS($D$18:$D$38,$C$18:$C$38,$N18) -> 0 | P18: =SUMIFS($E$18:$E$38,$C$18:$C$38,$N18) -> 0
N19: 旅費 | O19: =SUMIFS($D$18:$D$38,$C$18:$C$38,$N19) -> 0 | P19: =SUMIFS($E$18:$E$38,$C$18:$C$38,$N19) -> 0
N20: 会場費 | O20: =SUMIFS($D$18:$D$38,$C$18:$C$38,$N20) -> 0 | P20: =SUMIFS($E$18:$E$38,$C$18:$C$38,$N20) -> 0
N21: 謝金 | O21: =SUMIFS($D$18:$D$38,$C$18:$C$38,$N21) -> 0 | P21: =SUMIFS($E$18:$E$38,$C$18:$C$38,$N21) -> 0
N22: 借料及び損料 | O22: =SUMIFS($D$18:$D$38,$C$18:$C$38,$N22) -> 0 | P22: =SUMIFS($E$18:$E$38,$C$18:$C$38,$N22) -> 0
N23: 消耗品費 | O23: =SUMIFS($D$18:$D$38,$C$18:$C$38,$N23) -> 0 | P23: =SUMIFS($E$18:$E$38,$C$18:$C$38,$N23) -> 0
N24: 機械設備費・システム購入費（実証事業に限る） | O24: =SUMIFS($D$18:$D$38,$C$18:$C$38,$N24) -> 0 | P24: =SUMIFS($E$18:$E$38,$C$18:$C$38,$N24) -> 0
N25: 委託・外注費 | O25: =SUMIFS($D$18:$D$38,$C$18:$C$38,$N25) -> 0 | P25: =SUMIFS($E$18:$E$38,$C$18:$C$38,$N25) -> 0
N26: 印刷製本費 | O26: =SUMIFS($D$18:$D$38,$C$18:$C$38,$N26) -> 0 | P26: =SUMIFS($E$18:$E$38,$C$18:$C$38,$N26) -> 0
N27: 補助員人件費 | O27: =SUMIFS($D$18:$D$38,$C$18:$C$38,$N27) -> 0 | P27: =SUMIFS($E$18:$E$38,$C$18:$C$38,$N27) -> 0
N28: その他諸経費 | O28: =SUMIFS($D$18:$D$38,$C$18:$C$38,$N28) -> 0 | P28: =SUMIFS($E$18:$E$38,$C$18:$C$38,$N28) -> 0
C39: 合計額 | D39: =SUM(D18:D38) -> 0 | E39: =SUM(E18:E38) -> 0 | G39: =IF(ISBLANK(D13),0,IF(D12="FS事業",IF(ROUNDDOWN(IF(D13="１/２以内",(E39*1/2),(E39*2/3)),0)>100000000,"補助金上限額を超えています",ROUNDDOWN(IF(D13="１/２以内",(E39*1/2),(E39*2/3)),0)),IF(ROUNDDOWN(IF(D13="１/２以内",(E39*1/2),(E39*2/3)),0)>500000000,"補助金上限額を超えています",ROUNDDOWN(IF(D13="１/２以内",(E39*1/2),(E39*2/3)),0)))) -> 0
B41: ※補助対象経費について、公募要領の「１０．（３）補助対象経費からの消費税額の除外」のとおり、原則、消費税等を除外して計上してください。
B45: ２．資金計画
B46: （１） | C46: 補助事業に要する経費 | D46: =D39 -> 0 | F46: ※１．積算内訳書「（５）積算内訳の補助事業に要する経費 合計額」 が自動反映されます
B47: （２） | C47: 補助金充当（予定）額 | D47: =IF(E15="",E14,E15) -> 0 | F47: ※１．積算内訳書「（５）積算内訳の補助金申請額」が自動反映されます。手入力欄に金額を入力されている場合はそちらを優先します。
B48: （３） | C48: 資金計画について | F48: ※プルダウン選択してください。
B49: （４） | C49: 金融機関等からの借入れ（予定）額 | F49: ※借入を予定していない場合は、「0」を入力してください。
C50: 借入条件：補助事業取得財産の担保予定 | F50: ※プルダウン選択してください。
B51: （５） | C51: 自己資金充当額 | D51: =D46-D47-D49 -> 0 | F51: ※２．資金計画「（１）補助事業に要する経費」-「（２）補助金充当（予定）額」-「（４）金融機関等からの借入れ（予定）額」が自動反映されます
B52: （６） | C52: 本事業における収入金 | F52: ※収入金の見込みがない場合は「0」を入力してください。
C53: 収入金の詳細 ※収入金の見込みが有る場合のみ記載

Sheet 様式２別添２(共同申請者５)
I1: =+'様式２別添２(幹事法人)'!I1 -> ver.1.0
B2: （様式２ 別添２）
B6: 令和７年度補正グローバルサウス未来志向型共創等事業費補助金 （小規模実証・ＦＳ事業：二次公募）
B7: 積算内訳書
B10: １．積算内訳書
B11: （１） | C11: 共同申請者５
B12: （２） | C12: 事業形態 | D12: ='様式２別添２(幹事法人)'!D12 -> 0 | F12: ※「様式２別添２(幹事法人)」シート内（２）事業形態が自動反映されます
B13: （３） | C13: 補助率 | F13: ※プルダウン選択してください ※共同申請の場合も法人ごとに補助率を選択してください。 ※中小企業補助率「2/3以内」の適用を受けるためには、様式４の提出が必要です。
B14: （４） | C14: 補助金申請額 | D14: 自動反映欄 | E14: =G39 -> 0 | F14: ※（５）積算内訳の補助金申請額が自動反映されます。
D15: 手入力欄 ※必要に応じて記入 | F15: ※自動反映欄は、「1/2」もしくは「2/3」の補助率で算出されます。 「1/2以内」もしくは「2/3以内」の金額で補助金を申請したい場合は、手入力欄に 自動反映欄で算出された申請額「以内」になるように金額を手入力してください。 「手入力欄」に記載がある場合は、「手入力欄」の金額を参照します。
B16: （５） | C16: 積算内訳 | E16: =IF(E15>E14,"申請額が補助率を超えています。","")
B17: 区分 | C17: 内訳 | D17: 補助事業に要する経費 | E17: 補助対象経費 | F17: 積算根拠 ※簡潔に記載して下さい | G17: 補助金申請額 | N17: 費目合計 | O17: 補助事業に要する経費 | P17: 補助対象経費
B18: 事業費 | N18: 人件費 | O18: =SUMIFS($D$18:$D$38,$C$18:$C$38,$N18) -> 0 | P18: =SUMIFS($E$18:$E$38,$C$18:$C$38,$N18) -> 0
N19: 旅費 | O19: =SUMIFS($D$18:$D$38,$C$18:$C$38,$N19) -> 0 | P19: =SUMIFS($E$18:$E$38,$C$18:$C$38,$N19) -> 0
N20: 会場費 | O20: =SUMIFS($D$18:$D$38,$C$18:$C$38,$N20) -> 0 | P20: =SUMIFS($E$18:$E$38,$C$18:$C$38,$N20) -> 0
N21: 謝金 | O21: =SUMIFS($D$18:$D$38,$C$18:$C$38,$N21) -> 0 | P21: =SUMIFS($E$18:$E$38,$C$18:$C$38,$N21) -> 0
N22: 借料及び損料 | O22: =SUMIFS($D$18:$D$38,$C$18:$C$38,$N22) -> 0 | P22: =SUMIFS($E$18:$E$38,$C$18:$C$38,$N22) -> 0
N23: 消耗品費 | O23: =SUMIFS($D$18:$D$38,$C$18:$C$38,$N23) -> 0 | P23: =SUMIFS($E$18:$E$38,$C$18:$C$38,$N23) -> 0
N24: 機械設備費・システム購入費（実証事業に限る） | O24: =SUMIFS($D$18:$D$38,$C$18:$C$38,$N24) -> 0 | P24: =SUMIFS($E$18:$E$38,$C$18:$C$38,$N24) -> 0
N25: 委託・外注費 | O25: =SUMIFS($D$18:$D$38,$C$18:$C$38,$N25) -> 0 | P25: =SUMIFS($E$18:$E$38,$C$18:$C$38,$N25) -> 0
N26: 印刷製本費 | O26: =SUMIFS($D$18:$D$38,$C$18:$C$38,$N26) -> 0 | P26: =SUMIFS($E$18:$E$38,$C$18:$C$38,$N26) -> 0
N27: 補助員人件費 | O27: =SUMIFS($D$18:$D$38,$C$18:$C$38,$N27) -> 0 | P27: =SUMIFS($E$18:$E$38,$C$18:$C$38,$N27) -> 0
N28: その他諸経費 | O28: =SUMIFS($D$18:$D$38,$C$18:$C$38,$N28) -> 0 | P28: =SUMIFS($E$18:$E$38,$C$18:$C$38,$N28) -> 0
C39: 合計額 | D39: =SUM(D18:D38) -> 0 | E39: =SUM(E18:E38) -> 0 | G39: =IF(ISBLANK(D13),0,IF(D12="FS事業",IF(ROUNDDOWN(IF(D13="１/２以内",(E39*1/2),(E39*2/3)),0)>100000000,"補助金上限額を超えています",ROUNDDOWN(IF(D13="１/２以内",(E39*1/2),(E39*2/3)),0)),IF(ROUNDDOWN(IF(D13="１/２以内",(E39*1/2),(E39*2/3)),0)>500000000,"補助金上限額を超えています",ROUNDDOWN(IF(D13="１/２以内",(E39*1/2),(E39*2/3)),0)))) -> 0
B41: ※補助対象経費について、公募要領の「１０．（３）補助対象経費からの消費税額の除外」のとおり、原則、消費税等を除外して計上してください。
B45: ２．資金計画
B46: （１） | C46: 補助事業に要する経費 | D46: =D39 -> 0 | F46: ※１．積算内訳書「（５）積算内訳の補助事業に要する経費 合計額」 が自動反映されます
B47: （２） | C47: 補助金充当（予定）額 | D47: =IF(E15="",E14,E15) -> 0 | F47: ※１．積算内訳書「（５）積算内訳の補助金申請額」が自動反映されます。手入力欄に金額を入力されている場合はそちらを優先します。
B48: （３） | C48: 資金計画について | F48: ※プルダウン選択してください。
B49: （４） | C49: 金融機関等からの借入れ（予定）額 | F49: ※借入を予定していない場合は、「0」を入力してください。
C50: 借入条件：補助事業取得財産の担保予定 | F50: ※プルダウン選択してください。
B51: （５） | C51: 自己資金充当額 | D51: =D46-D47-D49 -> 0 | F51: ※２．資金計画「（１）補助事業に要する経費」-「（２）補助金充当（予定）額」-「（４）金融機関等からの借入れ（予定）額」が自動反映されます
B52: （６） | C52: 本事業における収入金 | F52: ※収入金の見込みがない場合は「0」を入力してください。
C53: 収入金の詳細 ※収入金の見込みが有る場合のみ記載

Sheet 様式２別添２(未設立法人)
I1: =+'様式２別添２(幹事法人)'!I1 -> ver.1.0
B2: （様式２ 別添２）
B6: 令和７年度補正グローバルサウス未来志向型共創等事業費補助金 （小規模実証・ＦＳ事業：二次公募）
B7: 積算内訳書
B10: １．積算内訳書
B11: （１） | C11: 未設立法人 | G11: ※仮称を記載してください
B12: （２） | C12: 事業形態 | D12: ='様式２別添２(幹事法人)'!D12 -> 0 | F12: ※「様式２別添２(幹事法人)」シート内（２）事業形態が自動反映されます
B13: （３） | C13: 補助率 | D13: １/２以内 | F13: ※未設立法人の場合の補助率は「1/2以内」となります
B14: （４） | C14: 補助金申請額 | D14: 自動反映欄 | E14: =G39 -> 0 | F14: ※（５）積算内訳の補助金申請額が自動反映されます。
D15: 手入力欄 ※必要に応じて記入 | F15: ※自動反映欄は、「1/2」の補助率で算出されます。 「1/2以内」の金額で補助金を申請したい場合は、手入力欄に 自動反映欄で算出された申請額「以内」になるように金額を手入力してください。 「手入力欄」に記載がある場合は、「手入力欄」の金額を参照します。
B16: （５） | C16: 積算内訳 | E16: =IF(E15>E14,"申請額が補助率を超えています。","")
B17: 区分 | C17: 内訳 | D17: 補助事業に要する経費 | E17: 補助対象経費 | F17: 積算根拠 ※簡潔に記載して下さい | G17: 補助金申請額 | N17: 費目合計 | O17: 補助事業に要する経費 | P17: 補助対象経費
B18: 事業費 | N18: 人件費 | O18: =SUMIFS($D$18:$D$38,$C$18:$C$38,$N18) -> 0 | P18: =SUMIFS($E$18:$E$38,$C$18:$C$38,$N18) -> 0
N19: 旅費 | O19: =SUMIFS($D$18:$D$38,$C$18:$C$38,$N19) -> 0 | P19: =SUMIFS($E$18:$E$38,$C$18:$C$38,$N19) -> 0
N20: 会場費 | O20: =SUMIFS($D$18:$D$38,$C$18:$C$38,$N20) -> 0 | P20: =SUMIFS($E$18:$E$38,$C$18:$C$38,$N20) -> 0
N21: 謝金 | O21: =SUMIFS($D$18:$D$38,$C$18:$C$38,$N21) -> 0 | P21: =SUMIFS($E$18:$E$38,$C$18:$C$38,$N21) -> 0
N22: 借料及び損料 | O22: =SUMIFS($D$18:$D$38,$C$18:$C$38,$N22) -> 0 | P22: =SUMIFS($E$18:$E$38,$C$18:$C$38,$N22) -> 0
N23: 消耗品費 | O23: =SUMIFS($D$18:$D$38,$C$18:$C$38,$N23) -> 0 | P23: =SUMIFS($E$18:$E$38,$C$18:$C$38,$N23) -> 0
N24: 機械設備費・システム購入費（実証事業に限る） | O24: =SUMIFS($D$18:$D$38,$C$18:$C$38,$N24) -> 0 | P24: =SUMIFS($E$18:$E$38,$C$18:$C$38,$N24) -> 0
N25: 委託・外注費 | O25: =SUMIFS($D$18:$D$38,$C$18:$C$38,$N25) -> 0 | P25: =SUMIFS($E$18:$E$38,$C$18:$C$38,$N25) -> 0
N26: 印刷製本費 | O26: =SUMIFS($D$18:$D$38,$C$18:$C$38,$N26) -> 0 | P26: =SUMIFS($E$18:$E$38,$C$18:$C$38,$N26) -> 0
N27: 補助員人件費 | O27: =SUMIFS($D$18:$D$38,$C$18:$C$38,$N27) -> 0 | P27: =SUMIFS($E$18:$E$38,$C$18:$C$38,$N27) -> 0
N28: その他諸経費 | O28: =SUMIFS($D$18:$D$38,$C$18:$C$38,$N28) -> 0 | P28: =SUMIFS($E$18:$E$38,$C$18:$C$38,$N28) -> 0
C39: 合計額 | D39: =SUM(D18:D38) -> 0 | E39: =SUM(E18:E38) -> 0 | G39: =IF(ISBLANK(D13),0,IF(D12="FS事業",IF(ROUNDDOWN(IF(D13="１/２以内",(E39*1/2),(E39*2/3)),0)>100000000,"補助金上限額を超えています",ROUNDDOWN(IF(D13="１/２以内",(E39*1/2),(E39*2/3)),0)),IF(ROUNDDOWN(IF(D13="１/２以内",(E39*1/2),(E39*2/3)),0)>500000000,"補助金上限額を超えています",ROUNDDOWN(IF(D13="１/２以内",(E39*1/2),(E39*2/3)),0)))) -> 0
B41: ※補助対象経費について、公募要領の「１０．（３）補助対象経費からの消費税額の除外」のとおり、原則、消費税等を除外して計上してください。
B45: ２．資金計画
B46: （１） | C46: 補助事業に要する経費 | D46: =D39 -> 0 | F46: ※１．積算内訳書「（５）積算内訳の補助事業に要する経費 合計額」 が自動反映されます
B47: （２） | C47: 補助金充当（予定）額 | D47: =IF(E15="",E14,E15) -> 0 | F47: ※１．積算内訳書「（５）積算内訳の補助金申請額」が自動反映されます。手入力欄に金額を入力されている場合はそちらを優先します。
B48: （３） | C48: 資金計画について | F48: ※プルダウン選択してください。
B49: （４） | C49: 金融機関等からの借入れ（予定）額 | F49: ※借入を予定していない場合は、「0」を入力してください。
C50: 借入条件：補助事業取得財産の担保予定 | F50: ※プルダウン選択してください。
B51: （５） | C51: 自己資金充当額 | D51: =D46-D47-D49 -> 0 | F51: ※２．資金計画「（１）補助事業に要する経費」-「（２）補助金充当（予定）額」-「（４）金融機関等からの借入れ（予定）額」が自動反映されます
B52: （６） | C52: 本事業における収入金 | F52: ※収入金の見込みがない場合は「0」を入力してください。
C53: 収入金の詳細 ※収入金の見込みが有る場合のみ記載

Sheet 様式２別添２(未設立法人２)
I1: =+'様式２別添２(幹事法人)'!I1 -> ver.1.0
B2: （様式２ 別添２）
B6: 令和７年度補正グローバルサウス未来志向型共創等事業費補助金 （小規模実証・ＦＳ事業：二次公募）
B7: 積算内訳書
B10: １．積算内訳書
B11: （１） | C11: 未設立法人2 | G11: ※仮称を記載してください
B12: （２） | C12: 事業形態 | D12: ='様式２別添２(幹事法人)'!D12 -> 0 | F12: ※「様式２別添２(幹事法人)」シート内（２）事業形態が自動反映されます
B13: （３） | C13: 補助率 | D13: １/２以内 | F13: ※未設立法人の場合の補助率は「1/2以内」となります
B14: （４） | C14: 補助金申請額 | D14: 自動反映欄 | E14: =G39 -> 0 | F14: ※（５）積算内訳の補助金申請額が自動反映されます。
D15: 手入力欄 ※必要に応じて記入 | F15: ※自動反映欄は、「1/2」の補助率で算出されます。 「1/2以内」の金額で補助金を申請したい場合は、手入力欄に 自動反映欄で算出された申請額「以内」になるように金額を手入力してください。 「手入力欄」に記載がある場合は、「手入力欄」の金額を参照します。
B16: （５） | C16: 積算内訳 | E16: =IF(E15>E14,"申請額が補助率を超えています。","")
B17: 区分 | C17: 内訳 | D17: 補助事業に要する経費 | E17: 補助対象経費 | F17: 積算根拠 ※簡潔に記載して下さい | G17: 補助金申請額 | N17: 費目合計 | O17: 補助事業に要する経費 | P17: 補助対象経費
B18: 事業費 | N18: 人件費 | O18: =SUMIFS($D$18:$D$38,$C$18:$C$38,$N18) -> 0 | P18: =SUMIFS($E$18:$E$38,$C$18:$C$38,$N18) -> 0
N19: 旅費 | O19: =SUMIFS($D$18:$D$38,$C$18:$C$38,$N19) -> 0 | P19: =SUMIFS($E$18:$E$38,$C$18:$C$38,$N19) -> 0
N20: 会場費 | O20: =SUMIFS($D$18:$D$38,$C$18:$C$38,$N20) -> 0 | P20: =SUMIFS($E$18:$E$38,$C$18:$C$38,$N20) -> 0
N21: 謝金 | O21: =SUMIFS($D$18:$D$38,$C$18:$C$38,$N21) -> 0 | P21: =SUMIFS($E$18:$E$38,$C$18:$C$38,$N21) -> 0
N22: 借料及び損料 | O22: =SUMIFS($D$18:$D$38,$C$18:$C$38,$N22) -> 0 | P22: =SUMIFS($E$18:$E$38,$C$18:$C$38,$N22) -> 0
N23: 消耗品費 | O23: =SUMIFS($D$18:$D$38,$C$18:$C$38,$N23) -> 0 | P23: =SUMIFS($E$18:$E$38,$C$18:$C$38,$N23) -> 0
N24: 機械設備費・システム購入費（実証事業に限る） | O24: =SUMIFS($D$18:$D$38,$C$18:$C$38,$N24) -> 0 | P24: =SUMIFS($E$18:$E$38,$C$18:$C$38,$N24) -> 0
N25: 委託・外注費 | O25: =SUMIFS($D$18:$D$38,$C$18:$C$38,$N25) -> 0 | P25: =SUMIFS($E$18:$E$38,$C$18:$C$38,$N25) -> 0
N26: 印刷製本費 | O26: =SUMIFS($D$18:$D$38,$C$18:$C$38,$N26) -> 0 | P26: =SUMIFS($E$18:$E$38,$C$18:$C$38,$N26) -> 0
N27: 補助員人件費 | O27: =SUMIFS($D$18:$D$38,$C$18:$C$38,$N27) -> 0 | P27: =SUMIFS($E$18:$E$38,$C$18:$C$38,$N27) -> 0
N28: その他諸経費 | O28: =SUMIFS($D$18:$D$38,$C$18:$C$38,$N28) -> 0 | P28: =SUMIFS($E$18:$E$38,$C$18:$C$38,$N28) -> 0
C39: 合計額 | D39: =SUM(D18:D38) -> 0 | E39: =SUM(E18:E38) -> 0 | G39: =IF(ISBLANK(D13),0,IF(D12="FS事業",IF(ROUNDDOWN(IF(D13="１/２以内",(E39*1/2),(E39*2/3)),0)>100000000,"補助金上限額を超えています",ROUNDDOWN(IF(D13="１/２以内",(E39*1/2),(E39*2/3)),0)),IF(ROUNDDOWN(IF(D13="１/２以内",(E39*1/2),(E39*2/3)),0)>500000000,"補助金上限額を超えています",ROUNDDOWN(IF(D13="１/２以内",(E39*1/2),(E39*2/3)),0)))) -> 0
B41: ※補助対象経費について、公募要領の「１０．（３）補助対象経費からの消費税額の除外」のとおり、原則、消費税等を除外して計上してください。
B45: ２．資金計画
B46: （１） | C46: 補助事業に要する経費 | D46: =D39 -> 0 | F46: ※１．積算内訳書「（５）積算内訳の補助事業に要する経費 合計額」 が自動反映されます
B47: （２） | C47: 補助金充当（予定）額 | D47: =IF(E15="",E14,E15) -> 0 | F47: ※１．積算内訳書「（５）積算内訳の補助金申請額」が自動反映されます。手入力欄に金額を入力されている場合はそちらを優先します。
B48: （３） | C48: 資金計画について | F48: ※プルダウン選択してください。
B49: （４） | C49: 金融機関等からの借入れ（予定）額 | F49: ※借入を予定していない場合は、「0」を入力してください。
C50: 借入条件：補助事業取得財産の担保予定 | F50: ※プルダウン選択してください。
B51: （５） | C51: 自己資金充当額 | D51: =D46-D47-D49 -> 0 | F51: ※２．資金計画「（１）補助事業に要する経費」-「（２）補助金充当（予定）額」-「（４）金融機関等からの借入れ（予定）額」が自動反映されます
B52: （６） | C52: 本事業における収入金 | F52: ※収入金の見込みがない場合は「0」を入力してください。
C53: 収入金の詳細 ※収入金の見込みが有る場合のみ記載

Sheet チェック
A1: 審査箇所 | B1: 審査箇所詳細 | C1: 記入された値
A2: 様式の種類 | B2: - | C2: 様式２別添２積算内訳書
A3: 総括表 | B3: タイトル | C3: =IF(TRIM(総括表!$B$6)="0","",総括表!$B$6) -> 令和７年度補正グローバルサウス未来志向型共創等事業費補助金 （小規模実証・ＦＳ事業：二次公募）
A4: 総括表 | B4: 申請者（幹事法人） | C4: =IF(TRIM(総括表!$D$11)="0","",総括表!$D$11)
A5: 総括表 | B5: 申請者（共同申請者1） | C5: =IF(TRIM(総括表!$D$12)="0","",総括表!$D$12)
A6: 総括表 | B6: 申請者（共同申請者2） | C6: =IF(TRIM(総括表!$D$13)="0","",総括表!$D$13)
A7: 総括表 | B7: 申請者（共同申請者3） | C7: =IF(TRIM(総括表!$D$14)="0","",総括表!$D$14)
A8: 総括表 | B8: 申請者（共同申請者4） | C8: =IF(TRIM(総括表!$D$15)="0","",総括表!$D$15)
A9: 総括表 | B9: 申請者（共同申請者5） | C9: =IF(TRIM(総括表!$D$16)="0","",総括表!$D$16)
A10: 総括表 | B10: 事業形態 | C10: =IF(TRIM(総括表!$D$19)="0","",総括表!$D$19)
A11: 総括表 | B11: 補助率 | C11: =IF(TRIM(総括表!$D$20)="0","",総括表!$D$20)
A12: 総括表 | B12: 補助金申請額 合計額 | C12: =IF(総括表!#REF!="","",総括表!#REF!) -> #REF!
A13: 総括表 | B13: 人件費 補助事業に要する経費 | C13: =IF(総括表!$D$23="","",総括表!$D$23) -> 0
A14: 総括表 | B14: 旅費 補助事業に要する経費 | C14: =IF(総括表!$D$24="","",総括表!$D$24) -> 0
A15: 総括表 | B15: 会場費 補助事業に要する経費 | C15: =IF(総括表!$D$25="","",総括表!$D$25) -> 0
A16: 総括表 | B16: 謝金 補助事業に要する経費 | C16: =IF(総括表!$D$26="","",総括表!$D$26) -> 0
A17: 総括表 | B17: 借料及び損料 補助事業に要する経費 | C17: =IF(総括表!$D$27="","",総括表!$D$27) -> 0
A18: 総括表 | B18: 消耗品費 補助事業に要する経費 | C18: =IF(総括表!$D$28="","",総括表!$D$28) -> 0
A19: 総括表 | B19: 機械設備費・システム購入費（実証事業に限る） 補助事業に要する経費 | C19: =IF(総括表!$D$29="","",総括表!$D$29) -> 0
A20: 総括表 | B20: 委託・外注費 補助事業に要する経費 | C20: =IF(総括表!$D$30="","",総括表!$D$30) -> 0
A21: 総括表 | B21: 印刷製本費 補助事業に要する経費 | C21: =IF(総括表!$D$31="","",総括表!$D$31) -> 0
A22: 総括表 | B22: 補助員人件費 補助事業に要する経費 | C22: =IF(総括表!$D$32="","",総括表!$D$32) -> 0
A23: 総括表 | B23: その他諸経費 補助事業に要する経費 | C23: =IF(総括表!$D$33="","",総括表!$D$33) -> 0
A24: 総括表 | B24: 人件費 補助対象経費 | C24: =IF(総括表!$E$23="","",総括表!$E$23) -> 0
A25: 総括表 | B25: 旅費 補助対象経費 | C25: =IF(総括表!$E$24="","",総括表!$E$24) -> 0
A26: 総括表 | B26: 会場費 補助対象経費 | C26: =IF(総括表!$E$25="","",総括表!$E$25) -> 0
A27: 総括表 | B27: 謝金 補助対象経費 | C27: =IF(総括表!$E$26="","",総括表!$E$26) -> 0
A28: 総括表 | B28: 借料及び損料 補助対象経費 | C28: =IF(総括表!$E$27="","",総括表!$E$27) -> 0
A29: 総括表 | B29: 消耗品費 補助対象経費 | C29: =IF(総括表!$E$28="","",総括表!$E$28) -> 0
A30: 総括表 | B30: 機械設備費・システム購入費（実証事業に限る） 補助対象経費 | C30: =IF(総括表!$E$29="","",総括表!$E$29) -> 0
A31: 総括表 | B31: 委託・外注費 補助対象経費 | C31: =IF(総括表!$E$30="","",総括表!$E$30) -> 0
A32: 総括表 | B32: 印刷製本費 補助対象経費 | C32: =IF(総括表!$E$31="","",総括表!$E$31) -> 0
A33: 総括表 | B33: 補助員人件費 補助対象経費 | C33: =IF(総括表!$E$32="","",総括表!$E$32) -> 0
A34: 総括表 | B34: その他諸経費 補助対象経費 | C34: =IF(総括表!$E$33="","",総括表!$E$33) -> 0
A35: 総括表 | B35: 補助事業に要する経費 合計額 | C35: =IF(総括表!$D$34="","",総括表!$D$34) -> 0
A36: 総括表 | B36: 補助対象経費 合計額 | C36: =IF(総括表!$E$34="","",総括表!$E$34) -> 0
A37: 総括表 | B37: 補助金申請額 合計額 | C37: =IF(総括表!$F$34="","",総括表!$F$34) -> 0
A38: 総括表 | B38: 委託・外注費率 | C38: =IF(総括表!$D$38="","",総括表!$D$38)
A39: 様式２別添２(幹事法人) | B39: 申請者（幹事法人） | C39: =IF(TRIM('様式２別添２(幹事法人)'!$D$11)="","",'様式２別添２(幹事法人)'!$D$11)
A40: 様式２別添２(幹事法人) | B40: 事業形態 | C40: =IF(TRIM('様式２別添２(幹事法人)'!$D$12)="","",'様式２別添２(幹事法人)'!$D$12)
...

Sheet 入力規則
B3: １/２以内 | C3: 精算払までの期間は、自己資金で支弁予定
B4: 中小企業 ２/３以内 | C4: 自己資金での立替えが困難なことから概算払の要望有
