Workbook
Name _9．資金支出明細: #REF!
Name _9．資金支出明細: '10'!$A$2:$I$17
Name _9．資金支出明細: '11'!$A$6:$G$17
Name _9．資金支出明細: #REF!
Name _9．資金支出明細: #REF!
Name _9．資金支出明細: #REF!
Name _9．資金支出明細: #REF!
Name _9．資金支出明細: #REF!
Name _9．資金支出明細: #REF!
Name _ftn1: '2'!$A$19
Name _ftnref1: '2'!$E$4
Name ertew: #REF!
Name ertew: #REF!
Name ertew: #REF!
Name ja: #REF!
Name ja: #REF!
Name kaidai: #REF!
Name kaidai: #REF!
Name koukoku: #REF!
Name koukoku: #REF!
Name minpay: [1]プルダウンリスト!$B$4:$E$50
Name q: #REF!
Name q: #REF!
Name q: #REF!
Name S_公務〈他に分類されるものを除く〉: '[2]１申請者概要２セミナー３申請状況'!#REF!
Name S_公務〈他に分類されるものを除く〉: '[2]１申請者概要２セミナー３申請状況'!#REF!
Name S_公務〈他に分類されるものを除く〉: '[2]１申請者概要２セミナー３申請状況'!#REF!
Name T_分類不能の産業: '[2]１申請者概要２セミナー３申請状況'!#REF!
Name T_分類不能の産業: '[2]１申請者概要２セミナー３申請状況'!#REF!
Name ｚ: #REF!
Name ｚ: #REF!
Name ｚ: #REF!
Name ｚ: #REF!
Name ｚ: #REF!
Name サービス業: '1'!$X$2:$X$31
Name サービス業: #REF!
Name サービス業: #REF!
Name サービス業: #REF!
Name サービス業: #REF!
Name サービス業: 共同申請!$X$2:$X$30
Name サービス業: #REF!
Name サンプル: #REF!
Name サンプル: #REF!
Name サンプル: #REF!
Name 卸売業: '1'!$W$2:$W$7
Name 卸売業: #REF!
Name 卸売業: #REF!
Name 卸売業: #REF!
Name 卸売業: #REF!
Name 卸売業: 共同申請!$W$2:$W$7
Name 卸売業: #REF!
Name 海外: #REF!
Name 海外: #REF!
Name 海外: #REF!
Name 種別: #REF!
Name 種別: #REF!
Name 助成事業のフロー・スケジュール: #REF!
Name 助成事業のフロー・スケジュール: #REF!
Name 助成事業のフロー・スケジュール: #REF!
Name 助成事業のフロー・スケジュール: #REF!

Sheet 表紙
C1: 様式第1-2号(第5条関係)
C3: 公益財団法人 東京都中小企業振興公社
D4: 理 事 長 殿
G7: 名 称 | J7: ='1'!C5 -> 0
G9: 代表者 | J9: （役職） | L9: ='1'!L6:S6 -> 0
J10: （氏名） | L10: ='1'!L5:S5 -> 0
A15: 令和８年度 製品開発着手支援助成事業 申請書
B19: 下記のとおり助成事業を実施したいので、別紙の書類を添えて、助成金の交付を申請します。
A22: 記
B24: １．申請テーマ
C26: ='4'!E4 -> 0 | L26: の研究開発における
C29: ='4'!E6 -> 0 | L29: の検討
B33: ２．助成金交付申請額
C35: ='9'!AI8 -> 0
B39: ３．助成事業完了予定日
C41: =IF('7'!M3<>"",'7'!M3,"―") -> ―

Sheet 1
A1: 実 施 計 画 | U1: 選択してください | V1: 製造業その他 | W1: 卸売業 | X1: サービス業 | Y1: 小売業
U2: 選択してください | V2: 01農業 | W2: 50各種商品卸売業 | X2: 38放送業 | Y2: 33電気業 ※電気小売業のみ
A3: １．申請事業者の概要 | S3: （基準日：令和8年10月1日） | V3: 02林業 | W3: 51繊維・衣服等卸売業 | X3: 39情報サービス業 ※ソフトウェア業、情報処理サービス業除く | Y3: 34ガス業 ※ガス小売業のみ
A4: フリガナ | C4: =PHONETIC(C5) | J4: 代表者 | K4: フリガナ | L4: =PHONETIC(L5) | V4: 03漁業（水産養殖業を除く） | W4: 52飲食料品卸売業 | X4: 41映像・音声・文字情報制作業 ※管理・補助的経済活動を行う事業、新聞業、出版業を除く | Y4: 56各種商品小売業
A5: 名 称 | K5: 氏 名 | V5: 04水産養殖業 | W5: 53建築材料、鉱物・金属材料等卸売業 | X5: 69不動産賃貸業・管理業 ※駐車場業のみ | Y5: 57織物・衣服・身の回り品小売業
A6: 組織形態 （基準日時点） | K6: 役 職 | V6: 05鉱業、採石業、砂利採取業 | W6: 54機械器具卸売業 | X6: 70物品賃貸業 | Y6: 58飲食料品小売業
A7: 事業開始 | C7: 創 業 | E7: （和暦） | K7: 資 本 金 | S7: 円 | V7: 06総合工事業 | W7: 55その他の卸売業 | X7: 71学術・開発研究機関 | Y7: 59機械器具小売業
C8: 法人設立 | E8: （和暦） | M8: （うち大企業からの出資 | S8: 円） | V8: 07職別工事業（設備工事業を除く） | X8: 72専門ｻｰﾋﾞｽ業（他に分類されないもの） | Y8: 60その他の小売業
A9: 役 員 数 | G9: 人（監査役を含む） | K9: 従 業 員 数 | O9: 人 | P9: (うち正社員 | S9: 人） | V9: 08設備工事業 | X9: 73広告業 | Y9: 61無店舗小売業
A10: 事業概要 | K10: 業種 | L10: 大分類 | V10: 09食料品製造業 | X10: 74技術サービス業（他に分類されないもの） | Y10: 76飲食店 | AA10: =IF($M$10="製造業その他",IF(AND($M$7>300000000,$M$9>300),"中小企業要件をご確認ください",""),IF($M$10="卸売業",IF(AND($M$7>100000000,$M$9>100),"中小企業要件をご確認ください",""),IF($M$10="サービス業",IF(AND($M$7>50000000,$M$9>100),"中小企業要件をご確認ください",""),IF($M$10="小売業",IF(AND($M$7>50000000,$M$9>50),"中小企業要件をご確認ください",""),"業種を選択してください")))) -> 業種を選択してください
L11: 中分類 | V11: 10飲料・たばこ・飼料製造業 | X11: 75宿泊業（旅館業除く） | Y11: 77持ち帰り・配達飲食サービス業
K12: 主要取引先の 事業者名と売上高 (上位３位) | M12: 1 | S12: 千円 | V12: 11繊維工業 | X12: 751旅館業
A13: 主要製品 ・サービス | M13: 2 | S13: 千円 | V13: 12木材・木製品製造業（家具を除く） | X13: 78洗濯・理容・美容・浴場業
M14: 3 | S14: 千円 | V14: 13家具・装備品製造業 | X14: 79その他の生活関連サービス業 ※旅行業除く
A15: 業績 | B15: 直近 | C15: 売上高 | I15: 千円 | J15: 営業利益 | N15: 千円 | O15: 経常利益 | S15: 千円 | V15: 14パルプ・紙・紙加工品製造業 | X15: 80娯楽業
B16: 前年度 | C16: 売上高 | I16: 千円 | J16: 営業利益 | N16: 千円 | O16: 経常利益 | S16: 千円 | V16: 15印刷・同関連業 | X16: 81学校教育
V17: 16化学工業 | X17: 82その他の教育・学習支援業
A18: ２．助成事業の実施場所 （※創業予定者については、実施予定場所） | V18: 17石油製品・石炭製品製造業 | X18: 83医療業
A19: 本助成事業を実施し、公社が検査時に、購入品や助成事業における成果物等、支払いに係る経理関係書類を確認できる場所を記入してください。原則、東京都内の自社の本社・事業所・工場等（借り上げ可）に限ります。 | V19: 18プラスチック製品製造業（別掲を除く） | X19: 84保健衛生
V20: 19ゴム製品製造業 | X20: 85社会保険・社会福祉・介護事業
A21: 実施場所種別 | K21: 選択してください | V21: 20なめし革・同製品・毛皮製造業 | X21: 86郵便局
A22: 名 称 | K22: ＴＥＬ | V22: 21窯業・土石製品製造業 | X22: 87協同組合（他に分類されないもの） | Z22: 選択してください
A23: 所 在 地 | D23: 〒 | G23: 選択してください | V23: 22鉄鋼業 | X23: 88廃棄物処理業 | Z23: 都内にある自社の本社・事業所・工場等
A24: 最 寄 駅 | D24: 路 線 名 | J24: 線 | K24: 駅 名 | S24: 駅 | V24: 23非鉄金属製造業 | X24: 89自動車整備業 | Z24: 都外（首都圏であれば可）にある自社の事業所・工場等
V25: 24金属製品製造業 | X25: 90機械等修理業（別掲を除く） | Z25: 公社訪問場所（バーチャルオフィスのみの場合）
V26: 25はん用機械器具製造業 | X26: 91職業紹介・労働者派遣業 | Z26: 実施予定場所（創業予定者の場合）
V27: 26生産用機械器具製造業 | X27: 92その他の事業サービス業
V28: 27業務用機械器具製造業 | X28: 93政治・経済・文化団体
V29: 28電子部品・デバイス・電子回路製造業 | X29: 94宗教 | Z29: 選択してください
V30: 29電気機械器具製造業 | X30: 95その他のサービス業 | Z30: 東京都
V31: 30情報通信機械器具製造業 | X31: 96外国公務 | Z31: 神奈川県
V32: 31輸送用機械器具製造業 | Z32: 千葉県
V33: 32その他の製造業 | Z33: 埼玉県
V34: 33電気業 ※電気小売業除く | Z34: 茨城県
V35: 34ガス業 ※ガス小売業除く | Z35: 栃木県
V36: 35熱供給業 | Z36: 群馬県
V37: 36水道業 | Z37: 山梨県
V38: 37通信業
V39: 39情報サービス業 ※ソフトウェア業、情報処理サービス業のみ
V40: 40インターネット附随サービス業
...

Sheet 共同申請
A1: 実 施 計 画 | U1: 選択してください | V1: 製造業その他 | W1: 卸売業 | X1: サービス業 | Y1: 小売業
U2: 選択してください | V2: 01農業 | W2: 50各種商品卸売業 | X2: 38放送業 | Y2: 33電気業 ※電気小売業のみ
A3: １．申請事業者の概要 | S3: （基準日：令和8年10月1日） | V3: 02林業 | W3: 51繊維・衣服等卸売業 | X3: 39情報サービス業 ※ソフトウェア業、情報処理サービス業除く | Y3: 34ガス業 ※ガス小売業のみ
A4: フリガナ | C4: =PHONETIC(C5) | J4: 代表者 | K4: フリガナ | L4: =PHONETIC(L5) | V4: 03漁業（水産養殖業を除く） | W4: 52飲食料品卸売業 | X4: 41映像・音声・文字情報制作業 ※管理・補助的経済活動を行う事業、新聞業、出版業を除く | Y4: 56各種商品小売業
A5: 名 称 | K5: 氏 名 | V5: 04水産養殖業 | W5: 53建築材料、鉱物・金属材料等卸売業 | X5: 69不動産賃貸業・管理業 ※駐車場業のみ | Y5: 57織物・衣服・身の回り品小売業
A6: 組織形態 （基準日時点） | K6: 役 職 | V6: 05鉱業、採石業、砂利採取業 | W6: 54機械器具卸売業 | X6: 70物品賃貸業 | Y6: 58飲食料品小売業
A7: 本 店 所 在 地 | C7: 〒 | V7: 06総合工事業 | W7: 55その他の卸売業 | X7: 71学術・開発研究機関 | Y7: 59機械器具小売業
A8: ＴＥＬ | K8: ＵＲＬ | V8: 07職別工事業（設備工事業を除く） | X8: 72専門ｻｰﾋﾞｽ業（他に分類されないもの） | Y8: 60その他の小売業
A9: 都内登記 所 在 地 | C9: 〒 | V9: 08設備工事業 | X9: 73広告業 | Y9: 61無店舗小売業
A10: ＴＥＬ | K10: ※本店所在地が都外の場合のみ記入してください。 本店所在地と同じ場合は「同上」とご記入ください。 | V10: 09食料品製造業 | X10: 74技術サービス業（他に分類されないもの） | Y10: 76飲食店
A11: 連 絡 先 所 在 地 | C11: 〒 | V11: 10飲料・たばこ・飼料製造業 | X11: 75宿泊業 | Y11: 77持ち帰り・配達飲食サービス業
A12: 連 絡 担 当 者 | C12: フリガナ | K12: 部署・役職 | V12: 11繊維工業 | X12: 78洗濯・理容・美容・浴場業
C13: 氏 名 | K13: TEL | V13: 12木材・木製品製造業（家具を除く） | X13: 79その他の生活関連サービス業 ※旅行業除く
C14: E-mail | V14: 13家具・装備品製造業 | X14: 80娯楽業
A15: 事業開始 | C15: 創 業 | E15: （和暦） | K15: 資 本 金 | S15: 円 | V15: 14パルプ・紙・紙加工品製造業 | X15: 81学校教育
C16: 法人設立 | E16: （和暦） | M16: （うち大企業からの出資 | S16: 円） | V16: 15印刷・同関連業 | X16: 82その他の教育・学習支援業
A17: 役 員 数 | G17: 人（監査役を含む） | K17: 従 業 員 数 | O17: 人 | P17: (うち正社員 | S17: 人） | V17: 16化学工業 | X17: 83医療業
A18: 事業概要 | K18: 業種 | L18: 大分類 | M18: 選択してください | V18: 17石油製品・石炭製品製造業 | X18: 84保健衛生 | AA18: =IF($M$18="製造業その他",IF(AND($M$15>300000000,$M$17>300),"中小企業要件をご確認ください",""),IF($M$18="卸売業",IF(AND($M$15>100000000,$M$17>100),"中小企業要件をご確認ください",""),IF($M$18="サービス業",IF(AND($M$15>50000000,$M$17>100),"中小企業要件をご確認ください",""),IF($M$18="小売業",IF(AND($M$15>50000000,$M$17>50),"中小企業要件をご確認ください",""),"業種を選択してください")))) -> 業種を選択してください
L19: 中分類 | V19: 18プラスチック製品製造業（別掲を除く） | X19: 85社会保険・社会福祉・介護事業
K20: 主要取引先の 事業者名と売上高 (上位３位) | M20: 1 | S20: 千円 | V20: 19ゴム製品製造業 | X20: 86郵便局
A21: 主要製品 ・サービス | M21: 2 | S21: 千円 | V21: 20なめし革・同製品・毛皮製造業 | X21: 87協同組合（他に分類されないもの）
M22: 3 | S22: 千円 | V22: 21窯業・土石製品製造業 | X22: 88廃棄物処理業 | Z22: 選択してください
A23: 業績 | B23: 直近 | C23: 売上高 | I23: 千円 | J23: 営業利益 | N23: 千円 | O23: 経常利益 | S23: 千円 | V23: 22鉄鋼業 | X23: 89自動車整備業 | Z23: 都内にある自社の本社・事業所・工場等
B24: 前年度 | C24: 売上高 | I24: 千円 | J24: 営業利益 | N24: 千円 | O24: 経常利益 | S24: 千円 | V24: 23非鉄金属製造業 | X24: 90機械等修理業（別掲を除く） | Z24: 都外（首都圏であれば可）にある自社の事業所・工場等
V25: 24金属製品製造業 | X25: 91職業紹介・労働者派遣業 | Z25: 公社訪問場所（バーチャルオフィスのみの場合）
A26: ２．助成事業の実施場所 （※創業予定者については、実施予定場所） | V26: 25はん用機械器具製造業 | X26: 92その他の事業サービス業 | Z26: 実施予定場所（創業予定者の場合）
A27: 本助成事業を実施し、公社が検査時に、購入品や助成事業における成果物等、支払いに係る経理関係書類を確認できる場所を記入してください。原則、東京都内の自社の本社・事業所・工場等（借り上げ可）に限ります。 | V27: 26生産用機械器具製造業 | X27: 93政治・経済・文化団体
V28: 27業務用機械器具製造業 | X28: 94宗教
A29: 実施場所種別 | K29: 選択してください | V29: 28電子部品・デバイス・電子回路製造業 | X29: 95その他のサービス業 | Z29: 選択してください
A30: 名 称 | K30: ＴＥＬ | V30: 29電気機械器具製造業 | X30: 96外国公務 | Z30: 東京都
A31: 所 在 地 | D31: 〒 | G31: 東京都 | V31: 30情報通信機械器具製造業 | Z31: 神奈川県
A32: 最 寄 駅 | D32: 路 線 名 | J32: 線 | K32: 駅 名 | S32: 駅 | V32: 31輸送用機械器具製造業 | Z32: 千葉県
V33: 32その他の製造業 | Z33: 埼玉県
V34: 33電気業 ※電気小売業除く | Z34: 茨城県
V35: 34ガス業 ※ガス小売業除く | Z35: 栃木県
V36: 35熱供給業 | Z36: 群馬県
V37: 36水道業 | Z37: 山梨県
V38: 37通信業
V39: 39情報サービス業 ※ソフトウェア業、情報処理サービス業のみ
V40: 40インターネット附随サービス業
...

Sheet 2
A1: ３．役員・株主名簿
A2: ※ 個人事業主・創業予定者は記載不要です 「履歴事項全部証明書」に記載されている全役員及び持ち株比率が70％を超えるまでの全ての株主を、持ち株比率が多い順に記入してください。 それぞれの方が該当する「役員・株主」欄に「○」を、「役職／申請事業者との関係又は職業」欄に役員は「役職」、それ以外の方は「申請事業者との関係又は職業」を記入してください。 なお、行は必要に応じて追加していただいて構いません。
G3: （基準日：令和8年10月1日現在）
A4: No. | B4: 氏 名 | C4: 役 員 | D4: 株 主 | E4: 役職／申請事業者 との関係又は職業 | F4: 持ち株数 | G4: 持ち株比率
A5: =ROW()-ROW(テーブル17[[#Headers],[No.]]) -> 1 | G5: =IFERROR(テーブル17[[#This Row],[持ち株数]]/$F$17,"")
A6: =ROW()-ROW(テーブル17[[#Headers],[No.]]) -> 2 | G6: =IFERROR(テーブル17[[#This Row],[持ち株数]]/$F$17,"")
A7: =ROW()-ROW(テーブル17[[#Headers],[No.]]) -> 3 | G7: =IFERROR(テーブル17[[#This Row],[持ち株数]]/$F$17,"")
A8: =ROW()-ROW(テーブル17[[#Headers],[No.]]) -> 4 | G8: =IFERROR(テーブル17[[#This Row],[持ち株数]]/$F$17,"")
A9: =ROW()-ROW(テーブル17[[#Headers],[No.]]) -> 5 | G9: =IFERROR(テーブル17[[#This Row],[持ち株数]]/$F$17,"")
A10: =ROW()-ROW(テーブル17[[#Headers],[No.]]) -> 6 | G10: =IFERROR(テーブル17[[#This Row],[持ち株数]]/$F$17,"")
A11: =ROW()-ROW(テーブル17[[#Headers],[No.]]) -> 7 | G11: =IFERROR(テーブル17[[#This Row],[持ち株数]]/$F$17,"")
A12: =ROW()-ROW(テーブル17[[#Headers],[No.]]) -> 8 | G12: =IFERROR(テーブル17[[#This Row],[持ち株数]]/$F$17,"")
A13: =ROW()-ROW(テーブル17[[#Headers],[No.]]) -> 9 | G13: =IFERROR(テーブル17[[#This Row],[持ち株数]]/$F$17,"")
A14: =ROW()-ROW(テーブル17[[#Headers],[No.]]) -> 10 | G14: =IFERROR(テーブル17[[#This Row],[持ち株数]]/$F$17,"")
A15: =ROW()-ROW(テーブル17[[#Headers],[No.]]) -> 11 | G15: =IFERROR(テーブル17[[#This Row],[持ち株数]]/$F$17,"")
A16: - | B16: その他の株主 | G16: =IFERROR(テーブル17[[#This Row],[持ち株数]]/$F$17,"")
A17: 合 計 | F17: =IF(SUBTOTAL(109,テーブル17[持ち株数])=0,"",SUBTOTAL(109,テーブル17[持ち株数])) | G17: =IF(SUBTOTAL(109,テーブル17[持ち株比率])=0,"",SUBTOTAL(109,テーブル17[持ち株比率]))
A18: 「役員・株主名簿」が「履歴事項全部証明書」又は「確定申告書 別表二」と異なる理由
A21: 上記「役員・株主名簿」の中で、募集要項に記載されている大企業に該当する役員・株主がある場合はその情報を記入してください。
A22: No. | B22: 企 業 名 | C22: 資本金額（円） | E22: 従業員数（人） | F22: 業 種
A23: 1
A24: 2
A25: 3
A26: 4
A27: 5

Sheet 3
A1: ４．補助金・助成金の利用状況 | Y1: 基準日：令和8年10月1日
A2: （１） 受給済の補助金・助成金（過去５年間）
B3: 基準日から過去５年間における国・地方公共団体等（公社含む）の製品・サービス開発、創業、設備投資、販路開拓等の補助金・助成金のうち受給済の補助・助成事業について、直近のものから順に記入してください。
A4: No. | B4: 申請年度 | D4: 申 請 先 | I4: 助 成 事 業 名 | N4: 申 請 テ ー マ | S4: 助成金額（円） | V4: 本申請との 内容の関連 | X4: 本申請との 経費の重複
A5: 1 | V5: 選択してください | X5: 選択してください
A6: 2 | V6: 選択してください | X6: 選択してください
A7: 3 | V7: 選択してください | X7: 選択してください
A9: （２）実施中及び申請中又は申請予定の補助金・助成金
B10: 基準日時点で、製品・サービス開発、創業、設備投資、販路開拓などの補助金・助成金のうち、公社・国・都道府県・区市町村等で 実施中及び申請中又は申請予定の補助・助成事業について、直近のものから順に記載してください。
A11: 1 | B11: 申請状況 | D11: 申請年度 | F11: 申 請 先 | P11: 助 成 事 業 名
B13: 申 請 テ ー マ | J13: 事業内容 | V13: 成果物
B15: 事業実施期間 | J15: 対象経費 | R15: 助成金額（円） | V15: 本申請との 内容の関連 | X15: 本申請との 経費の重複
E16: ～ | V16: 選択してください | X16: 選択してください
A17: 2 | B17: 申請状況 | D17: 申請年度 | F17: 申 請 先 | P17: 助 成 事 業 名
B19: 申 請 テ ー マ | J19: 事業内容 | V19: 成果物
B21: 事業実施期間 | J21: 対象経費 | R21: 助成金額（円） | V21: 本申請との 内容の関連 | X21: 本申請との 経費の重複
E22: ～ | V22: 選択してください | X22: 選択してください
A23: 3 | B23: 申請状況 | D23: 申請年度 | F23: 申 請 先 | P23: 助 成 事 業 名
B25: 申 請 テ ー マ | J25: 事業内容 | V25: 成果物
B27: 事業実施期間 | J27: 対象経費 | R27: 助成金額（円） | V27: 本申請との 内容の関連 | X27: 本申請との 経費の重複
E28: ～ | V28: 選択してください | X28: 選択してください

Sheet 4
A1: ５．助成事業の計画
A2: 申請テーマ
A4: （研究開発全体） | P4: の研究開発における
A5: (20字以内) | C5: =IF(LEN(E4)<=20,LEN(E4),"→20字を超過しています") -> 0
A6: （技術検討） | P6: の検討
A7: (20字以内) | C7: =IF(LEN(E6)<=20,LEN(E6),"→20字を超過しています") -> 0
A8: ＜研究開発全体＞
A9: （１） 研究開発全体の計画概要
A11: 研究開発の 経緯、動機、目的 （500字以内）
A23: =IF(LEN(E11)<=500,LEN(E11),"→500字を超過しています") -> 0
A24: 既存製品・技術に 対する技術的な 新規性、優位性 （500字以内）
A36: =IF(LEN(E24)<=500,LEN(E24),"→500字を超過しています") -> 0
A37: （２） 市場性
A39: ターゲットとする 市場・顧客 （新市場の場合は 想定される内容） （500字以内）
A51: =IF(LEN(E39)<=500,LEN(E39),"→500字を超過しています") -> 0
A52: ターゲット市場・顧客を 選択した理由 （200字以内）
A57: =IF(LEN(E52)<=200,LEN(E52),"→200字を超過しています") -> 0

Sheet 5
A1: ＜技術検討＞
A2: （１） 技術検討の計画概要
A4: 技術検討の必要性、 実施内容 （500字以内）
A16: =IF(LEN(E4)<=500,LEN(E4),"→500字を超過しています") -> 0
A17: 技術検討結果の 研究開発全体への 活用方法 （400字以内）
A28: =IF(LEN(E17)<=400,LEN(E17),"→400字を超過しています") -> 0
A29: （２） 技術検討項目
A31: No. | B31: 検討項目 | H31: 検討内容・方法 | N31: 検討結果の確認方法
A33: 検-1
B38: 証明文書 (該当欄すべてに〇) | D38: 仕様書・要件定義書 | H38: 設計書 | L38: ソースコード | P38: 写真・動画
D39: 試験報告書 | H39: 図面 | L39: その他 | O39: （ ）
A40: 検-2
B45: 証明文書 (該当欄すべてに〇) | D45: 仕様書・要件定義書 | H45: 設計書 | L45: ソースコード | P45: 写真・動画
D46: 試験報告書 | H46: 図面 | L46: その他 | O46: （ ）
A47: 検-3
B52: 証明文書 (該当欄すべてに〇) | D52: 仕様書・要件定義書 | H52: 設計書 | L52: ソースコード | P52: 写真・動画
D53: 試験報告書 | H53: 図面 | L53: その他 | O53: （ ）
A54: 検-4
B59: 証明文書 (該当欄すべてに〇) | D59: 仕様書・要件定義書 | H59: 設計書 | L59: ソースコード | P59: 写真・動画
D60: 試験報告書 | H60: 図面 | L60: その他 | O60: （ ）
A61: 検-5
B66: 証明文書 (該当欄すべてに〇) | D66: 仕様書・要件定義書 | H66: 設計書 | L66: ソースコード | P66: 写真・動画
D67: 試験報告書 | H67: 図面 | L67: その他 | O67: （ ）

Sheet 6
A1: ６．実施体制
A2: （１） 助成事業実施の社内外体制図、担当者の役割分担等
A27: （２） 経営者（代表取締役等）の経歴
A38: （３） 助成事業の主担当者
A40: 氏名 | H40: 部署・役職
A42: 経歴・能力
A50: （４） 共同申請者（該当者のみ）
A52: 名 称 | J52: 代 表 者 氏 名

Sheet 7
A1: ７．フロー・スケジュール
A2: 助成事業完了予定日 | M2: （和暦）
A4: ①具体的な作業項目、検討項目番号（「５．＜技術検討＞（２）技術検討項目」の検-1、検-2・・・）、経費番号（「12．資金支出明細」の（原-1、委-1・・・）を記入してください。 ②自社作業は「○」、他社作業は「●」を記入してください。 ③本助成事業の全体像が分かるよう、経費が発生しない作業も記入してください。
A8: No. | B8: 具体的な作業項目 | C8: 令和9年 | M8: 令和10年 | O8: 検討 項目 番号 | P8: 経費 番号
C9: 3月 | D9: 4月 | E9: 5月 | F9: 6月 | G9: 7月 | H9: 8月 | I9: 9月 | J9: 10月 | K9: 11月 | L9: 12月 | M9: 1月 | N9: 2月
A10: 1
A11: 2
A12: 3
A13: 4
A14: 5
A15: 6
A16: 7
A17: 8
A18: 9
A19: 10
A20: 11
A21: 12
... A24: 15

Sheet 8
A1: ８．産業財産権（特許権、実用新案権、意匠権、商標権）
A2: （１） 本助成事業に係る先行技術調査の実施 ※特許情報プラットフォームJ-PlatPat等により検索してください。 | L2: 選択してください
A3: 「実施した」と回答した場合 | C3: 類似特許番号
C5: 類似特許との相違点
A8: （２） 本助成事業に必要な産業財産権を出願又は保有している | L8: 選択してください
A10: 「はい」と回答した場合 | C10: それはどのような権利か | L10: 選択してください
L12: 公開番号又は登録番号等
A14: （３） 本助成事業において、他者が保有する産業財産権の実施許諾を受ける予定 | L14: 選択してください
A16: 「はい」と回答した場合 | C16: それはどのような権利か | L16: 選択してください
L18: 公開番号又は登録番号等
A21: ９．本助成事業遂行にあたっての法令遵守、環境配慮、安全性確保への取組み（500字以内） | S21: =IF(LEN(A22)<=500,LEN(A22),"↓500字を超過しています") -> 0
A34: 10．専門用語の解説 ※本申請書において解説が必要な用語等がある場合は記入してください。

Sheet 9
A1: 11．資金計画
A2: （１） 経費区分別内訳 | AV2: （単位：円） | BD2: =(IF(AI14>5000000,"「助成金交付申請額」合計が上限額500万円を超えています。いずれかの経費区分の「助成金交付申請額」を手入力で修正し、合計が500万円以内に収まるよう調整してください。",""))
A3: 経 費 区 分 | Q3: 助成事業に要する経費 | Z3: 助成対象経費 | AI3: 助成金交付申請額
Q4: （税込） | Z4: （税抜） | AI4: (千円未満切捨)
A5: 内訳 | C5: (1) 原材料・副資材費 | Q5: ='10'!I17 -> 0 | Z5: ='10'!H17 -> 0 | AI5: =ROUNDDOWN($Z5/2,-3) -> 0
C6: (2) 委託・外注費 | Q6: ='11'!G17 -> 0 | Z6: ='11'!F17 -> 0 | AI6: =ROUNDDOWN($Z6/2,-3) -> 0
C7: (3) その他助成対象外経費 | Q7: ='11'!G24 -> 0
A8: 合 計 | Q8: =SUM(Q5:Y7) -> 0 | Z8: =SUM(Z5:AH7) -> 0 | AI8: =SUM(AI5:AQ7) -> 0 | AR8: =(IF(AI8>1000000,"←修正して下さい","")) | AX8: =(IF(AI8>1000000,"「助成金交付申請額」合計が上限額100万円を超えています。「助成金交付申請額」を手入力で修正し、合計が100万円以内に収まるよう調整してください。",""))
A10: （２） 資金調達内訳
A11: 区 分 | Q11: 資 金 調 達 金 額 | Z11: 調達先（名称等） | AO11: 進捗状況等
A12: 内 訳 | C12: 自 己 資 金
C13: 銀 行 借 入 金
C14: 役 員 借 入 金
C15: その他
A16: 合 計 | Q16: =SUM(Q12:AA15) -> 0 | Z16: =IF(Q8<>Q16,"←修正して下さい","") | AX16: =IF(Q8<>Q16,"「助成事業に要する経費」合計と「資金調達金額」合計とが不一致です。一致するよう修正してください。","")
E18: 「助成対象経費」とは、「助成事業に要する経費」から消費税等の間接経費を除いたものです。
E19: 「助成金交付申請額」とは、「助成対象経費」のうち助成金の交付を希望する額で、「助成対象経費」に助成率の1/2を乗じた金額（千円未満切捨）で、かつ助成限度額以内となります。
E21: 「助成金交付申請額」合計が上限の100万円を超える場合は、合計が100万円以内に収まるように、いずれかの経費区分の「助成金交付申請額」を調整してください。（自動計算式が入っていますが、手入力で上書きしてください。） なお、「助成対象経費」は調整不要で、200万円以上でもそのままの金額としてください。
E24: 「助成事業に要する経費」合計と「資金調達金額」合計が一致するように記入してください。

Sheet 10
A1: 12．資金支出明細
A2: (1) 原材料・副資材費
A3: ※原材料・副資材費のみの申請はできません。
A4: ※特注部品等の製作を外部委託する場合は、「(2) 委託・外注費」に計上してください。
A5: ※機械装置・工具器具や試作金型、ソフトウエアの購入費用や使用料は助成対象外となります。 | J5: （単位：円）
A6: 経費 番号 | B6: 品 名 | C6: 仕 様 | D6: 用 途 | E6: 数量 (A) | F6: 単位 | G6: 単価 （税抜） (B) | H6: 助成対象経費 （税抜） (A)×(B) | I6: 助成事業に 要する経費 （税込） | J6: 購入先事業者名 | K6: 列1
A7: =ROW()-6 -> 1 | H7: =原材料・副資材費[[#This Row],[数量 (A)]]*原材料・副資材費[[#This Row],[単価 （税抜） (B)]] -> 0 | I7: =ROUNDDOWN(原材料・副資材費[[#This Row],[助成対象経費 （税抜） (A)×(B)]]*1.1,0) -> 0 | K7: =IF(OR(AND(原材料・副資材費[[#This Row],[品 名]]="",原材料・副資材費[[#This Row],[仕 様]]="",原材料・副資材費[[#This Row],[用 途]]="",原材料・副資材費[[#This Row],[数量 (A)]]="",原材料・副資材費[[#This Row],[単位]]="",原材料・副資材費[[#This Row],[単価 （税抜） (B)]]="",原材料・副資材費[[#This Row],[購入先事業者名]]=""),AND(原材料・副資材費[[#This Row],[品 名]]<>"",原材料・副資材費[[#This Row],[仕 様]]<>"",原材料・副資材費[[#This Row],[用 途]]<>"",原材料・副資材費[[#This Row],[数量 (A)]]<>"",原材料・副資材費[[#This Row],[単位]]<>"",原材料・副資材費[[#This Row],[単価 （税抜） (B)]]<>"",原材料・副資材費[[#This Row],[購入先事業者名]]<>"")),"","←全ての項目を入力してください。")
A8: =ROW()-6 -> 2 | H8: =原材料・副資材費[[#This Row],[数量 (A)]]*原材料・副資材費[[#This Row],[単価 （税抜） (B)]] -> 0 | I8: =ROUNDDOWN(原材料・副資材費[[#This Row],[助成対象経費 （税抜） (A)×(B)]]*1.1,0) -> 0 | K8: =IF(OR(AND(原材料・副資材費[[#This Row],[品 名]]="",原材料・副資材費[[#This Row],[仕 様]]="",原材料・副資材費[[#This Row],[用 途]]="",原材料・副資材費[[#This Row],[数量 (A)]]="",原材料・副資材費[[#This Row],[単位]]="",原材料・副資材費[[#This Row],[単価 （税抜） (B)]]="",原材料・副資材費[[#This Row],[購入先事業者名]]=""),AND(原材料・副資材費[[#This Row],[品 名]]<>"",原材料・副資材費[[#This Row],[仕 様]]<>"",原材料・副資材費[[#This Row],[用 途]]<>"",原材料・副資材費[[#This Row],[数量 (A)]]<>"",原材料・副資材費[[#This Row],[単位]]<>"",原材料・副資材費[[#This Row],[単価 （税抜） (B)]]<>"",原材料・副資材費[[#This Row],[購入先事業者名]]<>"")),"","←全ての項目を入力してください。")
A9: =ROW()-6 -> 3 | H9: =原材料・副資材費[[#This Row],[数量 (A)]]*原材料・副資材費[[#This Row],[単価 （税抜） (B)]] -> 0 | I9: =ROUNDDOWN(原材料・副資材費[[#This Row],[助成対象経費 （税抜） (A)×(B)]]*1.1,0) -> 0 | K9: =IF(OR(AND(原材料・副資材費[[#This Row],[品 名]]="",原材料・副資材費[[#This Row],[仕 様]]="",原材料・副資材費[[#This Row],[用 途]]="",原材料・副資材費[[#This Row],[数量 (A)]]="",原材料・副資材費[[#This Row],[単位]]="",原材料・副資材費[[#This Row],[単価 （税抜） (B)]]="",原材料・副資材費[[#This Row],[購入先事業者名]]=""),AND(原材料・副資材費[[#This Row],[品 名]]<>"",原材料・副資材費[[#This Row],[仕 様]]<>"",原材料・副資材費[[#This Row],[用 途]]<>"",原材料・副資材費[[#This Row],[数量 (A)]]<>"",原材料・副資材費[[#This Row],[単位]]<>"",原材料・副資材費[[#This Row],[単価 （税抜） (B)]]<>"",原材料・副資材費[[#This Row],[購入先事業者名]]<>"")),"","←全ての項目を入力してください。")
A10: =ROW()-6 -> 4 | H10: =原材料・副資材費[[#This Row],[数量 (A)]]*原材料・副資材費[[#This Row],[単価 （税抜） (B)]] -> 0 | I10: =ROUNDDOWN(原材料・副資材費[[#This Row],[助成対象経費 （税抜） (A)×(B)]]*1.1,0) -> 0 | K10: =IF(OR(AND(原材料・副資材費[[#This Row],[品 名]]="",原材料・副資材費[[#This Row],[仕 様]]="",原材料・副資材費[[#This Row],[用 途]]="",原材料・副資材費[[#This Row],[数量 (A)]]="",原材料・副資材費[[#This Row],[単位]]="",原材料・副資材費[[#This Row],[単価 （税抜） (B)]]="",原材料・副資材費[[#This Row],[購入先事業者名]]=""),AND(原材料・副資材費[[#This Row],[品 名]]<>"",原材料・副資材費[[#This Row],[仕 様]]<>"",原材料・副資材費[[#This Row],[用 途]]<>"",原材料・副資材費[[#This Row],[数量 (A)]]<>"",原材料・副資材費[[#This Row],[単位]]<>"",原材料・副資材費[[#This Row],[単価 （税抜） (B)]]<>"",原材料・副資材費[[#This Row],[購入先事業者名]]<>"")),"","←全ての項目を入力してください。")
A11: =ROW()-6 -> 5 | H11: =原材料・副資材費[[#This Row],[数量 (A)]]*原材料・副資材費[[#This Row],[単価 （税抜） (B)]] -> 0 | I11: =ROUNDDOWN(原材料・副資材費[[#This Row],[助成対象経費 （税抜） (A)×(B)]]*1.1,0) -> 0 | K11: =IF(OR(AND(原材料・副資材費[[#This Row],[品 名]]="",原材料・副資材費[[#This Row],[仕 様]]="",原材料・副資材費[[#This Row],[用 途]]="",原材料・副資材費[[#This Row],[数量 (A)]]="",原材料・副資材費[[#This Row],[単位]]="",原材料・副資材費[[#This Row],[単価 （税抜） (B)]]="",原材料・副資材費[[#This Row],[購入先事業者名]]=""),AND(原材料・副資材費[[#This Row],[品 名]]<>"",原材料・副資材費[[#This Row],[仕 様]]<>"",原材料・副資材費[[#This Row],[用 途]]<>"",原材料・副資材費[[#This Row],[数量 (A)]]<>"",原材料・副資材費[[#This Row],[単位]]<>"",原材料・副資材費[[#This Row],[単価 （税抜） (B)]]<>"",原材料・副資材費[[#This Row],[購入先事業者名]]<>"")),"","←全ての項目を入力してください。")
A12: =ROW()-6 -> 6 | H12: =原材料・副資材費[[#This Row],[数量 (A)]]*原材料・副資材費[[#This Row],[単価 （税抜） (B)]] -> 0 | I12: =ROUNDDOWN(原材料・副資材費[[#This Row],[助成対象経費 （税抜） (A)×(B)]]*1.1,0) -> 0 | K12: =IF(OR(AND(原材料・副資材費[[#This Row],[品 名]]="",原材料・副資材費[[#This Row],[仕 様]]="",原材料・副資材費[[#This Row],[用 途]]="",原材料・副資材費[[#This Row],[数量 (A)]]="",原材料・副資材費[[#This Row],[単位]]="",原材料・副資材費[[#This Row],[単価 （税抜） (B)]]="",原材料・副資材費[[#This Row],[購入先事業者名]]=""),AND(原材料・副資材費[[#This Row],[品 名]]<>"",原材料・副資材費[[#This Row],[仕 様]]<>"",原材料・副資材費[[#This Row],[用 途]]<>"",原材料・副資材費[[#This Row],[数量 (A)]]<>"",原材料・副資材費[[#This Row],[単位]]<>"",原材料・副資材費[[#This Row],[単価 （税抜） (B)]]<>"",原材料・副資材費[[#This Row],[購入先事業者名]]<>"")),"","←全ての項目を入力してください。")
A13: =ROW()-6 -> 7 | H13: =原材料・副資材費[[#This Row],[数量 (A)]]*原材料・副資材費[[#This Row],[単価 （税抜） (B)]] -> 0 | I13: =ROUNDDOWN(原材料・副資材費[[#This Row],[助成対象経費 （税抜） (A)×(B)]]*1.1,0) -> 0 | K13: =IF(OR(AND(原材料・副資材費[[#This Row],[品 名]]="",原材料・副資材費[[#This Row],[仕 様]]="",原材料・副資材費[[#This Row],[用 途]]="",原材料・副資材費[[#This Row],[数量 (A)]]="",原材料・副資材費[[#This Row],[単位]]="",原材料・副資材費[[#This Row],[単価 （税抜） (B)]]="",原材料・副資材費[[#This Row],[購入先事業者名]]=""),AND(原材料・副資材費[[#This Row],[品 名]]<>"",原材料・副資材費[[#This Row],[仕 様]]<>"",原材料・副資材費[[#This Row],[用 途]]<>"",原材料・副資材費[[#This Row],[数量 (A)]]<>"",原材料・副資材費[[#This Row],[単位]]<>"",原材料・副資材費[[#This Row],[単価 （税抜） (B)]]<>"",原材料・副資材費[[#This Row],[購入先事業者名]]<>"")),"","←全ての項目を入力してください。")
A14: =ROW()-6 -> 8 | H14: =原材料・副資材費[[#This Row],[数量 (A)]]*原材料・副資材費[[#This Row],[単価 （税抜） (B)]] -> 0 | I14: =ROUNDDOWN(原材料・副資材費[[#This Row],[助成対象経費 （税抜） (A)×(B)]]*1.1,0) -> 0 | K14: =IF(OR(AND(原材料・副資材費[[#This Row],[品 名]]="",原材料・副資材費[[#This Row],[仕 様]]="",原材料・副資材費[[#This Row],[用 途]]="",原材料・副資材費[[#This Row],[数量 (A)]]="",原材料・副資材費[[#This Row],[単位]]="",原材料・副資材費[[#This Row],[単価 （税抜） (B)]]="",原材料・副資材費[[#This Row],[購入先事業者名]]=""),AND(原材料・副資材費[[#This Row],[品 名]]<>"",原材料・副資材費[[#This Row],[仕 様]]<>"",原材料・副資材費[[#This Row],[用 途]]<>"",原材料・副資材費[[#This Row],[数量 (A)]]<>"",原材料・副資材費[[#This Row],[単位]]<>"",原材料・副資材費[[#This Row],[単価 （税抜） (B)]]<>"",原材料・副資材費[[#This Row],[購入先事業者名]]<>"")),"","←全ての項目を入力してください。")
A15: =ROW()-6 -> 9 | H15: =原材料・副資材費[[#This Row],[数量 (A)]]*原材料・副資材費[[#This Row],[単価 （税抜） (B)]] -> 0 | I15: =ROUNDDOWN(原材料・副資材費[[#This Row],[助成対象経費 （税抜） (A)×(B)]]*1.1,0) -> 0 | K15: =IF(OR(AND(原材料・副資材費[[#This Row],[品 名]]="",原材料・副資材費[[#This Row],[仕 様]]="",原材料・副資材費[[#This Row],[用 途]]="",原材料・副資材費[[#This Row],[数量 (A)]]="",原材料・副資材費[[#This Row],[単位]]="",原材料・副資材費[[#This Row],[単価 （税抜） (B)]]="",原材料・副資材費[[#This Row],[購入先事業者名]]=""),AND(原材料・副資材費[[#This Row],[品 名]]<>"",原材料・副資材費[[#This Row],[仕 様]]<>"",原材料・副資材費[[#This Row],[用 途]]<>"",原材料・副資材費[[#This Row],[数量 (A)]]<>"",原材料・副資材費[[#This Row],[単位]]<>"",原材料・副資材費[[#This Row],[単価 （税抜） (B)]]<>"",原材料・副資材費[[#This Row],[購入先事業者名]]<>"")),"","←全ての項目を入力してください。")
A16: =ROW()-6 -> 10 | H16: =原材料・副資材費[[#This Row],[数量 (A)]]*原材料・副資材費[[#This Row],[単価 （税抜） (B)]] -> 0 | I16: =ROUNDDOWN(原材料・副資材費[[#This Row],[助成対象経費 （税抜） (A)×(B)]]*1.1,0) -> 0 | K16: =IF(OR(AND(原材料・副資材費[[#This Row],[品 名]]="",原材料・副資材費[[#This Row],[仕 様]]="",原材料・副資材費[[#This Row],[用 途]]="",原材料・副資材費[[#This Row],[数量 (A)]]="",原材料・副資材費[[#This Row],[単位]]="",原材料・副資材費[[#This Row],[単価 （税抜） (B)]]="",原材料・副資材費[[#This Row],[購入先事業者名]]=""),AND(原材料・副資材費[[#This Row],[品 名]]<>"",原材料・副資材費[[#This Row],[仕 様]]<>"",原材料・副資材費[[#This Row],[用 途]]<>"",原材料・副資材費[[#This Row],[数量 (A)]]<>"",原材料・副資材費[[#This Row],[単位]]<>"",原材料・副資材費[[#This Row],[単価 （税抜） (B)]]<>"",原材料・副資材費[[#This Row],[購入先事業者名]]<>"")),"","←全ての項目を入力してください。")
G17: 計 | H17: =SUBTOTAL(109,原材料・副資材費[助成対象経費 （税抜） (A)×(B)]) -> 0 | I17: =SUBTOTAL(109,原材料・副資材費[助成事業に 要する経費 （税込）]) -> 0

Sheet 11
A1: (2) 委託・外注費
A2: ※委託費・外注費・共同研究費のいずれか１つ以上の経費の申請が必要です。市場調査費のみの申請はできません。
A3: ※特注部品等の製作を外部委託する場合は、「(2) 委託・外注費」に計上してください。
A4: ※機械装置・工具器具や試作金型、ソフトウエアの購入費用や使用料は助成対象外となります。
A5: ※市場調査費の助成限度額は25万円です。 | H5: （単位：円）
A6: 経費 番号 | B6: 委託・外注内容 | C6: 数量 (A) | D6: 単位 | E6: 単価 （税抜） (B) | F6: 助成対象経費 （税抜） (A)×(B） | G6: 助成事業に 要する経費 （税込） | H6: 委託・外注先 事業者名 | I6: 列1
A7: =ROW()-6 -> 1 | F7: =委託・外注費[[#This Row],[数量 (A)]]*委託・外注費[[#This Row],[単価 （税抜） (B)]] -> 0 | G7: =ROUNDDOWN(委託・外注費[[#This Row],[助成対象経費 （税抜） (A)×(B）]]*1.1,0) -> 0 | I7: =IF(OR(AND(委託・外注費[[#This Row],[委託・外注内容]]="",委託・外注費[[#This Row],[数量 (A)]]="",委託・外注費[[#This Row],[単位]]="",委託・外注費[[#This Row],[単価 （税抜） (B)]]="",委託・外注費[[#This Row],[委託・外注先 事業者名]]=""), AND(委託・外注費[[#This Row],[委託・外注内容]]<>"",委託・外注費[[#This Row],[数量 (A)]]<>"",委託・外注費[[#This Row],[単位]]<>"",委託・外注費[[#This Row],[単価 （税抜） (B)]]<>"",委託・外注費[[#This Row],[委託・外注先 事業者名]]<>"")), "", "←全ての項目を入力してください。")
A8: =ROW()-6 -> 2 | F8: =委託・外注費[[#This Row],[数量 (A)]]*委託・外注費[[#This Row],[単価 （税抜） (B)]] -> 0 | G8: =ROUNDDOWN(委託・外注費[[#This Row],[助成対象経費 （税抜） (A)×(B）]]*1.1,0) -> 0 | I8: =IF(OR(AND(委託・外注費[[#This Row],[委託・外注内容]]="",委託・外注費[[#This Row],[数量 (A)]]="",委託・外注費[[#This Row],[単位]]="",委託・外注費[[#This Row],[単価 （税抜） (B)]]="",委託・外注費[[#This Row],[委託・外注先 事業者名]]=""), AND(委託・外注費[[#This Row],[委託・外注内容]]<>"",委託・外注費[[#This Row],[数量 (A)]]<>"",委託・外注費[[#This Row],[単位]]<>"",委託・外注費[[#This Row],[単価 （税抜） (B)]]<>"",委託・外注費[[#This Row],[委託・外注先 事業者名]]<>"")), "", "←全ての項目を入力してください。")
A9: =ROW()-6 -> 3 | F9: =委託・外注費[[#This Row],[数量 (A)]]*委託・外注費[[#This Row],[単価 （税抜） (B)]] -> 0 | G9: =ROUNDDOWN(委託・外注費[[#This Row],[助成対象経費 （税抜） (A)×(B）]]*1.1,0) -> 0 | I9: =IF(OR(AND(委託・外注費[[#This Row],[委託・外注内容]]="",委託・外注費[[#This Row],[数量 (A)]]="",委託・外注費[[#This Row],[単位]]="",委託・外注費[[#This Row],[単価 （税抜） (B)]]="",委託・外注費[[#This Row],[委託・外注先 事業者名]]=""), AND(委託・外注費[[#This Row],[委託・外注内容]]<>"",委託・外注費[[#This Row],[数量 (A)]]<>"",委託・外注費[[#This Row],[単位]]<>"",委託・外注費[[#This Row],[単価 （税抜） (B)]]<>"",委託・外注費[[#This Row],[委託・外注先 事業者名]]<>"")), "", "←全ての項目を入力してください。")
A10: =ROW()-6 -> 4 | F10: =委託・外注費[[#This Row],[数量 (A)]]*委託・外注費[[#This Row],[単価 （税抜） (B)]] -> 0 | G10: =ROUNDDOWN(委託・外注費[[#This Row],[助成対象経費 （税抜） (A)×(B）]]*1.1,0) -> 0 | I10: =IF(OR(AND(委託・外注費[[#This Row],[委託・外注内容]]="",委託・外注費[[#This Row],[数量 (A)]]="",委託・外注費[[#This Row],[単位]]="",委託・外注費[[#This Row],[単価 （税抜） (B)]]="",委託・外注費[[#This Row],[委託・外注先 事業者名]]=""), AND(委託・外注費[[#This Row],[委託・外注内容]]<>"",委託・外注費[[#This Row],[数量 (A)]]<>"",委託・外注費[[#This Row],[単位]]<>"",委託・外注費[[#This Row],[単価 （税抜） (B)]]<>"",委託・外注費[[#This Row],[委託・外注先 事業者名]]<>"")), "", "←全ての項目を入力してください。")
A11: =ROW()-6 -> 5 | F11: =委託・外注費[[#This Row],[数量 (A)]]*委託・外注費[[#This Row],[単価 （税抜） (B)]] -> 0 | G11: =ROUNDDOWN(委託・外注費[[#This Row],[助成対象経費 （税抜） (A)×(B）]]*1.1,0) -> 0 | I11: =IF(OR(AND(委託・外注費[[#This Row],[委託・外注内容]]="",委託・外注費[[#This Row],[数量 (A)]]="",委託・外注費[[#This Row],[単位]]="",委託・外注費[[#This Row],[単価 （税抜） (B)]]="",委託・外注費[[#This Row],[委託・外注先 事業者名]]=""), AND(委託・外注費[[#This Row],[委託・外注内容]]<>"",委託・外注費[[#This Row],[数量 (A)]]<>"",委託・外注費[[#This Row],[単位]]<>"",委託・外注費[[#This Row],[単価 （税抜） (B)]]<>"",委託・外注費[[#This Row],[委託・外注先 事業者名]]<>"")), "", "←全ての項目を入力してください。")
A12: =ROW()-6 -> 6 | F12: =委託・外注費[[#This Row],[数量 (A)]]*委託・外注費[[#This Row],[単価 （税抜） (B)]] -> 0 | G12: =ROUNDDOWN(委託・外注費[[#This Row],[助成対象経費 （税抜） (A)×(B）]]*1.1,0) -> 0 | I12: =IF(OR(AND(委託・外注費[[#This Row],[委託・外注内容]]="",委託・外注費[[#This Row],[数量 (A)]]="",委託・外注費[[#This Row],[単位]]="",委託・外注費[[#This Row],[単価 （税抜） (B)]]="",委託・外注費[[#This Row],[委託・外注先 事業者名]]=""), AND(委託・外注費[[#This Row],[委託・外注内容]]<>"",委託・外注費[[#This Row],[数量 (A)]]<>"",委託・外注費[[#This Row],[単位]]<>"",委託・外注費[[#This Row],[単価 （税抜） (B)]]<>"",委託・外注費[[#This Row],[委託・外注先 事業者名]]<>"")), "", "←全ての項目を入力してください。")
A13: =ROW()-6 -> 7 | F13: =委託・外注費[[#This Row],[数量 (A)]]*委託・外注費[[#This Row],[単価 （税抜） (B)]] -> 0 | G13: =ROUNDDOWN(委託・外注費[[#This Row],[助成対象経費 （税抜） (A)×(B）]]*1.1,0) -> 0 | I13: =IF(OR(AND(委託・外注費[[#This Row],[委託・外注内容]]="",委託・外注費[[#This Row],[数量 (A)]]="",委託・外注費[[#This Row],[単位]]="",委託・外注費[[#This Row],[単価 （税抜） (B)]]="",委託・外注費[[#This Row],[委託・外注先 事業者名]]=""), AND(委託・外注費[[#This Row],[委託・外注内容]]<>"",委託・外注費[[#This Row],[数量 (A)]]<>"",委託・外注費[[#This Row],[単位]]<>"",委託・外注費[[#This Row],[単価 （税抜） (B)]]<>"",委託・外注費[[#This Row],[委託・外注先 事業者名]]<>"")), "", "←全ての項目を入力してください。")
A14: =ROW()-6 -> 8 | F14: =委託・外注費[[#This Row],[数量 (A)]]*委託・外注費[[#This Row],[単価 （税抜） (B)]] -> 0 | G14: =ROUNDDOWN(委託・外注費[[#This Row],[助成対象経費 （税抜） (A)×(B）]]*1.1,0) -> 0 | I14: =IF(OR(AND(委託・外注費[[#This Row],[委託・外注内容]]="",委託・外注費[[#This Row],[数量 (A)]]="",委託・外注費[[#This Row],[単位]]="",委託・外注費[[#This Row],[単価 （税抜） (B)]]="",委託・外注費[[#This Row],[委託・外注先 事業者名]]=""), AND(委託・外注費[[#This Row],[委託・外注内容]]<>"",委託・外注費[[#This Row],[数量 (A)]]<>"",委託・外注費[[#This Row],[単位]]<>"",委託・外注費[[#This Row],[単価 （税抜） (B)]]<>"",委託・外注費[[#This Row],[委託・外注先 事業者名]]<>"")), "", "←全ての項目を入力してください。")
A15: =ROW()-6 -> 9 | F15: =委託・外注費[[#This Row],[数量 (A)]]*委託・外注費[[#This Row],[単価 （税抜） (B)]] -> 0 | G15: =ROUNDDOWN(委託・外注費[[#This Row],[助成対象経費 （税抜） (A)×(B）]]*1.1,0) -> 0 | I15: =IF(OR(AND(委託・外注費[[#This Row],[委託・外注内容]]="",委託・外注費[[#This Row],[数量 (A)]]="",委託・外注費[[#This Row],[単位]]="",委託・外注費[[#This Row],[単価 （税抜） (B)]]="",委託・外注費[[#This Row],[委託・外注先 事業者名]]=""), AND(委託・外注費[[#This Row],[委託・外注内容]]<>"",委託・外注費[[#This Row],[数量 (A)]]<>"",委託・外注費[[#This Row],[単位]]<>"",委託・外注費[[#This Row],[単価 （税抜） (B)]]<>"",委託・外注費[[#This Row],[委託・外注先 事業者名]]<>"")), "", "←全ての項目を入力してください。")
A16: =ROW()-6 -> 10 | F16: =委託・外注費[[#This Row],[数量 (A)]]*委託・外注費[[#This Row],[単価 （税抜） (B)]] -> 0 | G16: =ROUNDDOWN(委託・外注費[[#This Row],[助成対象経費 （税抜） (A)×(B）]]*1.1,0) -> 0 | I16: =IF(OR(AND(委託・外注費[[#This Row],[委託・外注内容]]="",委託・外注費[[#This Row],[数量 (A)]]="",委託・外注費[[#This Row],[単位]]="",委託・外注費[[#This Row],[単価 （税抜） (B)]]="",委託・外注費[[#This Row],[委託・外注先 事業者名]]=""), AND(委託・外注費[[#This Row],[委託・外注内容]]<>"",委託・外注費[[#This Row],[数量 (A)]]<>"",委託・外注費[[#This Row],[単位]]<>"",委託・外注費[[#This Row],[単価 （税抜） (B)]]<>"",委託・外注費[[#This Row],[委託・外注先 事業者名]]<>"")), "", "←全ての項目を入力してください。")
E17: 計 | F17: =SUBTOTAL(109,委託・外注費[助成対象経費 （税抜） (A)×(B）]) -> 0 | G17: =SUBTOTAL(109,委託・外注費[助成事業に 要する経費 （税込）]) -> 0
A19: (3) その他助成対象外経費 | H19: （単位：円）
A20: 経費 番号 | B20: 経費内容 | C20: 数量 (A) | D20: 単位 | E20: 単価 （税抜） (B) | F20: (A)×(B） | G20: 助成事業に 要する経費 （税込） | H20: 備考
A21: =ROW()-ROW('11'!$A$20) -> 1 | F21: ='11'!$C$21:$C$23*'11'!$E$21:$E$23 -> 0 | G21: =ROUNDDOWN('11'!$F21*1.1,0) -> 0
A22: =ROW()-ROW('11'!$A$20) -> 2 | F22: ='11'!$C$21:$C$23*'11'!$E$21:$E$23 -> 0 | G22: =ROUNDDOWN('11'!$F22*1.1,0) -> 0
A23: =ROW()-ROW('11'!$A$20) -> 3 | F23: ='11'!$C$21:$C$23*'11'!$E$21:$E$23 -> 0 | G23: =ROUNDDOWN('11'!$F23*1.1,0) -> 0
A24: 計 | G24: =SUBTOTAL(109,'11'!$G$21:$G$23) -> 0

Sheet 11-2
A1: 13 委託・外注計画書
A2: 「(2) 委託・外注費」に計上した全ての経費について記入してください。
A3: 表が足りない場合は、枠を追加せず、本ページを複製してください。
A4: 経費番号 | E4: 委- | I4: 事業者名
A5: 代表者名 | T5: 電話
A6: 所在地
A7: 担当部署 | T7: 担当者名
A8: 事業内容
A9: 契約期間 | I9: （和暦）令和 | P9: 年 | T9: 月 | V9: ～ | X9: 令和 | AB9: 年 | AF9: 月
A10: 契約金額 | T10: 円（税込）
A11: 委託・外注内容
A12: 納品予定物、成果物
A13: 選定理由
A14: 上記委託・外注先は、自社と資本関係、役員又は従業員の兼務、自社の代表者３親等以内の親族による経営ではない | AB14: 選択してください
A16: 経費番号 | E16: 委- | I16: 事業者名
A17: 代表者名 | T17: 電話
A18: 所在地
A19: 担当部署 | T19: 担当者名
A20: 事業内容
A21: 契約期間 | I21: （和暦）令和 | P21: 年 | T21: 月 | V21: ～ | X21: 令和 | AB21: 年 | AF21: 月
A22: 契約金額 | T22: 円（税込）
A23: 委託・外注内容
A24: 納品予定物、成果物
A25: 選定理由
A26: 上記委託・外注先は、自社と資本関係、役員又は従業員の兼務、自社の代表者３親等以内の親族による経営ではない | AB26: 選択してください

Sheet 誓約事項_署名必須
K1: 様式第４
A2: 反社会的勢力排除に関する誓約事項
A3: 「令和8年度製品開発着手支援助成事業」に申請するにあたり、下記について誓約します。
A4: １ 私（法人の場合、当該法人及びその代表者以下各役員をいう。以下同じ。）は、助成金の交付の 申請をするにあたって、また、助成事業の実施期間内および完了後においては、次のいずれにも該当 しないことを誓約いたします。
A5: (１) 暴力団（暴力団員による不当な行為の防止等に関する法律（平成３年法律第77号。以下「暴力団 対策法」という。）第２条第２号に規定する暴力団をいう。以下同じ。） (２) 暴力団員（暴力団対策法第２条第６号に規定する暴力団員をいう。以下同じ。） (３) 暴力団準構成員（暴力団員以外の暴力団と関係を有する者であって、暴力団の威力を背景に暴力 的不法行為等を行うおそれがあるもの、または暴力団もしくは暴力団員に対し資金、武器等の供給 を行うなど暴力団の維持もしくは運営に協力し、もしくは関与するものをいう。以下同じ。） (４) 暴力団関係企業（暴力団員が実質的にその経営に関与している企業、暴力団準構成員もしくは元 暴力団員が経営する企業で暴力団に資金提供を行う等暴力団の維持もしくは運営に積極的に協 力しもしくは関与するもの、または業務の遂行等において積極的に暴力団を利用し、暴力団の維持 もしくは運営に協力している企業をいう。） (５) 総会屋等（総会屋その他企業を対象に不正な利益を求めて暴力的不法行為等を行うおそれがあり、 市民生活の安全に脅威を与える者をいう。） (６) 社会運動等標ぼうゴロ（社会運動もしくは政治活動を仮装し、または標ぼうして、不正な利益を求 めて暴力的不法行為等を行うおそれがあり、市民生活の安全に脅威を与える者をいう。） (７) 特殊知能暴力集団等（暴力団との関係を背景に、その威力を用い、または暴力団と資金的な繋がり を有し、構造的な不正の中核となっている集団または個人をいう。） (８) 準暴力団等（暴力団と同程度の明確な組織性は有しないものの、暴力団等の犯罪組織との密接な 関係がうかがわれる者） (９) 匿名・流動型犯罪グループ（SNSや求人サイト等を利用して実行犯を募集する手口により特殊詐欺 等を広域的に敢行するなどの集団） (10) 前各号に掲げる者と次のいずれかに該当する関係にある者（共生者） イ 前各号に掲げる者が自己の事業または自社の経営を支配していると認められること ロ 前各号に掲げる者が自己の事業または自社の経営に実質的に関与していると認められること ハ 自己、自社もしくは第三者の不正の利益を図る目的または第三者に損害を加える目的をもって前 各号に掲げる者を利用したと認められること ニ 前各号に掲げる者に資金等を提供し、または便宜を供与するなどの関与をしていると認められる こと ホ 前各号に掲げる者と役員または経営に実質的に関与している者が、社会的に非難されるべき関係 にあると認められること (11) その他前各号に準ずる者
A8: ２ 私は、自らまたは第三者を利用して次の各号の一にでも該当する行為を行わないことを誓約いたし ます。 (１) 暴力的な要求行為 (２) 助成金事業において募集要項・交付決定通知書・事務の手引きに定めるところを超えた不当な要 求行為 (３) 公社に関して、脅迫的な言動をし、または暴力を用いる行為 (４) 風説を流布し、偽計を用いまたは威力を用いて公社の信用を毀損し、または公社の業務を妨害する 行為
A12: ３ 私が第１項及び第２項の誓約に反したとき、公社の実施する一切の事業等から排除され、これによっ て不利益を被ることとなっても一切異議を申し立てず、公社になんらの請求もしません。
K13: 以上
D14: 誓約日 | F14: 年 | H14: 月 | J14: 日
D15: 事業者名
D16: 代表者名
