Workbook

Sheet 基本情報
A1: 令和８年度地域医療勤務環境改善体制整備特別事業 担当者等について
B2: ※黄色セルに入力してください。
B3: 補助事業者について | J3: 補助金担当者について | O3: 交付申請書
B4: 交付申請書（別記第１号様式）に記載する内容をご記載ください。 | J4: 提出された資料の確認連絡にご対応いただける方についてご記載ください。 | O4: 交付申請書に反映される情報です
B5: 法人名 | C5: 法人所在地 | D5: 開設者職氏名 | E5: 病院長への委任 | F5: 医療機関名 | G5: 医療機関所在地 | H5: 代表者（管理者）職氏名 | I5: 医療機関コード | J5: 部署 | K5: 役職 | L5: 氏名 | M5: 電話番号 | N5: メールアドレス | O5: 交付申請日 | P5: 貴院における文書番号 | Q5: 交付申請額
A6: 回答欄 | Q6: ='別記第１号様式（交付申請書）'!F25 -> 0

Sheet 様式１
C2: 様式１
C3: 地域医療勤務環境改善体制整備特別事業申請書
C4: ※黄色セルに入力してください。
C5: 基本情報
C6: 医療機関名 | G6: =基本情報!F6 -> 0
C7: 医療機関コード | G7: =基本情報!I6 -> 0
C8: 所在地 | G8: =基本情報!G6 -> 0
C9: 代表者（管理者）名 | G9: =基本情報!H6 -> 0
C10: 担当者役職 | G10: =基本情報!K6 -> 0
C11: 担当者氏名 | G11: =基本情報!L6 -> 0
C12: 電話番号 | G12: =基本情報!M6 -> 0
C13: メールアドレス | G13: =基本情報!N6 -> 0
C14: ※医療機関コードは、レセプト請求で使用する10桁の番号（「都道府県番号（2桁）」＋「点数区分番号（1桁）（医科：“１”）」＋「医療機関番号（7桁）」）。医療機関番号（7桁）は地方厚生局ホームページでご確認が可能。
C16: １．交付要件について
C17: （１）当該事業に係る最大使用病床数
C18: 医療法上の病床種別（病床機能報告により都道府県へ報告している最大使用病床数）
C19: 一般病床 | F19: その他（※） | I19: 合計
F20: - | I20: =IF(SUM(C20:H20)=0,"",SUM(C20:H20))
C21: ※精神科救急を根拠とする場合は同報告と同時点の精神病床数とする。
C23: （２）前年度の時間外・休日労働時間の実績
C24: 年720時間超～960時間以下の 医師数 | F24: 年960時間超の医師数（※） | I24: 合計
I25: =IF(SUM(C25:H25)=0,"",SUM(C25:H25))
C26: ※医師数を記入する場合は、自院以外の副業・兼業先の労働時間も通算して年960時間超の医師数とする。
C28: ２．更なる労働時間短縮の取組について（算定方法等）
C29: 更なる労働時間短縮の取組（第７算定方法の４関係）について ・（１）、（２）のいずれかの条件を満たす場合、１床当たりの標準単価266千円まで可とするため、いずれかに該当する項目について記入すること。
C30: （１）大学病院改革プラン策定の有無 （大学病院本院のみ対象）
C33: （２）①Ｂ、連携Ｂ水準医師のうち36協定において締結した年の最大時間
C34: Ｂ水準 | H34: 連携Ｂ水準
C37: ②面接指導養成講習を修了している者について（数字だけ記入）
C38: 面接指導実施医師数 | F38: 特定対象医師数 (特例水準の医師数) | I38: 特定対象医師10人当たり 面接指導実施医師数
I39: =IFERROR(C39/(F39/10),"")
C42: ３．対象事業に関する情報
C43: （１）常勤換算医師数（※）
C44: 一般病床の許可病床数 | F44: 医師数（非常勤含む） | I44: 100床あたりの常勤換算医師数
I45: =IFERROR(F45/C45*100,"")
C46: ※病床機能報告により都道府県へ報告している最大使用病床数
C48: （２）基幹型臨床研修病院、専門研修基幹施設
C49: 基幹型臨床研修病院の該当性の有無 | H49: 基本１９領域のいずれかの領域における 専門研修基幹施設である領域数
C53: 下表①～⑤の内訳について（最も合致する経費を一つ選択し下表に入力すること）
C54: ①タスク・シフト／シェア
...

Sheet 様式２
A1: 様式２
A3: 勤務医の負担の軽減及び処遇の改善に資する体制
A5: 新規申請時の状況について記載する事項
A6: ※黄色セルに入力してください。□には、適合する場合「〇」を記入してください。
A8: （１） 勤務医の勤務時間及び当直を含めた夜間の勤務状況の把握
B9: ア 医療機関に勤務する医師数 | H9: 常勤： | J9: 名 | N9: 非常勤： | P9: 名
B10: （令和 | D10: 年 | F10: 月末時点） | H10: 宿日直（＊１）を担当する医師数： | M10: 名 | N10: （うち非常勤 | Q10: 名）
J11: ＊１ 宿日直については、平日の平均的な１日における体制を記載すること）
B12: イ 勤務医の勤務状況の把握等（令和 | H12: 年 | J12: 月末時点）
C13: (ア) 勤務時間の具体的な把握方法（該当する事項に〇すること） 複数回答可
E14: ＩＣカード
E15: タイムカード
E16: PCのログ情報や電子カルテのログ情報を用いた労働時間管理
E17: 出席簿又は管理簿等の用紙による記録（上司等による客観的な確認あり）
E18: その他
E19: （具体的に： | K19: ）
C20: (イ) 勤務時間以外についての勤務状況（＊２）の把握内容（該当する事項に〇すること）複数回答可
E21: 年次有給休暇取得率
E22: 時短勤務実施者（＊３）数
E23: 育児休業・介護休業の取得率
E24: その他
E25: （具体的に： | K25: ）
E26: ＊２ 前年度の実績を記載。
E27: ＊３ 所定労働時間をあらかじめ減じた勤務体制としている者
C28: （ウ） 超過勤務時間（時間／月）（＊４）
D29: 平均： | F29: 時間／月 | K29: 80時間／月以上の者の人数： | P29: 名
D30: 最大： | F30: 時間／月 | K30: 155時間／月以上の者の人数： | P30: 名
D31: 最小： | F31: 時間／月
E32: ＊４ 常勤医における値を記載。
E33: ＊４ 超過勤務時間： 法定休日以外の日において１日につき８時間を超えて労働した時間並びに１週について40時間を超えて
E34: 労働した時間数及び法定休日（週に１日、又は、４週につき４日付与する義務あり）において労働した時間の総和
C35: （エ） 宿日直（回／月）
D36: 平均： | F36: 回／月
D37: 最大： | F37: 回／月
D38: 最小： | F38: 回／月
D39: 連日宿日直を実施した者の人数及び回数： | K39: 名・のべ | M39: 回
C41: （オ） その他（自由記載・補足等）
A45: （２） 勤務医の負担の軽減及び処遇の改善に資する体制
B46: ア 特定労務対象医療機関の指定（該当する事項に全て〇すること）
D47: 特定地域医療提供機関 【Ｂ水準】
...

Sheet 交付要件確認
E3: 地域医療勤務環境改善体制整備特別事業 交付要件確認
K6: =基本情報!$F$6 -> 0
O7: ※黄色セルに入力してください。
A8: 医療機関CD | B8: 医療機関名 | C8: No | D8: ＜交付要件＞
A9: =基本情報!$I$6 -> 0 | B9: =基本情報!$F$6 -> 0 | C9: 共通 | D9: ① | E9: 年の時間外・休日労働が 720 時間を超え、960 時間以下の医師を雇用している | Q9: =COUNTIF(P9:P11,"○")+COUNTIF(P18:P18,"○") -> 0
A10: =基本情報!$I$6 -> 0 | B10: =基本情報!$F$6 -> 0 | C10: 共通 | D10: ② | E10: 労働基準法第 36 条に規定される労働組合又は労働者の代表と結ぶ協定（36 協定）において、全員又は一部の医師の年の時間外・休日労働時間の上限が 720 時間を超えている | Q10: =COUNTIF(P9:P11,"○") -> 0
A11: =基本情報!$I$6 -> 0 | B11: =基本情報!$F$6 -> 0 | C11: 共通 | D11: ③ | E11: 医師の労働時間短縮に向けた取組として、医療機関が作成した「医師労働時間短縮計画」に基づく取組を総合的に実施している
A12: =基本情報!$I$6 -> 0 | B12: =基本情報!$F$6 -> 0 | C12: 体制 | D12: ④ | E12: 救急医療に係る実績として、救急用の自動車又は救急医療用ヘリコプターによる搬送件数が、年間で 1,000 件以上 2,000 件未満である | Q12: =COUNTIF(P12:P14,"○") -> 0
A13: =基本情報!$I$6 -> 0 | B13: =基本情報!$F$6 -> 0 | C13: 体制 | D13: ⑤ | E13: 救急医療に係る実績として、救急用の自動車又は救急医療用ヘリコプターによる搬送件数が、年間で 1,000 件未満であり、夜間・休日・時間外入院件数が、年間で 500 件以上である
A14: =基本情報!$I$6 -> 0 | B14: =基本情報!$F$6 -> 0 | C14: 体制 | D14: ⑥ | E14: 救急医療に係る実績として、救急用の自動車又は救急医療用ヘリコプターによる搬送件数が、年間で 1,000 件未満であり、離島、へき地等で、同一医療圏に他に救急対応可能な医療機関が存在しないなど、特別な理由が存在する
A15: =基本情報!$I$6 -> 0 | B15: =基本情報!$F$6 -> 0 | C15: 体制 | D15: ⑦ | E15: 周産期医療、小児救急医療機関、精神科救急等、公共性と不確実性が強く働く医療を提供している | Q15: =COUNTIF(P15:P17,"○") -> 0
A16: =基本情報!$I$6 -> 0 | B16: =基本情報!$F$6 -> 0 | C16: 体制 | D16: ⑧ | E16: 脳卒中や心筋梗塞等の心血管疾患の急性期医療を担う医療機関であって、一定の実績と役割がある場合など、５疾病６事業で重要な医療を提供している
A17: =基本情報!$I$6 -> 0 | B17: =基本情報!$F$6 -> 0 | C17: 体制 | D17: ⑨ | E17: その他在宅医療において特に積極的な役割を担う医療機関
A18: =基本情報!$I$6 -> 0 | B18: =基本情報!$F$6 -> 0 | C18: 体制 | D18: ⑩ | E18: 地域医療体制確保加算を取得していない
A19: =基本情報!$I$6 -> 0 | B19: =基本情報!$F$6 -> 0 | C19: 特別 | D19: ④ | E19: 基幹型臨床研修病院又は基本 19 領域の いずれかの領域における専門研修基幹施設であって、「一般病床の許可病床数 100 床あたりの常勤換算医師数が 40 人以上」かつ「常勤換算医師数が 40 人以上」である | Q19: =COUNTIF(P19:P20,"○") -> 0
A20: =基本情報!$I$6 -> 0 | B20: =基本情報!$F$6 -> 0 | C20: 特別 | D20: ⑤ | E20: 地域医療に特別な役割を担う医療機関のうち、基幹型臨床研修病院かつ基本 19 領域のうち 10 以上の領域において専門研修基幹施設である
A21: =基本情報!$I$6 -> 0 | B21: =基本情報!$F$6 -> 0
A22: =基本情報!$I$6 -> 0 | B22: =基本情報!$F$6 -> 0 | D22: ＜基準額算出＞
A23: =基本情報!$I$6 -> 0 | B23: =基本情報!$F$6 -> 0 | D23: ○ | E23: 病床機能報告により都へ報告している最大使用病床数（療養病床除く） | J23: =様式１!I20 | K23: 床 ※厚生労働省HPの公表値（令和７年度値）
A24: =基本情報!$I$6 -> 0 | B24: =基本情報!$F$6 -> 0 | C24: 共通 | D24: ○ | E24: 特例水準Ｂ・連携Ｂの医師について、令和６年度の時間外・休日労働時間が、1,860時間を超過する医師がいなかった | L24: =IF(AND(様式１!C35="",様式１!H35=""),"",IF(AND(様式１!C35<1860,様式１!H35<1860),"○",""))
A25: =基本情報!$I$6 -> 0 | B25: =基本情報!$F$6 -> 0 | C25: 共通 | D25: ○ | E25: 面接指導養成講習を修了している者が、３人以上又は 特定対象医師10人あたり１人以上いる | L25: =IF(AND(様式１!C39<>"",様式１!I39<>""),IF(OR(様式１!C39>=3,様式１!I39>=1),"○",""),"")
A26: =基本情報!$I$6 -> 0 | B26: =基本情報!$F$6 -> 0 | C26: 特別 | D26: ○ | E26: 「大学病院改革ガイドライン」に基づき、「大学病院改革プラン」を策定した大学病院本院である | L26: =IF(様式１!C31="有り","○","")
A27: =基本情報!$I$6 -> 0 | B27: =基本情報!$F$6 -> 0 | I27: 基準単価 | J27: =IF(OR(L24="○",L25="○",L26="○"),266000,133000) -> 133000 | N27: 交付要件判定
A28: =基本情報!$I$6 -> 0 | B28: =基本情報!$F$6 -> 0 | I28: 補助基準額 | J28: =IFERROR(J23*J27,0) -> 0 | N28: =IF(AND(交付要件確認!Q10=3,交付要件確認!Q19>=1),"要件を満たしています。別紙１－１と、別紙１の寄付金その他収入額を入力してください","交付要件を満たしていませんのでご確認ください") -> 交付要件を満たしていませんのでご確認ください

Sheet 別紙１－１（所要額明細書）
D1: 別紙１－１
E3: 地域医療勤務環境改善体制整備特別事業 所要額明細書
J7: 施設名： | K7: =基本情報!$F$6 -> 0
A9: 医療機関CD | B9: 医療機関名 | C9: No | E9: ※黄色セルに入力してください。
A10: =基本情報!$I$6 -> 0 | B10: =基本情報!$F$6 -> 0 | C10: 1 | D10: No | E10: 費用科目 | F10: 区分 | G10: 支出内訳（品目） | H10: 数量 | I10: 単価 | J10: 事業費（円） | K10: 算出内訳（規格等） | L10: 添付書類 | N10: 時短対象診療科 | O10: 導入効果 | P10: 時短計画記載箇所
A11: =基本情報!$I$6 -> 0 | B11: =基本情報!$F$6 -> 0 | C11: 2 | L11: 積算詳細 | M11: 証憑書類
A12: =基本情報!$I$6 -> 0 | B12: =基本情報!$F$6 -> 0 | C12: 3 | D12: 1 | E12: 資産形成経費以外 | J12: =H12*I12 -> 0
A13: =基本情報!$I$6 -> 0 | B13: =基本情報!$F$6 -> 0 | C13: 4 | D13: 2 | J13: =H13*I13 -> 0
A14: =基本情報!$I$6 -> 0 | B14: =基本情報!$F$6 -> 0 | C14: 5 | D14: 3 | J14: =H14*I14 -> 0
A15: =基本情報!$I$6 -> 0 | B15: =基本情報!$F$6 -> 0 | C15: 6 | D15: 4 | J15: =H15*I15 -> 0
A16: =基本情報!$I$6 -> 0 | B16: =基本情報!$F$6 -> 0 | C16: 7 | D16: 5 | J16: =H16*I16 -> 0
A17: =基本情報!$I$6 -> 0 | B17: =基本情報!$F$6 -> 0 | C17: 8 | D17: 6 | J17: =H17*I17 -> 0
A18: =基本情報!$I$6 -> 0 | B18: =基本情報!$F$6 -> 0 | C18: 9 | D18: 7 | J18: =H18*I18 -> 0
A19: =基本情報!$I$6 -> 0 | B19: =基本情報!$F$6 -> 0 | C19: 10 | D19: 8 | J19: =H19*I19 -> 0
A20: =基本情報!$I$6 -> 0 | B20: =基本情報!$F$6 -> 0 | C20: 11 | D20: 9 | J20: =H20*I20 -> 0
A21: =基本情報!$I$6 -> 0 | B21: =基本情報!$F$6 -> 0 | C21: 12 | D21: 10 | J21: =H21*I21 -> 0
A22: =基本情報!$I$6 -> 0 | B22: =基本情報!$F$6 -> 0 | C22: 13 | D22: 11 | J22: =H22*I22 -> 0
A23: =基本情報!$I$6 -> 0 | B23: =基本情報!$F$6 -> 0 | C23: 14 | D23: 12 | J23: =H23*I23 -> 0
A24: =基本情報!$I$6 -> 0 | B24: =基本情報!$F$6 -> 0 | C24: 15 | D24: 13 | J24: =H24*I24 -> 0
... A26: =基本情報!$I$6 -> 0 | B26: =基本情報!$F$6 -> 0 | C26: 17 | D26: 15 | J26: =H26*I26 -> 0
A27: =基本情報!$I$6 -> 0 | B27: =基本情報!$F$6 -> 0 | C27: 18 | E27: 小計 | J27: =SUM(J12:J26) -> 0
A28: =基本情報!$I$6 -> 0 | B28: =基本情報!$F$6 -> 0 | C28: 19 | D28: No | E28: 費用科目 | F28: 区分 | G28: 支出内訳（品目） | H28: 数量 | I28: 単価 | J28: 事業費（円） | K28: 算出内訳（規格等） | L28: 添付書類 | N28: 時短対象診療科 | O28: 導入効果 | P28: 時短計画記載箇所
A29: =基本情報!$I$6 -> 0 | B29: =基本情報!$F$6 -> 0 | C29: 20 | L29: 見積書 | M29: カタログ
A30: =基本情報!$I$6 -> 0 | B30: =基本情報!$F$6 -> 0 | C30: 21 | D30: 1 | E30: 資産形成経費 | J30: =H30*I30 -> 0
A31: =基本情報!$I$6 -> 0 | B31: =基本情報!$F$6 -> 0 | C31: 22 | D31: 2 | J31: =H31*I31 -> 0
A32: =基本情報!$I$6 -> 0 | B32: =基本情報!$F$6 -> 0 | C32: 23 | D32: 3 | J32: =H32*I32 -> 0
A33: =基本情報!$I$6 -> 0 | B33: =基本情報!$F$6 -> 0 | C33: 24 | D33: 4 | J33: =H33*I33 -> 0
A34: =基本情報!$I$6 -> 0 | B34: =基本情報!$F$6 -> 0 | C34: 25 | D34: 5 | J34: =H34*I34 -> 0
A35: =基本情報!$I$6 -> 0 | B35: =基本情報!$F$6 -> 0 | C35: 26 | D35: 6 | J35: =H35*I35 -> 0
A36: =基本情報!$I$6 -> 0 | B36: =基本情報!$F$6 -> 0 | C36: 27 | D36: 7 | J36: =H36*I36 -> 0
A37: =基本情報!$I$6 -> 0 | B37: =基本情報!$F$6 -> 0 | C37: 28 | D37: 8 | J37: =H37*I37 -> 0
A38: =基本情報!$I$6 -> 0 | B38: =基本情報!$F$6 -> 0 | C38: 29 | D38: 9 | J38: =H38*I38 -> 0
A39: =基本情報!$I$6 -> 0 | B39: =基本情報!$F$6 -> 0 | C39: 30 | D39: 10 | J39: =H39*I39 -> 0
A40: =基本情報!$I$6 -> 0 | B40: =基本情報!$F$6 -> 0 | C40: 31 | D40: 11 | J40: =H40*I40 -> 0
A41: =基本情報!$I$6 -> 0 | B41: =基本情報!$F$6 -> 0 | C41: 32 | D41: 12 | J41: =H41*I41 -> 0
A42: =基本情報!$I$6 -> 0 | B42: =基本情報!$F$6 -> 0 | C42: 33 | D42: 13 | J42: =H42*I42 -> 0
... A44: =基本情報!$I$6 -> 0 | B44: =基本情報!$F$6 -> 0 | C44: 35 | D44: 15 | J44: =H44*I44 -> 0
A45: =基本情報!$I$6 -> 0 | B45: =基本情報!$F$6 -> 0 | C45: 36 | E45: 小計 | J45: =SUM(J30:J44) -> 0
A46: =基本情報!$I$6 -> 0 | B46: =基本情報!$F$6 -> 0 | C46: 37 | E46: 合計 | J46: =J27+J45 -> 0
E47: ※ 取組内容の一部が他の補助事業と重複する場合は、他の補助事業で計上している経費については、当該事業の対象経費に含めないこと。

Sheet 別紙１（経費所要額調）
C1: 別紙１
C3: 経 費 所 要 額 調
J5: =B12 -> 0
D7: ※黄色セルに入力してください。 | K7: （円） | M7: （円）
A8: 医療機関CD | B8: 医療機関名 | C8: 区分 | E8: 総事業費 | F8: 寄附金その他の収入額 | G8: 差引額 ※対象経費の支出額 | I8: 基準額 | J8: 選定額 | K8: 都補助額 | L8: 既交付決定額 | M8: 実績報告額
H9: 調整後 | M9: (確定交付額)
E10: Ａ | F10: Ｂ | G10: Ｃ(Ａ－Ｂ) | H10: Ｄ | I10: Ｅ | J10: Ｆ | K10: Ｇ | L10: Ｊ | M10: Ｋ
A11: =基本情報!$I$6 -> 0 | B11: =基本情報!$F$6 -> 0 | C11: 地域医療勤務環境改善 体制整備特別事業 | E11: =SUM(E12:E13) -> 0 | F11: =SUM(F12:F13) -> 0 | G11: =SUM(G12:G13) -> 0 | H11: =SUM(H12:H13) -> 0 | I11: =交付要件確認!J28 -> 0 | J11: - | K11: =SUM(K12:K13) -> 0 | L11: =SUM(L12:L13) -> 0 | M11: =SUM(M12:M13) -> 0
A12: =基本情報!$I$6 -> 0 | B12: =基本情報!$F$6 -> 0 | D12: 資産形成経費以外 | E12: ='別紙１－１（所要額明細書）'!J27 -> 0 | G12: =E12-F12 -> 0 | H12: =G12 -> 0 | I12: =I11-I13 -> 0 | J12: =MIN(H12,I12) -> 0 | K12: =ROUNDDOWN(J12,-3) -> 0 | M12: =MIN(K12,L12) -> 0
A13: =基本情報!$I$6 -> 0 | B13: =基本情報!$F$6 -> 0 | D13: 資産形成経費 | E13: ='別紙１－１（所要額明細書）'!J45 -> 0 | G13: =E13-F13 -> 0 | H13: =G13*9/10 -> 0 | I13: =IF(IFERROR(ROUND(I11*H13/H11,-3),0)<L13,L13,IFERROR(ROUND(I11*H13/H11,-3),0)) -> 0 | J13: =MIN(H13,I13) -> 0 | K13: =ROUNDDOWN(J13,-3) -> 0 | M13: =MIN(K13,L13) -> 0
C15: ※「差引額」の「調整後」欄には、（Ｃ）に補助率（資産形成経費以外は10分の10、資産形成経費は10分の9）を乗じた額を記入すること。
C16: ※「基準額」は、病床機能報告により都へ報告している最大使用病床数（療養病床除く）×133千円とすること。 ただし、要件を満たした場合は266千円とする。
C17: ※「選定額」欄には、（Ｄ）と（Ｅ）とを比較して少ない方の額を記入すること。
C18: ※「都補助額」欄には、選定額（Ｆ）の1,000円未満を切り捨てた額を記入すること。

Sheet 別記第１号様式（交付申請書）
A1: 別記第１号様式
H4: =基本情報!P6 -> 0
H5: =基本情報!O6 -> 0
B8: 東京都知事 殿
E10: 法人所在地 | G10: : | H10: =基本情報!C6 -> 0
E11: 事業者所在地 | G11: : | H11: =基本情報!G6 -> 0
E12: 法人名・事業者名 | G12: : | H12: =基本情報!B6&" "&基本情報!F6
E13: 代表者職氏名 | G13: : | H13: =IF(基本情報!E6="あり",基本情報!H6,基本情報!D6) -> 0
A16: 令和８年度地域医療勤務環境改善体制整備特別事業補助金交付申請書
A19: このことについて、下記により補助金交付の申請をいたします。
A22: 記
B25: １ 補助申請額 | F25: ='別紙１（経費所要額調）'!K11 -> 0
B27: ２ 経費所要額調（別紙１）
B29: ３ 所要額明細書（別紙１－１）
B31: ４ 地域医療勤務環境改善体制整備特別事業申請書（様式１）
B33: ５ 勤務医の負担の軽減及び処遇の改善に資する体制（様式２）
B35: ６ 添付書類
B36: （１）当該事業に係る歳入歳出予算書の抄本
B37: （２）その他参考資料

Sheet 予算書抄本
C1: 令和８年度地域医療勤務環境改善体制整備特別事業に係る歳入歳出予算書抄本
A3: 医療機関CD | B3: 医療機関名 | C3: 収入の部 | G3: 支出の部
A4: =基本情報!$I$6 -> 0 | B4: =基本情報!$F$6 -> 0 | C4: 補助金 | D4: ='別紙１（経費所要額調）'!K11 -> 0 | E4: 円 | G4: 総事業費 | H4: ='別紙１（経費所要額調）'!E11 -> 0 | I4: 円
A5: =基本情報!$I$6 -> 0 | B5: =基本情報!$F$6 -> 0 | C5: 寄付金その他の収入額 | D5: ='別紙１（経費所要額調）'!F11 -> 0 | E5: 円
A6: =基本情報!$I$6 -> 0 | B6: =基本情報!$F$6 -> 0 | C6: 自己負担 | D6: =H7-D5-D4 -> 0 | E6: 円
A7: =基本情報!$I$6 -> 0 | B7: =基本情報!$F$6 -> 0 | C7: 合計 | D7: =SUM(D4:D6) -> 0 | E7: 円 | G7: 合計 | H7: =H4 -> 0 | I7: 円
A8: =基本情報!$I$6 -> 0 | B8: =基本情報!$F$6 -> 0
A9: =基本情報!$I$6 -> 0 | B9: =基本情報!$F$6 -> 0 | C9: 上記のとおり相違ありません。
A10: =基本情報!$I$6 -> 0 | B10: =基本情報!$F$6 -> 0
A11: =基本情報!$I$6 -> 0 | B11: =基本情報!$F$6 -> 0 | D11: ='別記第１号様式（交付申請書）'!H5 -> 0
A12: =基本情報!$I$6 -> 0 | B12: =基本情報!$F$6 -> 0
A13: =基本情報!$I$6 -> 0 | B13: =基本情報!$F$6 -> 0 | D13: 法人所在地 | F13: ： | G13: ='別記第１号様式（交付申請書）'!H10 -> 0
A14: =基本情報!$I$6 -> 0 | B14: =基本情報!$F$6 -> 0 | D14: 事業者所在地 | F14: ： | G14: ='別記第１号様式（交付申請書）'!H11 -> 0
A15: =基本情報!$I$6 -> 0 | B15: =基本情報!$F$6 -> 0 | D15: 法人名・事業者名 | F15: ： | G15: ='別記第１号様式（交付申請書）'!H12
A16: =基本情報!$I$6 -> 0 | B16: =基本情報!$F$6 -> 0 | D16: 代表者職氏名 | F16: ： | G16: ='別記第１号様式（交付申請書）'!H13 -> 0

Sheet 委任状
A3: 委 任 状
A7: 私は、下記の者を代理人と定め、令和８年度地域医療勤務環境改善体制整備特別
A8: 事業についての受領、返納及び精算に関する一切の権限を委任します。
A12: １．委任期間
B14: =基本情報!O6 -> 0 | D14: から | E14: 46112 | G14: まで
B15: ※ただし、その年度に属する出納整理期間を含む。
A18: ２．委任者使用口座
B20: 東京都からの支払金については、口座振替により受領することを希望します。
B21: ついては、ｊＧｒａｎｔｓの申請フォームにて指定した口座に、口座振替の方法を
B22: もって振り込んでください。
I27: =B14 -> 0
B31: 東京都知事 殿
B34: （委任者）
B36: 法人名 | E36: =基本情報!B6 -> 0
B38: 住所 | E38: =基本情報!C6 -> 0
B40: 代表者 役職・氏名 | E40: =基本情報!D6 -> 0
B43: （受任者）
B45: 医療機関名 | E45: =基本情報!F6 -> 0
B47: 住所 | E47: =基本情報!G6 -> 0
B49: 代表者 役職・氏名 | E49: =基本情報!H6 -> 0
