Workbook

Sheet ReadME
B2: 【共同申請｜個別パート】 ■本資料は共同申請を行う場合に利用いただく資料です。 ■本資料については、共同事業者（幹事会社及び共同事業者）にて個別に提出いただきます。 提出方法は公募要領やチェックシートの「【重要】提出方法について」を参照すること。 ■別添２（別添２配下の資料含む）については、補助事業の区分ごとに作成するシートが異なります。 ・燃料転換、構造転換（燃料転換） ：【燃料転換】の記載があるものを作成ください。（薄オレンジのタブ） ・製造プロセス転換、構造転換（製造プロセス転換） ：【製造プロセス】の記載があるものを作成ください。（薄緑のタブ） （注意事項） 意図せず機微情報が共同事業者間で共有されてしまった場合も、事務局は一切その責任を負いません。 あらかじめご了承ください。

Sheet 【燃料転換】入力補助シート
A1: 入力補助シート
B3: <事業者ごとの経費明細>及び<共通製品の収支計画と自社の配分割合>について、もれなく入力すること。
B6: <事業者毎の経費明細>
C7: 「【共同申請｜共通パート】様式第３別添１・２」より、別添１経費明細シートから、自社の経費明細を転記してください（値貼り付けすること）。
E9: （単位：円）
E10: 社名：○○
C11: 経費区分 | D11: 事業期間 | E11: （A）間接補助事業に要する経費（税抜） | F11: （B）補助対象経費 （税抜） | G11: （C）補助金交付申請額 | H11: （D）補助対象外経費（税抜）
C12: 設計費 | D12: 2026
C13: =C12 -> 設計費 | D13: 2027
C14: =C13 -> 設計費 | D14: 2028
C15: =C14 -> 設計費 | D15: 2029
C16: =C15 -> 設計費 | D16: 2030
C17: =C16 -> 設計費 | D17: 合計
C18: 建物等取得費 | D18: 2026
C19: =C18 -> 建物等取得費 | D19: 2027
C20: =C19 -> 建物等取得費 | D20: 2028
C21: =C20 -> 建物等取得費 | D21: 2029
C22: =C21 -> 建物等取得費 | D22: 2030
C23: =C22 -> 建物等取得費 | D23: 合計
C24: 設備費 | D24: 2026
C25: =C24 -> 設備費 | D25: 2027
C26: =C25 -> 設備費 | D26: 2028
C27: =C26 -> 設備費 | D27: 2029
C28: =C27 -> 設備費 | D28: 2030
C29: =C28 -> 設備費 | D29: 合計
C30: システム整備費 | D30: 2026
C31: =C30 -> システム整備費 | D31: 2027
C32: =C31 -> システム整備費 | D32: 2028
C33: =C32 -> システム整備費 | D33: 2029
C34: =C33 -> システム整備費 | D34: 2030
C35: =C34 -> システム整備費 | D35: 合計
C36: その他 | D36: 2026
C37: その他 | D37: 2027
C38: その他 | D38: 2028
C39: その他 | D39: 2029
C40: その他 | D40: 2030
C41: その他 | D41: 合計
C42: 合計 | D42: 2026
C43: 合計 | D43: 2027
C44: 合計 | D44: 2028
...

Sheet 【燃料転換】別添２_収支計画（各社）個別
A1: 別添２（燃料転換又は構造転換（燃料転換）の区分で申請する場合のみ提出）
B3: ■収支計画
D6: 提出日 ：
D7: 事業者名：
D8: 商用開始年度：
D9: 間接補助事業完了日：
D10: 間接補助事業完了日
D11: を含む事業年度：
F13: （単位：千円）
F14: 間接補助事業期間＋事業化報告期間
F15: 間接補助事業開始
F16: ２０２６年度 | G16: ２０２７年度 | H16: ２０２８年度 | I16: ２０２９年度 | J16: ２０３０年度 | K16: ２０３１年度 | L16: ２０３２年度 | M16: ２０３３年度 | N16: ２０３４年度 | O16: ２０３５年度
B18: <間接補助事業にかかる財務数値>
C19: ■収支計画（間接補助事業における数値）
C20: 1 売上高、2 売上総利益、3 営業利益、4 減価償却費、6 他制度による収益等について、補助対象事業の不確実性を前提とした上で、一定の仮定に基づき以下の点に留意しつつ記載ください。
C21: ・一部については「別添１_経費明細」や「別添２_収支計画（製品別）_燃料転換用」で入力された内容が自動集計されます。特に1～3はグリーン化する製品別の収支計画の合計です（※原価計算にあたり他のコストも考慮する場合等は適宜補足資料等でご説明ください）。
C22: ・提案時点での数字や内容は必ずしも正確である必要はなく、対象製品の収益化・事業成長の見通し・スケジュール（当初計画）を確認するものです。
C23: ・今後、業務実施期間中のモニタリングにおいて、当該情報をアップデートした上で、定期的に確認を行う予定です。
C24: ・価値提供・収益化等については、「他制度による収益等」として、政府・公的機関による規制・制度的措置等に関する一定の見通し（CO2価格等）に基づき記載することで差し支えありません。
C25: ・本別添の計算過程は、様式第３「⑤ア 経済的基準」における投資判断基準の導出過程に使用することも想定しています。
D26: 1 | E26: 売上高 | F26: ='【燃料転換】別添２－２_製品別計画（各社｜共通製品）個別'!F26+'【燃料転換】別添２－３_製品別計画（各社｜個社製品）個別'!S30 -> 0 | G26: ='【燃料転換】別添２－２_製品別計画（各社｜共通製品）個別'!G26+'【燃料転換】別添２－３_製品別計画（各社｜個社製品）個別'!T30 -> 0 | H26: ='【燃料転換】別添２－２_製品別計画（各社｜共通製品）個別'!H26+'【燃料転換】別添２－３_製品別計画（各社｜個社製品）個別'!U30 -> 0 | I26: ='【燃料転換】別添２－２_製品別計画（各社｜共通製品）個別'!I26+'【燃料転換】別添２－３_製品別計画（各社｜個社製品）個別'!V30 -> 0 | J26: ='【燃料転換】別添２－２_製品別計画（各社｜共通製品）個別'!J26+'【燃料転換】別添２－３_製品別計画（各社｜個社製品）個別'!W30 -> 0 | K26: ='【燃料転換】別添２－２_製品別計画（各社｜共通製品）個別'!K26+'【燃料転換】別添２－３_製品別計画（各社｜個社製品）個別'!X30 -> 0 | L26: ='【燃料転換】別添２－２_製品別計画（各社｜共通製品）個別'!L26+'【燃料転換】別添２－３_製品別計画（各社｜個社製品）個別'!Y30 -> 0 | M26: ='【燃料転換】別添２－２_製品別計画（各社｜共通製品）個別'!M26+'【燃料転換】別添２－３_製品別計画（各社｜個社製品）個別'!Z30 -> 0 | ... O26: ='【燃料転換】別添２－２_製品別計画（各社｜共通製品）個別'!O26+'【燃料転換】別添２－３_製品別計画（各社｜個社製品）個別'!AB30 -> 0
E27: 売上原価 | F27: ='【燃料転換】別添２－２_製品別計画（各社｜共通製品）個別'!F27+'【燃料転換】別添２－３_製品別計画（各社｜個社製品）個別'!S33 -> 0 | G27: ='【燃料転換】別添２－２_製品別計画（各社｜共通製品）個別'!G27+'【燃料転換】別添２－３_製品別計画（各社｜個社製品）個別'!T33 -> 0 | H27: ='【燃料転換】別添２－２_製品別計画（各社｜共通製品）個別'!H27+'【燃料転換】別添２－３_製品別計画（各社｜個社製品）個別'!U33 -> 0 | I27: ='【燃料転換】別添２－２_製品別計画（各社｜共通製品）個別'!I27+'【燃料転換】別添２－３_製品別計画（各社｜個社製品）個別'!V33 -> 0 | J27: ='【燃料転換】別添２－２_製品別計画（各社｜共通製品）個別'!J27+'【燃料転換】別添２－３_製品別計画（各社｜個社製品）個別'!W33 -> 0 | K27: ='【燃料転換】別添２－２_製品別計画（各社｜共通製品）個別'!K27+'【燃料転換】別添２－３_製品別計画（各社｜個社製品）個別'!X33 -> 0 | L27: ='【燃料転換】別添２－２_製品別計画（各社｜共通製品）個別'!L27+'【燃料転換】別添２－３_製品別計画（各社｜個社製品）個別'!Y33 -> 0 | M27: ='【燃料転換】別添２－２_製品別計画（各社｜共通製品）個別'!M27+'【燃料転換】別添２－３_製品別計画（各社｜個社製品）個別'!Z33 -> 0 | ... O27: ='【燃料転換】別添２－２_製品別計画（各社｜共通製品）個別'!O27+'【燃料転換】別添２－３_製品別計画（各社｜個社製品）個別'!AB33 -> 0
E28: 固定費 | F28: ='【燃料転換】別添２－２_製品別計画（各社｜共通製品）個別'!F28+'【燃料転換】別添２－３_製品別計画（各社｜個社製品）個別'!S34 -> 0 | G28: ='【燃料転換】別添２－２_製品別計画（各社｜共通製品）個別'!G28+'【燃料転換】別添２－３_製品別計画（各社｜個社製品）個別'!T34 -> 0 | H28: ='【燃料転換】別添２－２_製品別計画（各社｜共通製品）個別'!H28+'【燃料転換】別添２－３_製品別計画（各社｜個社製品）個別'!U34 -> 0 | I28: ='【燃料転換】別添２－２_製品別計画（各社｜共通製品）個別'!I28+'【燃料転換】別添２－３_製品別計画（各社｜個社製品）個別'!V34 -> 0 | J28: ='【燃料転換】別添２－２_製品別計画（各社｜共通製品）個別'!J28+'【燃料転換】別添２－３_製品別計画（各社｜個社製品）個別'!W34 -> 0 | K28: ='【燃料転換】別添２－２_製品別計画（各社｜共通製品）個別'!K28+'【燃料転換】別添２－３_製品別計画（各社｜個社製品）個別'!X34 -> 0 | L28: ='【燃料転換】別添２－２_製品別計画（各社｜共通製品）個別'!L28+'【燃料転換】別添２－３_製品別計画（各社｜個社製品）個別'!Y34 -> 0 | M28: ='【燃料転換】別添２－２_製品別計画（各社｜共通製品）個別'!M28+'【燃料転換】別添２－３_製品別計画（各社｜個社製品）個別'!Z34 -> 0 | ... O28: ='【燃料転換】別添２－２_製品別計画（各社｜共通製品）個別'!O28+'【燃料転換】別添２－３_製品別計画（各社｜個社製品）個別'!AB34 -> 0
E29: 変動費 | F29: ='【燃料転換】別添２－２_製品別計画（各社｜共通製品）個別'!F29+'【燃料転換】別添２－３_製品別計画（各社｜個社製品）個別'!S35 -> 0 | G29: ='【燃料転換】別添２－２_製品別計画（各社｜共通製品）個別'!G29+'【燃料転換】別添２－３_製品別計画（各社｜個社製品）個別'!T35 -> 0 | H29: ='【燃料転換】別添２－２_製品別計画（各社｜共通製品）個別'!H29+'【燃料転換】別添２－３_製品別計画（各社｜個社製品）個別'!U35 -> 0 | I29: ='【燃料転換】別添２－２_製品別計画（各社｜共通製品）個別'!I29+'【燃料転換】別添２－３_製品別計画（各社｜個社製品）個別'!V35 -> 0 | J29: ='【燃料転換】別添２－２_製品別計画（各社｜共通製品）個別'!J29+'【燃料転換】別添２－３_製品別計画（各社｜個社製品）個別'!W35 -> 0 | K29: ='【燃料転換】別添２－２_製品別計画（各社｜共通製品）個別'!K29+'【燃料転換】別添２－３_製品別計画（各社｜個社製品）個別'!X35 -> 0 | L29: ='【燃料転換】別添２－２_製品別計画（各社｜共通製品）個別'!L29+'【燃料転換】別添２－３_製品別計画（各社｜個社製品）個別'!Y35 -> 0 | M29: ='【燃料転換】別添２－２_製品別計画（各社｜共通製品）個別'!M29+'【燃料転換】別添２－３_製品別計画（各社｜個社製品）個別'!Z35 -> 0 | ... O29: ='【燃料転換】別添２－２_製品別計画（各社｜共通製品）個別'!O29+'【燃料転換】別添２－３_製品別計画（各社｜個社製品）個別'!AB35 -> 0
E30: うち発電コスト | F30: ='【燃料転換】別添２－２_製品別計画（各社｜共通製品）個別'!F30+'【燃料転換】別添２－３_製品別計画（各社｜個社製品）個別'!S36 -> 0 | G30: ='【燃料転換】別添２－２_製品別計画（各社｜共通製品）個別'!G30+'【燃料転換】別添２－３_製品別計画（各社｜個社製品）個別'!T36 -> 0 | H30: ='【燃料転換】別添２－２_製品別計画（各社｜共通製品）個別'!H30+'【燃料転換】別添２－３_製品別計画（各社｜個社製品）個別'!U36 -> 0 | I30: ='【燃料転換】別添２－２_製品別計画（各社｜共通製品）個別'!I30+'【燃料転換】別添２－３_製品別計画（各社｜個社製品）個別'!V36 -> 0 | J30: ='【燃料転換】別添２－２_製品別計画（各社｜共通製品）個別'!J30+'【燃料転換】別添２－３_製品別計画（各社｜個社製品）個別'!W36 -> 0 | K30: ='【燃料転換】別添２－２_製品別計画（各社｜共通製品）個別'!K30+'【燃料転換】別添２－３_製品別計画（各社｜個社製品）個別'!X36 -> 0 | L30: ='【燃料転換】別添２－２_製品別計画（各社｜共通製品）個別'!L30+'【燃料転換】別添２－３_製品別計画（各社｜個社製品）個別'!Y36 -> 0 | M30: ='【燃料転換】別添２－２_製品別計画（各社｜共通製品）個別'!M30+'【燃料転換】別添２－３_製品別計画（各社｜個社製品）個別'!Z36 -> 0 | ... O30: ='【燃料転換】別添２－２_製品別計画（各社｜共通製品）個別'!O30+'【燃料転換】別添２－３_製品別計画（各社｜個社製品）個別'!AB36 -> 0
D31: 2 | E31: 売上総利益 | F31: ='【燃料転換】別添２－２_製品別計画（各社｜共通製品）個別'!F31+'【燃料転換】別添２－３_製品別計画（各社｜個社製品）個別'!S37 -> 0 | G31: ='【燃料転換】別添２－２_製品別計画（各社｜共通製品）個別'!G31+'【燃料転換】別添２－３_製品別計画（各社｜個社製品）個別'!T37 -> 0 | H31: ='【燃料転換】別添２－２_製品別計画（各社｜共通製品）個別'!H31+'【燃料転換】別添２－３_製品別計画（各社｜個社製品）個別'!U37 -> 0 | I31: ='【燃料転換】別添２－２_製品別計画（各社｜共通製品）個別'!I31+'【燃料転換】別添２－３_製品別計画（各社｜個社製品）個別'!V37 -> 0 | J31: ='【燃料転換】別添２－２_製品別計画（各社｜共通製品）個別'!J31+'【燃料転換】別添２－３_製品別計画（各社｜個社製品）個別'!W37 -> 0 | K31: ='【燃料転換】別添２－２_製品別計画（各社｜共通製品）個別'!K31+'【燃料転換】別添２－３_製品別計画（各社｜個社製品）個別'!X37 -> 0 | L31: ='【燃料転換】別添２－２_製品別計画（各社｜共通製品）個別'!L31+'【燃料転換】別添２－３_製品別計画（各社｜個社製品）個別'!Y37 -> 0 | M31: ='【燃料転換】別添２－２_製品別計画（各社｜共通製品）個別'!M31+'【燃料転換】別添２－３_製品別計画（各社｜個社製品）個別'!Z37 -> 0 | ... O31: ='【燃料転換】別添２－２_製品別計画（各社｜共通製品）個別'!O31+'【燃料転換】別添２－３_製品別計画（各社｜個社製品）個別'!AB37 -> 0
E32: 販売費 | F32: ='【燃料転換】別添２－２_製品別計画（各社｜共通製品）個別'!F32+'【燃料転換】別添２－３_製品別計画（各社｜個社製品）個別'!S38 -> 0 | G32: ='【燃料転換】別添２－２_製品別計画（各社｜共通製品）個別'!G32+'【燃料転換】別添２－３_製品別計画（各社｜個社製品）個別'!T38 -> 0 | H32: ='【燃料転換】別添２－２_製品別計画（各社｜共通製品）個別'!H32+'【燃料転換】別添２－３_製品別計画（各社｜個社製品）個別'!U38 -> 0 | I32: ='【燃料転換】別添２－２_製品別計画（各社｜共通製品）個別'!I32+'【燃料転換】別添２－３_製品別計画（各社｜個社製品）個別'!V38 -> 0 | J32: ='【燃料転換】別添２－２_製品別計画（各社｜共通製品）個別'!J32+'【燃料転換】別添２－３_製品別計画（各社｜個社製品）個別'!W38 -> 0 | K32: ='【燃料転換】別添２－２_製品別計画（各社｜共通製品）個別'!K32+'【燃料転換】別添２－３_製品別計画（各社｜個社製品）個別'!X38 -> 0 | L32: ='【燃料転換】別添２－２_製品別計画（各社｜共通製品）個別'!L32+'【燃料転換】別添２－３_製品別計画（各社｜個社製品）個別'!Y38 -> 0 | M32: ='【燃料転換】別添２－２_製品別計画（各社｜共通製品）個別'!M32+'【燃料転換】別添２－３_製品別計画（各社｜個社製品）個別'!Z38 -> 0 | ... O32: ='【燃料転換】別添２－２_製品別計画（各社｜共通製品）個別'!O32+'【燃料転換】別添２－３_製品別計画（各社｜個社製品）個別'!AB38 -> 0
E33: 固定費 | F33: ='【燃料転換】別添２－２_製品別計画（各社｜共通製品）個別'!F33+'【燃料転換】別添２－３_製品別計画（各社｜個社製品）個別'!S39 -> 0 | G33: ='【燃料転換】別添２－２_製品別計画（各社｜共通製品）個別'!G33+'【燃料転換】別添２－３_製品別計画（各社｜個社製品）個別'!T39 -> 0 | H33: ='【燃料転換】別添２－２_製品別計画（各社｜共通製品）個別'!H33+'【燃料転換】別添２－３_製品別計画（各社｜個社製品）個別'!U39 -> 0 | I33: ='【燃料転換】別添２－２_製品別計画（各社｜共通製品）個別'!I33+'【燃料転換】別添２－３_製品別計画（各社｜個社製品）個別'!V39 -> 0 | J33: ='【燃料転換】別添２－２_製品別計画（各社｜共通製品）個別'!J33+'【燃料転換】別添２－３_製品別計画（各社｜個社製品）個別'!W39 -> 0 | K33: ='【燃料転換】別添２－２_製品別計画（各社｜共通製品）個別'!K33+'【燃料転換】別添２－３_製品別計画（各社｜個社製品）個別'!X39 -> 0 | L33: ='【燃料転換】別添２－２_製品別計画（各社｜共通製品）個別'!L33+'【燃料転換】別添２－３_製品別計画（各社｜個社製品）個別'!Y39 -> 0 | M33: ='【燃料転換】別添２－２_製品別計画（各社｜共通製品）個別'!M33+'【燃料転換】別添２－３_製品別計画（各社｜個社製品）個別'!Z39 -> 0 | ... O33: ='【燃料転換】別添２－２_製品別計画（各社｜共通製品）個別'!O33+'【燃料転換】別添２－３_製品別計画（各社｜個社製品）個別'!AB39 -> 0
E34: 変動費 | F34: ='【燃料転換】別添２－２_製品別計画（各社｜共通製品）個別'!F34+'【燃料転換】別添２－３_製品別計画（各社｜個社製品）個別'!S40 -> 0 | G34: ='【燃料転換】別添２－２_製品別計画（各社｜共通製品）個別'!G34+'【燃料転換】別添２－３_製品別計画（各社｜個社製品）個別'!T40 -> 0 | H34: ='【燃料転換】別添２－２_製品別計画（各社｜共通製品）個別'!H34+'【燃料転換】別添２－３_製品別計画（各社｜個社製品）個別'!U40 -> 0 | I34: ='【燃料転換】別添２－２_製品別計画（各社｜共通製品）個別'!I34+'【燃料転換】別添２－３_製品別計画（各社｜個社製品）個別'!V40 -> 0 | J34: ='【燃料転換】別添２－２_製品別計画（各社｜共通製品）個別'!J34+'【燃料転換】別添２－３_製品別計画（各社｜個社製品）個別'!W40 -> 0 | K34: ='【燃料転換】別添２－２_製品別計画（各社｜共通製品）個別'!K34+'【燃料転換】別添２－３_製品別計画（各社｜個社製品）個別'!X40 -> 0 | L34: ='【燃料転換】別添２－２_製品別計画（各社｜共通製品）個別'!L34+'【燃料転換】別添２－３_製品別計画（各社｜個社製品）個別'!Y40 -> 0 | M34: ='【燃料転換】別添２－２_製品別計画（各社｜共通製品）個別'!M34+'【燃料転換】別添２－３_製品別計画（各社｜個社製品）個別'!Z40 -> 0 | ... O34: ='【燃料転換】別添２－２_製品別計画（各社｜共通製品）個別'!O34+'【燃料転換】別添２－３_製品別計画（各社｜個社製品）個別'!AB40 -> 0
E35: 一般管理費 | F35: ='【燃料転換】別添２－２_製品別計画（各社｜共通製品）個別'!F35+'【燃料転換】別添２－３_製品別計画（各社｜個社製品）個別'!S41 -> 0 | G35: ='【燃料転換】別添２－２_製品別計画（各社｜共通製品）個別'!G35+'【燃料転換】別添２－３_製品別計画（各社｜個社製品）個別'!T41 -> 0 | H35: ='【燃料転換】別添２－２_製品別計画（各社｜共通製品）個別'!H35+'【燃料転換】別添２－３_製品別計画（各社｜個社製品）個別'!U41 -> 0 | I35: ='【燃料転換】別添２－２_製品別計画（各社｜共通製品）個別'!I35+'【燃料転換】別添２－３_製品別計画（各社｜個社製品）個別'!V41 -> 0 | J35: ='【燃料転換】別添２－２_製品別計画（各社｜共通製品）個別'!J35+'【燃料転換】別添２－３_製品別計画（各社｜個社製品）個別'!W41 -> 0 | K35: ='【燃料転換】別添２－２_製品別計画（各社｜共通製品）個別'!K35+'【燃料転換】別添２－３_製品別計画（各社｜個社製品）個別'!X41 -> 0 | L35: ='【燃料転換】別添２－２_製品別計画（各社｜共通製品）個別'!L35+'【燃料転換】別添２－３_製品別計画（各社｜個社製品）個別'!Y41 -> 0 | M35: ='【燃料転換】別添２－２_製品別計画（各社｜共通製品）個別'!M35+'【燃料転換】別添２－３_製品別計画（各社｜個社製品）個別'!Z41 -> 0 | ... O35: ='【燃料転換】別添２－２_製品別計画（各社｜共通製品）個別'!O35+'【燃料転換】別添２－３_製品別計画（各社｜個社製品）個別'!AB41 -> 0
E36: 固定費 | F36: ='【燃料転換】別添２－２_製品別計画（各社｜共通製品）個別'!F36+'【燃料転換】別添２－３_製品別計画（各社｜個社製品）個別'!S42 -> 0 | G36: ='【燃料転換】別添２－２_製品別計画（各社｜共通製品）個別'!G36+'【燃料転換】別添２－３_製品別計画（各社｜個社製品）個別'!T42 -> 0 | H36: ='【燃料転換】別添２－２_製品別計画（各社｜共通製品）個別'!H36+'【燃料転換】別添２－３_製品別計画（各社｜個社製品）個別'!U42 -> 0 | I36: ='【燃料転換】別添２－２_製品別計画（各社｜共通製品）個別'!I36+'【燃料転換】別添２－３_製品別計画（各社｜個社製品）個別'!V42 -> 0 | J36: ='【燃料転換】別添２－２_製品別計画（各社｜共通製品）個別'!J36+'【燃料転換】別添２－３_製品別計画（各社｜個社製品）個別'!W42 -> 0 | K36: ='【燃料転換】別添２－２_製品別計画（各社｜共通製品）個別'!K36+'【燃料転換】別添２－３_製品別計画（各社｜個社製品）個別'!X42 -> 0 | L36: ='【燃料転換】別添２－２_製品別計画（各社｜共通製品）個別'!L36+'【燃料転換】別添２－３_製品別計画（各社｜個社製品）個別'!Y42 -> 0 | M36: ='【燃料転換】別添２－２_製品別計画（各社｜共通製品）個別'!M36+'【燃料転換】別添２－３_製品別計画（各社｜個社製品）個別'!Z42 -> 0 | ... O36: ='【燃料転換】別添２－２_製品別計画（各社｜共通製品）個別'!O36+'【燃料転換】別添２－３_製品別計画（各社｜個社製品）個別'!AB42 -> 0
E37: 変動費 | F37: ='【燃料転換】別添２－２_製品別計画（各社｜共通製品）個別'!F37+'【燃料転換】別添２－３_製品別計画（各社｜個社製品）個別'!S43 -> 0 | G37: ='【燃料転換】別添２－２_製品別計画（各社｜共通製品）個別'!G37+'【燃料転換】別添２－３_製品別計画（各社｜個社製品）個別'!T43 -> 0 | H37: ='【燃料転換】別添２－２_製品別計画（各社｜共通製品）個別'!H37+'【燃料転換】別添２－３_製品別計画（各社｜個社製品）個別'!U43 -> 0 | I37: ='【燃料転換】別添２－２_製品別計画（各社｜共通製品）個別'!I37+'【燃料転換】別添２－３_製品別計画（各社｜個社製品）個別'!V43 -> 0 | J37: ='【燃料転換】別添２－２_製品別計画（各社｜共通製品）個別'!J37+'【燃料転換】別添２－３_製品別計画（各社｜個社製品）個別'!W43 -> 0 | K37: ='【燃料転換】別添２－２_製品別計画（各社｜共通製品）個別'!K37+'【燃料転換】別添２－３_製品別計画（各社｜個社製品）個別'!X43 -> 0 | L37: ='【燃料転換】別添２－２_製品別計画（各社｜共通製品）個別'!L37+'【燃料転換】別添２－３_製品別計画（各社｜個社製品）個別'!Y43 -> 0 | M37: ='【燃料転換】別添２－２_製品別計画（各社｜共通製品）個別'!M37+'【燃料転換】別添２－３_製品別計画（各社｜個社製品）個別'!Z43 -> 0 | ... O37: ='【燃料転換】別添２－２_製品別計画（各社｜共通製品）個別'!O37+'【燃料転換】別添２－３_製品別計画（各社｜個社製品）個別'!AB43 -> 0
D38: 3 | E38: 営業利益 （a） | F38: ='【燃料転換】別添２－２_製品別計画（各社｜共通製品）個別'!F38+'【燃料転換】別添２－３_製品別計画（各社｜個社製品）個別'!S44 -> 0 | G38: ='【燃料転換】別添２－２_製品別計画（各社｜共通製品）個別'!G38+'【燃料転換】別添２－３_製品別計画（各社｜個社製品）個別'!T44 -> 0 | H38: ='【燃料転換】別添２－２_製品別計画（各社｜共通製品）個別'!H38+'【燃料転換】別添２－３_製品別計画（各社｜個社製品）個別'!U44 -> 0 | I38: ='【燃料転換】別添２－２_製品別計画（各社｜共通製品）個別'!I38+'【燃料転換】別添２－３_製品別計画（各社｜個社製品）個別'!V44 -> 0 | J38: ='【燃料転換】別添２－２_製品別計画（各社｜共通製品）個別'!J38+'【燃料転換】別添２－３_製品別計画（各社｜個社製品）個別'!W44 -> 0 | K38: ='【燃料転換】別添２－２_製品別計画（各社｜共通製品）個別'!K38+'【燃料転換】別添２－３_製品別計画（各社｜個社製品）個別'!X44 -> 0 | L38: ='【燃料転換】別添２－２_製品別計画（各社｜共通製品）個別'!L38+'【燃料転換】別添２－３_製品別計画（各社｜個社製品）個別'!Y44 -> 0 | M38: ='【燃料転換】別添２－２_製品別計画（各社｜共通製品）個別'!M38+'【燃料転換】別添２－３_製品別計画（各社｜個社製品）個別'!Z44 -> 0 | ... O38: ='【燃料転換】別添２－２_製品別計画（各社｜共通製品）個別'!O38+'【燃料転換】別添２－３_製品別計画（各社｜個社製品）個別'!AB44 -> 0
D39: 4 | E39: 減価償却費 （b）
D40: 5 | E40: 間接補助事業に要する経費（c） | F40: =【燃料転換】入力補助シート!E42/1000 -> 0 | G40: =【燃料転換】入力補助シート!E43/1000 -> 0 | H40: =【燃料転換】入力補助シート!E44/1000 -> 0 | I40: =【燃料転換】入力補助シート!E45/1000 -> 0 | J40: =【燃料転換】入力補助シート!E46/1000 -> 0
D41: 6 | E41: 補助金額 （d） | F41: =【燃料転換】入力補助シート!G42/1000 -> 0 | G41: =【燃料転換】入力補助シート!G43/1000 -> 0 | H41: =【燃料転換】入力補助シート!G44/1000 -> 0 | I41: =【燃料転換】入力補助シート!G45/1000 -> 0 | J41: =【燃料転換】入力補助シート!G46/1000 -> 0
E42: 他制度による収益等（d’）
D43: 7 | E43: その他費用に係る経費 （e） | F43: =【燃料転換】入力補助シート!H42/1000 -> 0 | G43: =【燃料転換】入力補助シート!H43/1000 -> 0 | H43: =【燃料転換】入力補助シート!H44/1000 -> 0 | I43: =【燃料転換】入力補助シート!H45/1000 -> 0 | J43: =【燃料転換】入力補助シート!H46/1000 -> 0
D44: 8 | E44: 間接補助事業におけるキャッシュフロー（f=a+b） | F44: =F38+F39 -> 0 | G44: =G38+G39 -> 0 | H44: =H38+H39 -> 0 | I44: =I38+I39 -> 0 | J44: =J38+J39 -> 0 | K44: =K38+K39 -> 0 | L44: =L38+L39 -> 0 | M44: =M38+M39 -> 0 | ... O44: =O38+O39 -> 0
D45: 9 | E45: 投資未回収額（g=前年度g+c-d-d'-f） | F45: =F40-F41-F42-F44 -> 0 | G45: =F45+G40-G41-G42-G44 -> 0 | H45: =G45+H40-H41-H42-H44 -> 0 | I45: =H45+I40-I41-I42-I44 -> 0 | J45: =I45+J40-J41-J42-J44 -> 0 | K45: =J45+K40-K41-K42-K44 -> 0 | L45: =K45+L40-L41-L42-L44 -> 0 | M45: =L45+M40-M41-M42-M44 -> 0 | N45: =M45+N40-N41-N42-N44 -> 0 | O45: =N45+O40-O41-O42-O44 -> 0
...

Sheet 【燃料転換】別添２－２_製品別計画（各社｜共通製品）個別
A1: 別添２－２（燃料転換又は構造転換（燃料転換）の区分で申請する場合のみ提出）
B3: ■収支計画
D6: 提出日 ：
D7: 事業者名：
D8: 商用開始年度：
D9: 間接補助事業完了日：
D10: 間接補助事業完了日
D11: を含む事業年度：
F13: （単位：千円）
F14: 間接補助事業期間＋事業化報告期間
F15: 間接補助事業開始
F16: ２０２６年度 | G16: ２０２７年度 | H16: ２０２８年度 | I16: ２０２９年度 | J16: ２０３０年度 | K16: ２０３１年度 | L16: ２０３２年度 | M16: ２０３３年度 | N16: ２０３４年度 | O16: ２０３５年度
B18: <間接補助事業にかかる財務数値> ③共同事業者各社の収支相当分
C19: ■収支計画（間接補助事業における数値）
C20: 1 売上高、2 売上総利益、3 営業利益、4 減価償却費、6 他制度による収益等について、補助対象事業の不確実性を前提とした上で、一定の仮定に基づき以下の点に留意しつつ記載ください。
C21: ・一部については「別添１_経費明細」や「別添２_収支計画（製品別）_燃料転換用」で入力された内容が自動集計されます。特に1～3はグリーン化する製品別の収支計画の合計です（※原価計算にあたり他のコストも考慮する場合等は適宜補足資料等でご説明ください）。
C22: ・提案時点での数字や内容は必ずしも正確である必要はなく、対象製品の収益化・事業成長の見通し・スケジュール（当初計画）を確認するものです。
C23: ・今後、業務実施期間中のモニタリングにおいて、当該情報をアップデートした上で、定期的に確認を行う予定です。
C24: ・価値提供・収益化等については、「他制度による収益等」として、政府・公的機関による規制・制度的措置等に関する一定の見通し（CO2価格等）に基づき記載することで差し支えありません。
C25: ・本別添の計算過程は、様式第３「⑤ア 経済的基準」における投資判断基準の導出過程に使用することも想定しています。
D26: 1 | E26: 売上高 | F26: =ROUNDDOWN(【燃料転換】入力補助シート!D59*【燃料転換】入力補助シート!$D$77,0) -> 0 | G26: =ROUNDDOWN(【燃料転換】入力補助シート!E59*【燃料転換】入力補助シート!$D$77,0) -> 0 | H26: =ROUNDDOWN(【燃料転換】入力補助シート!F59*【燃料転換】入力補助シート!$D$77,0) -> 0 | I26: =ROUNDDOWN(【燃料転換】入力補助シート!G59*【燃料転換】入力補助シート!$D$77,0) -> 0 | J26: =ROUNDDOWN(【燃料転換】入力補助シート!H59*【燃料転換】入力補助シート!$D$77,0) -> 0 | K26: =ROUNDDOWN(【燃料転換】入力補助シート!I59*【燃料転換】入力補助シート!$D$77,0) -> 0 | L26: =ROUNDDOWN(【燃料転換】入力補助シート!J59*【燃料転換】入力補助シート!$D$77,0) -> 0 | M26: =ROUNDDOWN(【燃料転換】入力補助シート!K59*【燃料転換】入力補助シート!$D$77,0) -> 0 | ... O26: =ROUNDDOWN(【燃料転換】入力補助シート!M59*【燃料転換】入力補助シート!$D$77,0) -> 0
E27: 売上原価 | F27: =ROUNDDOWN(【燃料転換】入力補助シート!D62*【燃料転換】入力補助シート!$D$77,0) -> 0 | G27: =ROUNDDOWN(【燃料転換】入力補助シート!E62*【燃料転換】入力補助シート!$D$77,0) -> 0 | H27: =ROUNDDOWN(【燃料転換】入力補助シート!F62*【燃料転換】入力補助シート!$D$77,0) -> 0 | I27: =ROUNDDOWN(【燃料転換】入力補助シート!G62*【燃料転換】入力補助シート!$D$77,0) -> 0 | J27: =ROUNDDOWN(【燃料転換】入力補助シート!H62*【燃料転換】入力補助シート!$D$77,0) -> 0 | K27: =ROUNDDOWN(【燃料転換】入力補助シート!I62*【燃料転換】入力補助シート!$D$77,0) -> 0 | L27: =ROUNDDOWN(【燃料転換】入力補助シート!J62*【燃料転換】入力補助シート!$D$77,0) -> 0 | M27: =ROUNDDOWN(【燃料転換】入力補助シート!K62*【燃料転換】入力補助シート!$D$77,0) -> 0 | ... O27: =ROUNDDOWN(【燃料転換】入力補助シート!M62*【燃料転換】入力補助シート!$D$77,0) -> 0
E28: 固定費 | F28: =ROUNDDOWN(【燃料転換】入力補助シート!D63*【燃料転換】入力補助シート!$D$77,0) -> 0 | G28: =ROUNDDOWN(【燃料転換】入力補助シート!E63*【燃料転換】入力補助シート!$D$77,0) -> 0 | H28: =ROUNDDOWN(【燃料転換】入力補助シート!F63*【燃料転換】入力補助シート!$D$77,0) -> 0 | I28: =ROUNDDOWN(【燃料転換】入力補助シート!G63*【燃料転換】入力補助シート!$D$77,0) -> 0 | J28: =ROUNDDOWN(【燃料転換】入力補助シート!H63*【燃料転換】入力補助シート!$D$77,0) -> 0 | K28: =ROUNDDOWN(【燃料転換】入力補助シート!I63*【燃料転換】入力補助シート!$D$77,0) -> 0 | L28: =ROUNDDOWN(【燃料転換】入力補助シート!J63*【燃料転換】入力補助シート!$D$77,0) -> 0 | M28: =ROUNDDOWN(【燃料転換】入力補助シート!K63*【燃料転換】入力補助シート!$D$77,0) -> 0 | ... O28: =ROUNDDOWN(【燃料転換】入力補助シート!M63*【燃料転換】入力補助シート!$D$77,0) -> 0
E29: 変動費 | F29: =ROUNDDOWN(【燃料転換】入力補助シート!D64*【燃料転換】入力補助シート!$D$77,0) -> 0 | G29: =ROUNDDOWN(【燃料転換】入力補助シート!E64*【燃料転換】入力補助シート!$D$77,0) -> 0 | H29: =ROUNDDOWN(【燃料転換】入力補助シート!F64*【燃料転換】入力補助シート!$D$77,0) -> 0 | I29: =ROUNDDOWN(【燃料転換】入力補助シート!G64*【燃料転換】入力補助シート!$D$77,0) -> 0 | J29: =ROUNDDOWN(【燃料転換】入力補助シート!H64*【燃料転換】入力補助シート!$D$77,0) -> 0 | K29: =ROUNDDOWN(【燃料転換】入力補助シート!I64*【燃料転換】入力補助シート!$D$77,0) -> 0 | L29: =ROUNDDOWN(【燃料転換】入力補助シート!J64*【燃料転換】入力補助シート!$D$77,0) -> 0 | M29: =ROUNDDOWN(【燃料転換】入力補助シート!K64*【燃料転換】入力補助シート!$D$77,0) -> 0 | ... O29: =ROUNDDOWN(【燃料転換】入力補助シート!M64*【燃料転換】入力補助シート!$D$77,0) -> 0
E30: うち発電コスト | F30: =ROUNDDOWN(【燃料転換】入力補助シート!D65*【燃料転換】入力補助シート!$D$77,0) -> 0 | G30: =ROUNDDOWN(【燃料転換】入力補助シート!E65*【燃料転換】入力補助シート!$D$77,0) -> 0 | H30: =ROUNDDOWN(【燃料転換】入力補助シート!F65*【燃料転換】入力補助シート!$D$77,0) -> 0 | I30: =ROUNDDOWN(【燃料転換】入力補助シート!G65*【燃料転換】入力補助シート!$D$77,0) -> 0 | J30: =ROUNDDOWN(【燃料転換】入力補助シート!H65*【燃料転換】入力補助シート!$D$77,0) -> 0 | K30: =ROUNDDOWN(【燃料転換】入力補助シート!I65*【燃料転換】入力補助シート!$D$77,0) -> 0 | L30: =ROUNDDOWN(【燃料転換】入力補助シート!J65*【燃料転換】入力補助シート!$D$77,0) -> 0 | M30: =ROUNDDOWN(【燃料転換】入力補助シート!K65*【燃料転換】入力補助シート!$D$77,0) -> 0 | ... O30: =ROUNDDOWN(【燃料転換】入力補助シート!M65*【燃料転換】入力補助シート!$D$77,0) -> 0
D31: 2 | E31: 売上総利益 | F31: =ROUNDDOWN(【燃料転換】入力補助シート!D66*【燃料転換】入力補助シート!$D$77,0) -> 0 | G31: =ROUNDDOWN(【燃料転換】入力補助シート!E66*【燃料転換】入力補助シート!$D$77,0) -> 0 | H31: =ROUNDDOWN(【燃料転換】入力補助シート!F66*【燃料転換】入力補助シート!$D$77,0) -> 0 | I31: =ROUNDDOWN(【燃料転換】入力補助シート!G66*【燃料転換】入力補助シート!$D$77,0) -> 0 | J31: =ROUNDDOWN(【燃料転換】入力補助シート!H66*【燃料転換】入力補助シート!$D$77,0) -> 0 | K31: =ROUNDDOWN(【燃料転換】入力補助シート!I66*【燃料転換】入力補助シート!$D$77,0) -> 0 | L31: =ROUNDDOWN(【燃料転換】入力補助シート!J66*【燃料転換】入力補助シート!$D$77,0) -> 0 | M31: =ROUNDDOWN(【燃料転換】入力補助シート!K66*【燃料転換】入力補助シート!$D$77,0) -> 0 | ... O31: =ROUNDDOWN(【燃料転換】入力補助シート!M66*【燃料転換】入力補助シート!$D$77,0) -> 0
E32: 販売費 | F32: =ROUNDDOWN(【燃料転換】入力補助シート!D67*【燃料転換】入力補助シート!$D$77,0) -> 0 | G32: =ROUNDDOWN(【燃料転換】入力補助シート!E67*【燃料転換】入力補助シート!$D$77,0) -> 0 | H32: =ROUNDDOWN(【燃料転換】入力補助シート!F67*【燃料転換】入力補助シート!$D$77,0) -> 0 | I32: =ROUNDDOWN(【燃料転換】入力補助シート!G67*【燃料転換】入力補助シート!$D$77,0) -> 0 | J32: =ROUNDDOWN(【燃料転換】入力補助シート!H67*【燃料転換】入力補助シート!$D$77,0) -> 0 | K32: =ROUNDDOWN(【燃料転換】入力補助シート!I67*【燃料転換】入力補助シート!$D$77,0) -> 0 | L32: =ROUNDDOWN(【燃料転換】入力補助シート!J67*【燃料転換】入力補助シート!$D$77,0) -> 0 | M32: =ROUNDDOWN(【燃料転換】入力補助シート!K67*【燃料転換】入力補助シート!$D$77,0) -> 0 | ... O32: =ROUNDDOWN(【燃料転換】入力補助シート!M67*【燃料転換】入力補助シート!$D$77,0) -> 0
E33: 固定費 | F33: =ROUNDDOWN(【燃料転換】入力補助シート!D68*【燃料転換】入力補助シート!$D$77,0) -> 0 | G33: =ROUNDDOWN(【燃料転換】入力補助シート!E68*【燃料転換】入力補助シート!$D$77,0) -> 0 | H33: =ROUNDDOWN(【燃料転換】入力補助シート!F68*【燃料転換】入力補助シート!$D$77,0) -> 0 | I33: =ROUNDDOWN(【燃料転換】入力補助シート!G68*【燃料転換】入力補助シート!$D$77,0) -> 0 | J33: =ROUNDDOWN(【燃料転換】入力補助シート!H68*【燃料転換】入力補助シート!$D$77,0) -> 0 | K33: =ROUNDDOWN(【燃料転換】入力補助シート!I68*【燃料転換】入力補助シート!$D$77,0) -> 0 | L33: =ROUNDDOWN(【燃料転換】入力補助シート!J68*【燃料転換】入力補助シート!$D$77,0) -> 0 | M33: =ROUNDDOWN(【燃料転換】入力補助シート!K68*【燃料転換】入力補助シート!$D$77,0) -> 0 | ... O33: =ROUNDDOWN(【燃料転換】入力補助シート!M68*【燃料転換】入力補助シート!$D$77,0) -> 0
E34: 変動費 | F34: =ROUNDDOWN(【燃料転換】入力補助シート!D69*【燃料転換】入力補助シート!$D$77,0) -> 0 | G34: =ROUNDDOWN(【燃料転換】入力補助シート!E69*【燃料転換】入力補助シート!$D$77,0) -> 0 | H34: =ROUNDDOWN(【燃料転換】入力補助シート!F69*【燃料転換】入力補助シート!$D$77,0) -> 0 | I34: =ROUNDDOWN(【燃料転換】入力補助シート!G69*【燃料転換】入力補助シート!$D$77,0) -> 0 | J34: =ROUNDDOWN(【燃料転換】入力補助シート!H69*【燃料転換】入力補助シート!$D$77,0) -> 0 | K34: =ROUNDDOWN(【燃料転換】入力補助シート!I69*【燃料転換】入力補助シート!$D$77,0) -> 0 | L34: =ROUNDDOWN(【燃料転換】入力補助シート!J69*【燃料転換】入力補助シート!$D$77,0) -> 0 | M34: =ROUNDDOWN(【燃料転換】入力補助シート!K69*【燃料転換】入力補助シート!$D$77,0) -> 0 | ... O34: =ROUNDDOWN(【燃料転換】入力補助シート!M69*【燃料転換】入力補助シート!$D$77,0) -> 0
E35: 一般管理費 | F35: =ROUNDDOWN(【燃料転換】入力補助シート!D70*【燃料転換】入力補助シート!$D$77,0) -> 0 | G35: =ROUNDDOWN(【燃料転換】入力補助シート!E70*【燃料転換】入力補助シート!$D$77,0) -> 0 | H35: =ROUNDDOWN(【燃料転換】入力補助シート!F70*【燃料転換】入力補助シート!$D$77,0) -> 0 | I35: =ROUNDDOWN(【燃料転換】入力補助シート!G70*【燃料転換】入力補助シート!$D$77,0) -> 0 | J35: =ROUNDDOWN(【燃料転換】入力補助シート!H70*【燃料転換】入力補助シート!$D$77,0) -> 0 | K35: =ROUNDDOWN(【燃料転換】入力補助シート!I70*【燃料転換】入力補助シート!$D$77,0) -> 0 | L35: =ROUNDDOWN(【燃料転換】入力補助シート!J70*【燃料転換】入力補助シート!$D$77,0) -> 0 | M35: =ROUNDDOWN(【燃料転換】入力補助シート!K70*【燃料転換】入力補助シート!$D$77,0) -> 0 | ... O35: =ROUNDDOWN(【燃料転換】入力補助シート!M70*【燃料転換】入力補助シート!$D$77,0) -> 0
E36: 固定費 | F36: =ROUNDDOWN(【燃料転換】入力補助シート!D71*【燃料転換】入力補助シート!$D$77,0) -> 0 | G36: =ROUNDDOWN(【燃料転換】入力補助シート!E71*【燃料転換】入力補助シート!$D$77,0) -> 0 | H36: =ROUNDDOWN(【燃料転換】入力補助シート!F71*【燃料転換】入力補助シート!$D$77,0) -> 0 | I36: =ROUNDDOWN(【燃料転換】入力補助シート!G71*【燃料転換】入力補助シート!$D$77,0) -> 0 | J36: =ROUNDDOWN(【燃料転換】入力補助シート!H71*【燃料転換】入力補助シート!$D$77,0) -> 0 | K36: =ROUNDDOWN(【燃料転換】入力補助シート!I71*【燃料転換】入力補助シート!$D$77,0) -> 0 | L36: =ROUNDDOWN(【燃料転換】入力補助シート!J71*【燃料転換】入力補助シート!$D$77,0) -> 0 | M36: =ROUNDDOWN(【燃料転換】入力補助シート!K71*【燃料転換】入力補助シート!$D$77,0) -> 0 | ... O36: =ROUNDDOWN(【燃料転換】入力補助シート!M71*【燃料転換】入力補助シート!$D$77,0) -> 0
E37: 変動費 | F37: =ROUNDDOWN(【燃料転換】入力補助シート!D72*【燃料転換】入力補助シート!$D$77,0) -> 0 | G37: =ROUNDDOWN(【燃料転換】入力補助シート!E72*【燃料転換】入力補助シート!$D$77,0) -> 0 | H37: =ROUNDDOWN(【燃料転換】入力補助シート!F72*【燃料転換】入力補助シート!$D$77,0) -> 0 | I37: =ROUNDDOWN(【燃料転換】入力補助シート!G72*【燃料転換】入力補助シート!$D$77,0) -> 0 | J37: =ROUNDDOWN(【燃料転換】入力補助シート!H72*【燃料転換】入力補助シート!$D$77,0) -> 0 | K37: =ROUNDDOWN(【燃料転換】入力補助シート!I72*【燃料転換】入力補助シート!$D$77,0) -> 0 | L37: =ROUNDDOWN(【燃料転換】入力補助シート!J72*【燃料転換】入力補助シート!$D$77,0) -> 0 | M37: =ROUNDDOWN(【燃料転換】入力補助シート!K72*【燃料転換】入力補助シート!$D$77,0) -> 0 | ... O37: =ROUNDDOWN(【燃料転換】入力補助シート!M72*【燃料転換】入力補助シート!$D$77,0) -> 0
D38: 3 | E38: 営業利益 （a） | F38: =ROUNDDOWN(【燃料転換】入力補助シート!D73*【燃料転換】入力補助シート!$D$77,0) -> 0 | G38: =ROUNDDOWN(【燃料転換】入力補助シート!E73*【燃料転換】入力補助シート!$D$77,0) -> 0 | H38: =ROUNDDOWN(【燃料転換】入力補助シート!F73*【燃料転換】入力補助シート!$D$77,0) -> 0 | I38: =ROUNDDOWN(【燃料転換】入力補助シート!G73*【燃料転換】入力補助シート!$D$77,0) -> 0 | J38: =ROUNDDOWN(【燃料転換】入力補助シート!H73*【燃料転換】入力補助シート!$D$77,0) -> 0 | K38: =ROUNDDOWN(【燃料転換】入力補助シート!I73*【燃料転換】入力補助シート!$D$77,0) -> 0 | L38: =ROUNDDOWN(【燃料転換】入力補助シート!J73*【燃料転換】入力補助シート!$D$77,0) -> 0 | M38: =ROUNDDOWN(【燃料転換】入力補助シート!K73*【燃料転換】入力補助シート!$D$77,0) -> 0 | ... O38: =ROUNDDOWN(【燃料転換】入力補助シート!M73*【燃料転換】入力補助シート!$D$77,0) -> 0

Sheet 【燃料転換】別添２－３_製品別計画（各社｜個社製品）個別
A1: 別添２－３（燃料転換又は構造転換（燃料転換）の区分で申請する場合のみ提出）
B3: ■収支計画
D6: 提出日 ：
D7: 事業者名：
D8: 商用開始年度：
D9: 間接補助事業完了日：
D10: 間接補助事業完了日
D11: を含む事業年度：
F13: （単位：千円）
F14: 間接補助事業期間＋事業化報告期間
F15: 間接補助事業開始
F16: ２０２６年度 | G16: ２０２７年度 | H16: ２０２８年度 | I16: ２０２９年度 | J16: ２０３０年度 | K16: ２０３１年度 | L16: ２０３２年度 | M16: ２０３３年度 | N16: ２０３４年度 | O16: ２０３５年度
B18: <間接補助事業にかかる財務数値>
C19: ■収支計画（間接補助事業における数値）
C20: 本シートは、間接補助事業に伴い、グリーン化する製品ごとに収支計画の表をご作成ください。
C21: なお、本シートでは各社が個別に取り扱う製品についてのみ記載ください。例えば、化学分野であれば、誘導品等が該当します。
C22: 1 売上高、2 売上総利益、3 営業利益について、補助対象事業の不確実性を前提とした上で、一定の仮定に基づき以下の点に留意しつつ記載ください。
C23: ・売上高については、各事業（製品）の売上高に加えて、その構成要素である製品単価と販売数量も参考として記載すること。
C24: ・売上原価・販売費・一般管理費については、固定費と変動費に分けて記載すること。
C25: ・売上原価計算にあたり、他のコスト等も考慮する場合は適宜補足すること。
C26: ・提案時点での数字や内容は必ずしも正確である必要はなく、対象製品の収益化・事業成長の見通し・スケジュール（当初計画）を確認するものです。 | S26: （単位：千円）
C27: ・今後、業務実施期間中のモニタリングにおいて、当該情報をアップデートした上で、定期的に確認を行う予定です。 | R27: 集計用 | S27: 間接補助事業期間＋事業化報告期間
S28: 間接補助事業開始
B29: グリーン製品①： | S29: ２０２６年度 | T29: ２０２７年度 | U29: ２０２８年度 | V29: ２０２９年度 | W29: ２０３０年度 | X29: ２０３１年度 | Y29: ２０３２年度 | Z29: ２０３３年度 | AA29: ２０３４年度 | AB29: ２０３５年度
D30: 1 | E30: 売上高 | R30: １売上高 | S30: =F30+F48+F65+F82+F99+F116+F133+F150+F167+F184+F201+F218+F235+F252+F269+F286+F303+F320+F337+F354+F371+F388+F405+F422+F439+F456+F473+F490+F507+F524 -> 0 | T30: =G30+G48+G65+G82+G99+G116+G133+G150+G167+G184+G201+G218+G235+G252+G269+G286+G303+G320+G337+G354+G371+G388+G405+G422+G439+G456+G473+G490+G507+G524 -> 0 | U30: =H30+H48+H65+H82+H99+H116+H133+H150+H167+H184+H201+H218+H235+H252+H269+H286+H303+H320+H337+H354+H371+H388+H405+H422+H439+H456+H473+H490+H507+H524 -> 0 | V30: =I30+I48+I65+I82+I99+I116+I133+I150+I167+I184+I201+I218+I235+I252+I269+I286+I303+I320+I337+I354+I371+I388+I405+I422+I439+I456+I473+I490+I507+I524 -> 0 | W30: =J30+J48+J65+J82+J99+J116+J133+J150+J167+J184+J201+J218+J235+J252+J269+J286+J303+J320+J337+J354+J371+J388+J405+J422+J439+J456+J473+J490+J507+J524 -> 0 | X30: =K30+K48+K65+K82+K99+K116+K133+K150+K167+K184+K201+K218+K235+K252+K269+K286+K303+K320+K337+K354+K371+K388+K405+K422+K439+K456+K473+K490+K507+K524 -> 0 | Y30: =L30+L48+L65+L82+L99+L116+L133+L150+L167+L184+L201+L218+L235+L252+L269+L286+L303+L320+L337+L354+L371+L388+L405+L422+L439+L456+L473+L490+L507+L524 -> 0 | Z30: =M30+M48+M65+M82+M99+M116+M133+M150+M167+M184+M201+M218+M235+M252+M269+M286+M303+M320+M337+M354+M371+M388+M405+M422+M439+M456+M473+M490+M507+M524 -> 0 | ... AB30: =O30+O48+O65+O82+O99+O116+O133+O150+O167+O184+O201+O218+O235+O252+O269+O286+O303+O320+O337+O354+O371+O388+O405+O422+O439+O456+O473+O490+O507+O524 -> 0
E31: 数量 | R31: 数量
E32: 単価 | R32: 単価
E33: 売上原価 | R33: 売上原価 | S33: =F33+F51+F68+F85+F102+F119+F136+F153+F170+F187+F204+F221+F238+F255+F272+F289+F306+F323+F340+F357+F374+F391+F408+F425+F442+F459+F476+F493+F510+F527 -> 0 | T33: =G33+G51+G68+G85+G102+G119+G136+G153+G170+G187+G204+G221+G238+G255+G272+G289+G306+G323+G340+G357+G374+G391+G408+G425+G442+G459+G476+G493+G510+G527 -> 0 | U33: =H33+H51+H68+H85+H102+H119+H136+H153+H170+H187+H204+H221+H238+H255+H272+H289+H306+H323+H340+H357+H374+H391+H408+H425+H442+H459+H476+H493+H510+H527 -> 0 | V33: =I33+I51+I68+I85+I102+I119+I136+I153+I170+I187+I204+I221+I238+I255+I272+I289+I306+I323+I340+I357+I374+I391+I408+I425+I442+I459+I476+I493+I510+I527 -> 0 | W33: =J33+J51+J68+J85+J102+J119+J136+J153+J170+J187+J204+J221+J238+J255+J272+J289+J306+J323+J340+J357+J374+J391+J408+J425+J442+J459+J476+J493+J510+J527 -> 0 | X33: =K33+K51+K68+K85+K102+K119+K136+K153+K170+K187+K204+K221+K238+K255+K272+K289+K306+K323+K340+K357+K374+K391+K408+K425+K442+K459+K476+K493+K510+K527 -> 0 | Y33: =L33+L51+L68+L85+L102+L119+L136+L153+L170+L187+L204+L221+L238+L255+L272+L289+L306+L323+L340+L357+L374+L391+L408+L425+L442+L459+L476+L493+L510+L527 -> 0 | Z33: =M33+M51+M68+M85+M102+M119+M136+M153+M170+M187+M204+M221+M238+M255+M272+M289+M306+M323+M340+M357+M374+M391+M408+M425+M442+M459+M476+M493+M510+M527 -> 0 | ... AB33: =O33+O51+O68+O85+O102+O119+O136+O153+O170+O187+O204+O221+O238+O255+O272+O289+O306+O323+O340+O357+O374+O391+O408+O425+O442+O459+O476+O493+O510+O527 -> 0
E34: 固定費 | R34: 固定費 | S34: =F34+F52+F69+F86+F103+F120+F137+F154+F171+F188+F205+F222+F239+F256+F273+F290+F307+F324+F341+F358+F375+F392+F409+F426+F443+F460+F477+F494+F511+F528 -> 0 | T34: =G34+G52+G69+G86+G103+G120+G137+G154+G171+G188+G205+G222+G239+G256+G273+G290+G307+G324+G341+G358+G375+G392+G409+G426+G443+G460+G477+G494+G511+G528 -> 0 | U34: =H34+H52+H69+H86+H103+H120+H137+H154+H171+H188+H205+H222+H239+H256+H273+H290+H307+H324+H341+H358+H375+H392+H409+H426+H443+H460+H477+H494+H511+H528 -> 0 | V34: =I34+I52+I69+I86+I103+I120+I137+I154+I171+I188+I205+I222+I239+I256+I273+I290+I307+I324+I341+I358+I375+I392+I409+I426+I443+I460+I477+I494+I511+I528 -> 0 | W34: =J34+J52+J69+J86+J103+J120+J137+J154+J171+J188+J205+J222+J239+J256+J273+J290+J307+J324+J341+J358+J375+J392+J409+J426+J443+J460+J477+J494+J511+J528 -> 0 | X34: =K34+K52+K69+K86+K103+K120+K137+K154+K171+K188+K205+K222+K239+K256+K273+K290+K307+K324+K341+K358+K375+K392+K409+K426+K443+K460+K477+K494+K511+K528 -> 0 | Y34: =L34+L52+L69+L86+L103+L120+L137+L154+L171+L188+L205+L222+L239+L256+L273+L290+L307+L324+L341+L358+L375+L392+L409+L426+L443+L460+L477+L494+L511+L528 -> 0 | Z34: =M34+M52+M69+M86+M103+M120+M137+M154+M171+M188+M205+M222+M239+M256+M273+M290+M307+M324+M341+M358+M375+M392+M409+M426+M443+M460+M477+M494+M511+M528 -> 0 | ... AB34: =O34+O52+O69+O86+O103+O120+O137+O154+O171+O188+O205+O222+O239+O256+O273+O290+O307+O324+O341+O358+O375+O392+O409+O426+O443+O460+O477+O494+O511+O528 -> 0
E35: 変動費 | R35: 変動費 | S35: =F35+F53+F70+F87+F104+F121+F138+F155+F172+F189+F206+F223+F240+F257+F274+F291+F308+F325+F342+F359+F376+F393+F410+F427+F444+F461+F478+F495+F512+F529 -> 0 | T35: =G35+G53+G70+G87+G104+G121+G138+G155+G172+G189+G206+G223+G240+G257+G274+G291+G308+G325+G342+G359+G376+G393+G410+G427+G444+G461+G478+G495+G512+G529 -> 0 | U35: =H35+H53+H70+H87+H104+H121+H138+H155+H172+H189+H206+H223+H240+H257+H274+H291+H308+H325+H342+H359+H376+H393+H410+H427+H444+H461+H478+H495+H512+H529 -> 0 | V35: =I35+I53+I70+I87+I104+I121+I138+I155+I172+I189+I206+I223+I240+I257+I274+I291+I308+I325+I342+I359+I376+I393+I410+I427+I444+I461+I478+I495+I512+I529 -> 0 | W35: =J35+J53+J70+J87+J104+J121+J138+J155+J172+J189+J206+J223+J240+J257+J274+J291+J308+J325+J342+J359+J376+J393+J410+J427+J444+J461+J478+J495+J512+J529 -> 0 | X35: =K35+K53+K70+K87+K104+K121+K138+K155+K172+K189+K206+K223+K240+K257+K274+K291+K308+K325+K342+K359+K376+K393+K410+K427+K444+K461+K478+K495+K512+K529 -> 0 | Y35: =L35+L53+L70+L87+L104+L121+L138+L155+L172+L189+L206+L223+L240+L257+L274+L291+L308+L325+L342+L359+L376+L393+L410+L427+L444+L461+L478+L495+L512+L529 -> 0 | Z35: =M35+M53+M70+M87+M104+M121+M138+M155+M172+M189+M206+M223+M240+M257+M274+M291+M308+M325+M342+M359+M376+M393+M410+M427+M444+M461+M478+M495+M512+M529 -> 0 | ... AB35: =O35+O53+O70+O87+O104+O121+O138+O155+O172+O189+O206+O223+O240+O257+O274+O291+O308+O325+O342+O359+O376+O393+O410+O427+O444+O461+O478+O495+O512+O529 -> 0
E36: うち発電コスト | R36: うち発電コスト | S36: =F36+F54+F71+F88+F105+F122+F139+F156+F173+F190+F207+F224+F241+F258+F275+F292+F309+F326+F343+F360+F377+F394+F411+F428+F445+F462+F479+F496+F513+F530 -> 0 | T36: =G36+G54+G71+G88+G105+G122+G139+G156+G173+G190+G207+G224+G241+G258+G275+G292+G309+G326+G343+G360+G377+G394+G411+G428+G445+G462+G479+G496+G513+G530 -> 0 | U36: =H36+H54+H71+H88+H105+H122+H139+H156+H173+H190+H207+H224+H241+H258+H275+H292+H309+H326+H343+H360+H377+H394+H411+H428+H445+H462+H479+H496+H513+H530 -> 0 | V36: =I36+I54+I71+I88+I105+I122+I139+I156+I173+I190+I207+I224+I241+I258+I275+I292+I309+I326+I343+I360+I377+I394+I411+I428+I445+I462+I479+I496+I513+I530 -> 0 | W36: =J36+J54+J71+J88+J105+J122+J139+J156+J173+J190+J207+J224+J241+J258+J275+J292+J309+J326+J343+J360+J377+J394+J411+J428+J445+J462+J479+J496+J513+J530 -> 0 | X36: =K36+K54+K71+K88+K105+K122+K139+K156+K173+K190+K207+K224+K241+K258+K275+K292+K309+K326+K343+K360+K377+K394+K411+K428+K445+K462+K479+K496+K513+K530 -> 0 | Y36: =L36+L54+L71+L88+L105+L122+L139+L156+L173+L190+L207+L224+L241+L258+L275+L292+L309+L326+L343+L360+L377+L394+L411+L428+L445+L462+L479+L496+L513+L530 -> 0 | Z36: =M36+M54+M71+M88+M105+M122+M139+M156+M173+M190+M207+M224+M241+M258+M275+M292+M309+M326+M343+M360+M377+M394+M411+M428+M445+M462+M479+M496+M513+M530 -> 0 | ... AB36: =O36+O54+O71+O88+O105+O122+O139+O156+O173+O190+O207+O224+O241+O258+O275+O292+O309+O326+O343+O360+O377+O394+O411+O428+O445+O462+O479+O496+O513+O530 -> 0
D37: 2 | E37: 売上総利益 | R37: ２売上総利益 | S37: =F37+F55+F72+F89+F106+F123+F140+F157+F174+F191+F208+F225+F242+F259+F276+F293+F310+F327+F344+F361+F378+F395+F412+F429+F446+F463+F480+F497+F514+F531 -> 0 | T37: =G37+G55+G72+G89+G106+G123+G140+G157+G174+G191+G208+G225+G242+G259+G276+G293+G310+G327+G344+G361+G378+G395+G412+G429+G446+G463+G480+G497+G514+G531 -> 0 | U37: =H37+H55+H72+H89+H106+H123+H140+H157+H174+H191+H208+H225+H242+H259+H276+H293+H310+H327+H344+H361+H378+H395+H412+H429+H446+H463+H480+H497+H514+H531 -> 0 | V37: =I37+I55+I72+I89+I106+I123+I140+I157+I174+I191+I208+I225+I242+I259+I276+I293+I310+I327+I344+I361+I378+I395+I412+I429+I446+I463+I480+I497+I514+I531 -> 0 | W37: =J37+J55+J72+J89+J106+J123+J140+J157+J174+J191+J208+J225+J242+J259+J276+J293+J310+J327+J344+J361+J378+J395+J412+J429+J446+J463+J480+J497+J514+J531 -> 0 | X37: =K37+K55+K72+K89+K106+K123+K140+K157+K174+K191+K208+K225+K242+K259+K276+K293+K310+K327+K344+K361+K378+K395+K412+K429+K446+K463+K480+K497+K514+K531 -> 0 | Y37: =L37+L55+L72+L89+L106+L123+L140+L157+L174+L191+L208+L225+L242+L259+L276+L293+L310+L327+L344+L361+L378+L395+L412+L429+L446+L463+L480+L497+L514+L531 -> 0 | Z37: =M37+M55+M72+M89+M106+M123+M140+M157+M174+M191+M208+M225+M242+M259+M276+M293+M310+M327+M344+M361+M378+M395+M412+M429+M446+M463+M480+M497+M514+M531 -> 0 | ... AB37: =O37+O55+O72+O89+O106+O123+O140+O157+O174+O191+O208+O225+O242+O259+O276+O293+O310+O327+O344+O361+O378+O395+O412+O429+O446+O463+O480+O497+O514+O531 -> 0
E38: 販売費 | R38: 販売費 | S38: =F38+F56+F73+F90+F107+F124+F141+F158+F175+F192+F209+F226+F243+F260+F277+F294+F311+F328+F345+F362+F379+F396+F413+F430+F447+F464+F481+F498+F515+F532 -> 0 | T38: =G38+G56+G73+G90+G107+G124+G141+G158+G175+G192+G209+G226+G243+G260+G277+G294+G311+G328+G345+G362+G379+G396+G413+G430+G447+G464+G481+G498+G515+G532 -> 0 | U38: =H38+H56+H73+H90+H107+H124+H141+H158+H175+H192+H209+H226+H243+H260+H277+H294+H311+H328+H345+H362+H379+H396+H413+H430+H447+H464+H481+H498+H515+H532 -> 0 | V38: =I38+I56+I73+I90+I107+I124+I141+I158+I175+I192+I209+I226+I243+I260+I277+I294+I311+I328+I345+I362+I379+I396+I413+I430+I447+I464+I481+I498+I515+I532 -> 0 | W38: =J38+J56+J73+J90+J107+J124+J141+J158+J175+J192+J209+J226+J243+J260+J277+J294+J311+J328+J345+J362+J379+J396+J413+J430+J447+J464+J481+J498+J515+J532 -> 0 | X38: =K38+K56+K73+K90+K107+K124+K141+K158+K175+K192+K209+K226+K243+K260+K277+K294+K311+K328+K345+K362+K379+K396+K413+K430+K447+K464+K481+K498+K515+K532 -> 0 | Y38: =L38+L56+L73+L90+L107+L124+L141+L158+L175+L192+L209+L226+L243+L260+L277+L294+L311+L328+L345+L362+L379+L396+L413+L430+L447+L464+L481+L498+L515+L532 -> 0 | Z38: =M38+M56+M73+M90+M107+M124+M141+M158+M175+M192+M209+M226+M243+M260+M277+M294+M311+M328+M345+M362+M379+M396+M413+M430+M447+M464+M481+M498+M515+M532 -> 0 | ... AB38: =O38+O56+O73+O90+O107+O124+O141+O158+O175+O192+O209+O226+O243+O260+O277+O294+O311+O328+O345+O362+O379+O396+O413+O430+O447+O464+O481+O498+O515+O532 -> 0
E39: 固定費 | R39: 固定費 | S39: =F39+F57+F74+F91+F108+F125+F142+F159+F176+F193+F210+F227+F244+F261+F278+F295+F312+F329+F346+F363+F380+F397+F414+F431+F448+F465+F482+F499+F516+F533 -> 0 | T39: =G39+G57+G74+G91+G108+G125+G142+G159+G176+G193+G210+G227+G244+G261+G278+G295+G312+G329+G346+G363+G380+G397+G414+G431+G448+G465+G482+G499+G516+G533 -> 0 | U39: =H39+H57+H74+H91+H108+H125+H142+H159+H176+H193+H210+H227+H244+H261+H278+H295+H312+H329+H346+H363+H380+H397+H414+H431+H448+H465+H482+H499+H516+H533 -> 0 | V39: =I39+I57+I74+I91+I108+I125+I142+I159+I176+I193+I210+I227+I244+I261+I278+I295+I312+I329+I346+I363+I380+I397+I414+I431+I448+I465+I482+I499+I516+I533 -> 0 | W39: =J39+J57+J74+J91+J108+J125+J142+J159+J176+J193+J210+J227+J244+J261+J278+J295+J312+J329+J346+J363+J380+J397+J414+J431+J448+J465+J482+J499+J516+J533 -> 0 | X39: =K39+K57+K74+K91+K108+K125+K142+K159+K176+K193+K210+K227+K244+K261+K278+K295+K312+K329+K346+K363+K380+K397+K414+K431+K448+K465+K482+K499+K516+K533 -> 0 | Y39: =L39+L57+L74+L91+L108+L125+L142+L159+L176+L193+L210+L227+L244+L261+L278+L295+L312+L329+L346+L363+L380+L397+L414+L431+L448+L465+L482+L499+L516+L533 -> 0 | Z39: =M39+M57+M74+M91+M108+M125+M142+M159+M176+M193+M210+M227+M244+M261+M278+M295+M312+M329+M346+M363+M380+M397+M414+M431+M448+M465+M482+M499+M516+M533 -> 0 | ... AB39: =O39+O57+O74+O91+O108+O125+O142+O159+O176+O193+O210+O227+O244+O261+O278+O295+O312+O329+O346+O363+O380+O397+O414+O431+O448+O465+O482+O499+O516+O533 -> 0
E40: 変動費 | R40: 変動費 | S40: =F40+F58+F75+F92+F109+F126+F143+F160+F177+F194+F211+F228+F245+F262+F279+F296+F313+F330+F347+F364+F381+F398+F415+F432+F449+F466+F483+F500+F517+F534 -> 0 | T40: =G40+G58+G75+G92+G109+G126+G143+G160+G177+G194+G211+G228+G245+G262+G279+G296+G313+G330+G347+G364+G381+G398+G415+G432+G449+G466+G483+G500+G517+G534 -> 0 | U40: =H40+H58+H75+H92+H109+H126+H143+H160+H177+H194+H211+H228+H245+H262+H279+H296+H313+H330+H347+H364+H381+H398+H415+H432+H449+H466+H483+H500+H517+H534 -> 0 | V40: =I40+I58+I75+I92+I109+I126+I143+I160+I177+I194+I211+I228+I245+I262+I279+I296+I313+I330+I347+I364+I381+I398+I415+I432+I449+I466+I483+I500+I517+I534 -> 0 | W40: =J40+J58+J75+J92+J109+J126+J143+J160+J177+J194+J211+J228+J245+J262+J279+J296+J313+J330+J347+J364+J381+J398+J415+J432+J449+J466+J483+J500+J517+J534 -> 0 | X40: =K40+K58+K75+K92+K109+K126+K143+K160+K177+K194+K211+K228+K245+K262+K279+K296+K313+K330+K347+K364+K381+K398+K415+K432+K449+K466+K483+K500+K517+K534 -> 0 | Y40: =L40+L58+L75+L92+L109+L126+L143+L160+L177+L194+L211+L228+L245+L262+L279+L296+L313+L330+L347+L364+L381+L398+L415+L432+L449+L466+L483+L500+L517+L534 -> 0 | Z40: =M40+M58+M75+M92+M109+M126+M143+M160+M177+M194+M211+M228+M245+M262+M279+M296+M313+M330+M347+M364+M381+M398+M415+M432+M449+M466+M483+M500+M517+M534 -> 0 | ... AB40: =O40+O58+O75+O92+O109+O126+O143+O160+O177+O194+O211+O228+O245+O262+O279+O296+O313+O330+O347+O364+O381+O398+O415+O432+O449+O466+O483+O500+O517+O534 -> 0
E41: 一般管理費 | R41: 一般管理費 | S41: =F41+F59+F76+F93+F110+F127+F144+F161+F178+F195+F212+F229+F246+F263+F280+F297+F314+F331+F348+F365+F382+F399+F416+F433+F450+F467+F484+F501+F518+F535 -> 0 | T41: =G41+G59+G76+G93+G110+G127+G144+G161+G178+G195+G212+G229+G246+G263+G280+G297+G314+G331+G348+G365+G382+G399+G416+G433+G450+G467+G484+G501+G518+G535 -> 0 | U41: =H41+H59+H76+H93+H110+H127+H144+H161+H178+H195+H212+H229+H246+H263+H280+H297+H314+H331+H348+H365+H382+H399+H416+H433+H450+H467+H484+H501+H518+H535 -> 0 | V41: =I41+I59+I76+I93+I110+I127+I144+I161+I178+I195+I212+I229+I246+I263+I280+I297+I314+I331+I348+I365+I382+I399+I416+I433+I450+I467+I484+I501+I518+I535 -> 0 | W41: =J41+J59+J76+J93+J110+J127+J144+J161+J178+J195+J212+J229+J246+J263+J280+J297+J314+J331+J348+J365+J382+J399+J416+J433+J450+J467+J484+J501+J518+J535 -> 0 | X41: =K41+K59+K76+K93+K110+K127+K144+K161+K178+K195+K212+K229+K246+K263+K280+K297+K314+K331+K348+K365+K382+K399+K416+K433+K450+K467+K484+K501+K518+K535 -> 0 | Y41: =L41+L59+L76+L93+L110+L127+L144+L161+L178+L195+L212+L229+L246+L263+L280+L297+L314+L331+L348+L365+L382+L399+L416+L433+L450+L467+L484+L501+L518+L535 -> 0 | Z41: =M41+M59+M76+M93+M110+M127+M144+M161+M178+M195+M212+M229+M246+M263+M280+M297+M314+M331+M348+M365+M382+M399+M416+M433+M450+M467+M484+M501+M518+M535 -> 0 | ... AB41: =O41+O59+O76+O93+O110+O127+O144+O161+O178+O195+O212+O229+O246+O263+O280+O297+O314+O331+O348+O365+O382+O399+O416+O433+O450+O467+O484+O501+O518+O535 -> 0
E42: 固定費 | R42: 固定費 | S42: =F42+F60+F77+F94+F111+F128+F145+F162+F179+F196+F213+F230+F247+F264+F281+F298+F315+F332+F349+F366+F383+F400+F417+F434+F451+F468+F485+F502+F519+F536 -> 0 | T42: =G42+G60+G77+G94+G111+G128+G145+G162+G179+G196+G213+G230+G247+G264+G281+G298+G315+G332+G349+G366+G383+G400+G417+G434+G451+G468+G485+G502+G519+G536 -> 0 | U42: =H42+H60+H77+H94+H111+H128+H145+H162+H179+H196+H213+H230+H247+H264+H281+H298+H315+H332+H349+H366+H383+H400+H417+H434+H451+H468+H485+H502+H519+H536 -> 0 | V42: =I42+I60+I77+I94+I111+I128+I145+I162+I179+I196+I213+I230+I247+I264+I281+I298+I315+I332+I349+I366+I383+I400+I417+I434+I451+I468+I485+I502+I519+I536 -> 0 | W42: =J42+J60+J77+J94+J111+J128+J145+J162+J179+J196+J213+J230+J247+J264+J281+J298+J315+J332+J349+J366+J383+J400+J417+J434+J451+J468+J485+J502+J519+J536 -> 0 | X42: =K42+K60+K77+K94+K111+K128+K145+K162+K179+K196+K213+K230+K247+K264+K281+K298+K315+K332+K349+K366+K383+K400+K417+K434+K451+K468+K485+K502+K519+K536 -> 0 | Y42: =L42+L60+L77+L94+L111+L128+L145+L162+L179+L196+L213+L230+L247+L264+L281+L298+L315+L332+L349+L366+L383+L400+L417+L434+L451+L468+L485+L502+L519+L536 -> 0 | Z42: =M42+M60+M77+M94+M111+M128+M145+M162+M179+M196+M213+M230+M247+M264+M281+M298+M315+M332+M349+M366+M383+M400+M417+M434+M451+M468+M485+M502+M519+M536 -> 0 | ... AB42: =O42+O60+O77+O94+O111+O128+O145+O162+O179+O196+O213+O230+O247+O264+O281+O298+O315+O332+O349+O366+O383+O400+O417+O434+O451+O468+O485+O502+O519+O536 -> 0
E43: 変動費 | R43: 変動費 | S43: =F43+F61+F78+F95+F112+F129+F146+F163+F180+F197+F214+F231+F248+F265+F282+F299+F316+F333+F350+F367+F384+F401+F418+F435+F452+F469+F486+F503+F520+F537 -> 0 | T43: =G43+G61+G78+G95+G112+G129+G146+G163+G180+G197+G214+G231+G248+G265+G282+G299+G316+G333+G350+G367+G384+G401+G418+G435+G452+G469+G486+G503+G520+G537 -> 0 | U43: =H43+H61+H78+H95+H112+H129+H146+H163+H180+H197+H214+H231+H248+H265+H282+H299+H316+H333+H350+H367+H384+H401+H418+H435+H452+H469+H486+H503+H520+H537 -> 0 | V43: =I43+I61+I78+I95+I112+I129+I146+I163+I180+I197+I214+I231+I248+I265+I282+I299+I316+I333+I350+I367+I384+I401+I418+I435+I452+I469+I486+I503+I520+I537 -> 0 | W43: =J43+J61+J78+J95+J112+J129+J146+J163+J180+J197+J214+J231+J248+J265+J282+J299+J316+J333+J350+J367+J384+J401+J418+J435+J452+J469+J486+J503+J520+J537 -> 0 | X43: =K43+K61+K78+K95+K112+K129+K146+K163+K180+K197+K214+K231+K248+K265+K282+K299+K316+K333+K350+K367+K384+K401+K418+K435+K452+K469+K486+K503+K520+K537 -> 0 | Y43: =L43+L61+L78+L95+L112+L129+L146+L163+L180+L197+L214+L231+L248+L265+L282+L299+L316+L333+L350+L367+L384+L401+L418+L435+L452+L469+L486+L503+L520+L537 -> 0 | Z43: =M43+M61+M78+M95+M112+M129+M146+M163+M180+M197+M214+M231+M248+M265+M282+M299+M316+M333+M350+M367+M384+M401+M418+M435+M452+M469+M486+M503+M520+M537 -> 0 | ... AB43: =O43+O61+O78+O95+O112+O129+O146+O163+O180+O197+O214+O231+O248+O265+O282+O299+O316+O333+O350+O367+O384+O401+O418+O435+O452+O469+O486+O503+O520+O537 -> 0
D44: 3 | E44: 営業利益 | R44: ３営業利益 | S44: =F44+F62+F79+F96+F113+F130+F147+F164+F181+F198+F215+F232+F249+F266+F283+F300+F317+F334+F351+F368+F385+F402+F419+F436+F453+F470+F487+F504+F521+F538 -> 0 | T44: =G44+G62+G79+G96+G113+G130+G147+G164+G181+G198+G215+G232+G249+G266+G283+G300+G317+G334+G351+G368+G385+G402+G419+G436+G453+G470+G487+G504+G521+G538 -> 0 | U44: =H44+H62+H79+H96+H113+H130+H147+H164+H181+H198+H215+H232+H249+H266+H283+H300+H317+H334+H351+H368+H385+H402+H419+H436+H453+H470+H487+H504+H521+H538 -> 0 | V44: =I44+I62+I79+I96+I113+I130+I147+I164+I181+I198+I215+I232+I249+I266+I283+I300+I317+I334+I351+I368+I385+I402+I419+I436+I453+I470+I487+I504+I521+I538 -> 0 | W44: =J44+J62+J79+J96+J113+J130+J147+J164+J181+J198+J215+J232+J249+J266+J283+J300+J317+J334+J351+J368+J385+J402+J419+J436+J453+J470+J487+J504+J521+J538 -> 0 | X44: =K44+K62+K79+K96+K113+K130+K147+K164+K181+K198+K215+K232+K249+K266+K283+K300+K317+K334+K351+K368+K385+K402+K419+K436+K453+K470+K487+K504+K521+K538 -> 0 | Y44: =L44+L62+L79+L96+L113+L130+L147+L164+L181+L198+L215+L232+L249+L266+L283+L300+L317+L334+L351+L368+L385+L402+L419+L436+L453+L470+L487+L504+L521+L538 -> 0 | Z44: =M44+M62+M79+M96+M113+M130+M147+M164+M181+M198+M215+M232+M249+M266+M283+M300+M317+M334+M351+M368+M385+M402+M419+M436+M453+M470+M487+M504+M521+M538 -> 0 | ... AB44: =O44+O62+O79+O96+O113+O130+O147+O164+O181+O198+O215+O232+O249+O266+O283+O300+O317+O334+O351+O368+O385+O402+O419+O436+O453+O470+O487+O504+O521+O538 -> 0
B47: グリーン製品②：
...

Sheet 【製造プロセス】入力補助シート
A1: 入力補助シート
B3: <事業者ごとの経費明細>及び<共通製品の収支計画と自社の配分割合>について、もれなく入力すること。
B6: <事業者毎の経費明細>
C7: 「【共同申請｜共通パート】様式第３別添１・２」より、別添１経費明細シートから、自社の経費明細を転記してください（値貼り付けすること）。
E9: （単位：円）
E10: 社名：○○
C11: 経費区分 | D11: 事業期間 | E11: （A）間接補助事業に要する経費（税抜） | F11: （B）補助対象経費 （税抜） | G11: （C）補助金交付申請額 | H11: （D）補助対象外経費（税抜）
C12: 設計費 | D12: 2026
C13: =C12 -> 設計費 | D13: 2027
C14: =C13 -> 設計費 | D14: 2028
C15: =C14 -> 設計費 | D15: 2029
C16: =C15 -> 設計費 | D16: 2030
C17: =C16 -> 設計費 | D17: 合計
C18: 建物等取得費 | D18: 2026
C19: =C18 -> 建物等取得費 | D19: 2027
C20: =C19 -> 建物等取得費 | D20: 2028
C21: =C20 -> 建物等取得費 | D21: 2029
C22: =C21 -> 建物等取得費 | D22: 2030
C23: =C22 -> 建物等取得費 | D23: 合計
C24: 設備費 | D24: 2026
C25: =C24 -> 設備費 | D25: 2027
C26: =C25 -> 設備費 | D26: 2028
C27: =C26 -> 設備費 | D27: 2029
C28: =C27 -> 設備費 | D28: 2030
C29: =C28 -> 設備費 | D29: 合計
C30: システム整備費 | D30: 2026
C31: =C30 -> システム整備費 | D31: 2027
C32: =C31 -> システム整備費 | D32: 2028
C33: =C32 -> システム整備費 | D33: 2029
C34: =C33 -> システム整備費 | D34: 2030
C35: =C34 -> システム整備費 | D35: 合計
C36: その他 | D36: 2026
C37: その他 | D37: 2027
C38: その他 | D38: 2028
C39: その他 | D39: 2029
C40: その他 | D40: 2030
C41: その他 | D41: 合計
C42: 合計 | D42: 2026
C43: 合計 | D43: 2027
C44: 合計 | D44: 2028
...

Sheet 【製造プロセス】別添２_収支計画（各社）個別
A1: 別添２（製造プロセス転換又は構造転換（製造プロセス転換）の区分で申請する場合のみ提出）
B3: ■収支計画
D6: 提出日 ：
D7: 事業者名：
D8: 商用開始年度：
D9: 間接補助事業完了日：
D10: 間接補助事業完了日
D11: を含む事業年度：
F13: （単位：千円）
F14: 間接補助事業期間＋事業化報告期間
F15: 間接補助事業開始
F16: ２０２６年度 | G16: ２０２７年度 | H16: ２０２８年度 | I16: ２０２９年度 | J16: ２０３０年度 | K16: ２０３１年度 | L16: ２０３２年度 | M16: ２０３３年度 | N16: ２０３４年度 | O16: ２０３５年度
B18: <間接補助事業にかかる財務数値>
C19: ■収支計画（間接補助事業における数値）
C20: 1 売上高、2 売上総利益、3 営業利益、4 減価償却費、6 他制度による収益等について、補助対象事業の不確実性を前提とした上で、一定の仮定に基づき以下の点に留意しつつ記載ください。
C21: ・一部については「別添１_経費明細」や「別添２_収支計画（製品別）_燃料転換用」で入力された内容が自動集計されます。特に1～3はグリーン化する製品別の収支計画の合計です（※原価計算にあたり他のコストも考慮する場合等は適宜補足資料等でご説明ください）。
C22: ・提案時点での数字や内容は必ずしも正確である必要はなく、対象製品の収益化・事業成長の見通し・スケジュール（当初計画）を確認するものです。
C23: ・今後、業務実施期間中のモニタリングにおいて、当該情報をアップデートした上で、定期的に確認を行う予定です。
C24: ・価値提供・収益化等については、「他制度による収益等」として、政府・公的機関による規制・制度的措置等に関する一定の見通し（CO2価格等）に基づき記載することで差し支えありません。
C25: ・本別添の計算過程は、様式第３「⑤ア 経済的基準」における投資判断基準の導出過程に使用することも想定しています。
D26: 1 | E26: 売上高 | F26: ='【製造プロセス】別添２－２_製品別計画 (各社｜共通製品）個別'!F26+'【製造プロセス】別添２－３_製品別計画（各社｜個社製品）個別'!S30 -> 0 | G26: ='【製造プロセス】別添２－２_製品別計画 (各社｜共通製品）個別'!G26+'【製造プロセス】別添２－３_製品別計画（各社｜個社製品）個別'!T30 -> 0 | H26: ='【製造プロセス】別添２－２_製品別計画 (各社｜共通製品）個別'!H26+'【製造プロセス】別添２－３_製品別計画（各社｜個社製品）個別'!U30 -> 0 | I26: ='【製造プロセス】別添２－２_製品別計画 (各社｜共通製品）個別'!I26+'【製造プロセス】別添２－３_製品別計画（各社｜個社製品）個別'!V30 -> 0 | J26: ='【製造プロセス】別添２－２_製品別計画 (各社｜共通製品）個別'!J26+'【製造プロセス】別添２－３_製品別計画（各社｜個社製品）個別'!W30 -> 0 | K26: ='【製造プロセス】別添２－２_製品別計画 (各社｜共通製品）個別'!K26+'【製造プロセス】別添２－３_製品別計画（各社｜個社製品）個別'!X30 -> 0 | L26: ='【製造プロセス】別添２－２_製品別計画 (各社｜共通製品）個別'!L26+'【製造プロセス】別添２－３_製品別計画（各社｜個社製品）個別'!Y30 -> 0 | M26: ='【製造プロセス】別添２－２_製品別計画 (各社｜共通製品）個別'!M26+'【製造プロセス】別添２－３_製品別計画（各社｜個社製品）個別'!Z30 -> 0 | ... O26: ='【製造プロセス】別添２－２_製品別計画 (各社｜共通製品）個別'!O26+'【製造プロセス】別添２－３_製品別計画（各社｜個社製品）個別'!AB30 -> 0
E27: 売上原価 | F27: ='【製造プロセス】別添２－２_製品別計画 (各社｜共通製品）個別'!F27+'【製造プロセス】別添２－３_製品別計画（各社｜個社製品）個別'!S33 -> 0 | G27: ='【製造プロセス】別添２－２_製品別計画 (各社｜共通製品）個別'!G27+'【製造プロセス】別添２－３_製品別計画（各社｜個社製品）個別'!T33 -> 0 | H27: ='【製造プロセス】別添２－２_製品別計画 (各社｜共通製品）個別'!H27+'【製造プロセス】別添２－３_製品別計画（各社｜個社製品）個別'!U33 -> 0 | I27: ='【製造プロセス】別添２－２_製品別計画 (各社｜共通製品）個別'!I27+'【製造プロセス】別添２－３_製品別計画（各社｜個社製品）個別'!V33 -> 0 | J27: ='【製造プロセス】別添２－２_製品別計画 (各社｜共通製品）個別'!J27+'【製造プロセス】別添２－３_製品別計画（各社｜個社製品）個別'!W33 -> 0 | K27: ='【製造プロセス】別添２－２_製品別計画 (各社｜共通製品）個別'!K27+'【製造プロセス】別添２－３_製品別計画（各社｜個社製品）個別'!X33 -> 0 | L27: ='【製造プロセス】別添２－２_製品別計画 (各社｜共通製品）個別'!L27+'【製造プロセス】別添２－３_製品別計画（各社｜個社製品）個別'!Y33 -> 0 | M27: ='【製造プロセス】別添２－２_製品別計画 (各社｜共通製品）個別'!M27+'【製造プロセス】別添２－３_製品別計画（各社｜個社製品）個別'!Z33 -> 0 | ... O27: ='【製造プロセス】別添２－２_製品別計画 (各社｜共通製品）個別'!O27+'【製造プロセス】別添２－３_製品別計画（各社｜個社製品）個別'!AB33 -> 0
E28: 固定費 | F28: ='【製造プロセス】別添２－２_製品別計画 (各社｜共通製品）個別'!F28+'【製造プロセス】別添２－３_製品別計画（各社｜個社製品）個別'!S34 -> 0 | G28: ='【製造プロセス】別添２－２_製品別計画 (各社｜共通製品）個別'!G28+'【製造プロセス】別添２－３_製品別計画（各社｜個社製品）個別'!T34 -> 0 | H28: ='【製造プロセス】別添２－２_製品別計画 (各社｜共通製品）個別'!H28+'【製造プロセス】別添２－３_製品別計画（各社｜個社製品）個別'!U34 -> 0 | I28: ='【製造プロセス】別添２－２_製品別計画 (各社｜共通製品）個別'!I28+'【製造プロセス】別添２－３_製品別計画（各社｜個社製品）個別'!V34 -> 0 | J28: ='【製造プロセス】別添２－２_製品別計画 (各社｜共通製品）個別'!J28+'【製造プロセス】別添２－３_製品別計画（各社｜個社製品）個別'!W34 -> 0 | K28: ='【製造プロセス】別添２－２_製品別計画 (各社｜共通製品）個別'!K28+'【製造プロセス】別添２－３_製品別計画（各社｜個社製品）個別'!X34 -> 0 | L28: ='【製造プロセス】別添２－２_製品別計画 (各社｜共通製品）個別'!L28+'【製造プロセス】別添２－３_製品別計画（各社｜個社製品）個別'!Y34 -> 0 | M28: ='【製造プロセス】別添２－２_製品別計画 (各社｜共通製品）個別'!M28+'【製造プロセス】別添２－３_製品別計画（各社｜個社製品）個別'!Z34 -> 0 | ... O28: ='【製造プロセス】別添２－２_製品別計画 (各社｜共通製品）個別'!O28+'【製造プロセス】別添２－３_製品別計画（各社｜個社製品）個別'!AB34 -> 0
E29: 変動費 | F29: ='【製造プロセス】別添２－２_製品別計画 (各社｜共通製品）個別'!F29+'【製造プロセス】別添２－３_製品別計画（各社｜個社製品）個別'!S35 -> 0 | G29: ='【製造プロセス】別添２－２_製品別計画 (各社｜共通製品）個別'!G29+'【製造プロセス】別添２－３_製品別計画（各社｜個社製品）個別'!T35 -> 0 | H29: ='【製造プロセス】別添２－２_製品別計画 (各社｜共通製品）個別'!H29+'【製造プロセス】別添２－３_製品別計画（各社｜個社製品）個別'!U35 -> 0 | I29: ='【製造プロセス】別添２－２_製品別計画 (各社｜共通製品）個別'!I29+'【製造プロセス】別添２－３_製品別計画（各社｜個社製品）個別'!V35 -> 0 | J29: ='【製造プロセス】別添２－２_製品別計画 (各社｜共通製品）個別'!J29+'【製造プロセス】別添２－３_製品別計画（各社｜個社製品）個別'!W35 -> 0 | K29: ='【製造プロセス】別添２－２_製品別計画 (各社｜共通製品）個別'!K29+'【製造プロセス】別添２－３_製品別計画（各社｜個社製品）個別'!X35 -> 0 | L29: ='【製造プロセス】別添２－２_製品別計画 (各社｜共通製品）個別'!L29+'【製造プロセス】別添２－３_製品別計画（各社｜個社製品）個別'!Y35 -> 0 | M29: ='【製造プロセス】別添２－２_製品別計画 (各社｜共通製品）個別'!M29+'【製造プロセス】別添２－３_製品別計画（各社｜個社製品）個別'!Z35 -> 0 | ... O29: ='【製造プロセス】別添２－２_製品別計画 (各社｜共通製品）個別'!O29+'【製造プロセス】別添２－３_製品別計画（各社｜個社製品）個別'!AB35 -> 0
D30: 2 | E30: 売上総利益 | F30: ='【製造プロセス】別添２－２_製品別計画 (各社｜共通製品）個別'!F30+'【製造プロセス】別添２－３_製品別計画（各社｜個社製品）個別'!S36 -> 0 | G30: ='【製造プロセス】別添２－２_製品別計画 (各社｜共通製品）個別'!G30+'【製造プロセス】別添２－３_製品別計画（各社｜個社製品）個別'!T36 -> 0 | H30: ='【製造プロセス】別添２－２_製品別計画 (各社｜共通製品）個別'!H30+'【製造プロセス】別添２－３_製品別計画（各社｜個社製品）個別'!U36 -> 0 | I30: ='【製造プロセス】別添２－２_製品別計画 (各社｜共通製品）個別'!I30+'【製造プロセス】別添２－３_製品別計画（各社｜個社製品）個別'!V36 -> 0 | J30: ='【製造プロセス】別添２－２_製品別計画 (各社｜共通製品）個別'!J30+'【製造プロセス】別添２－３_製品別計画（各社｜個社製品）個別'!W36 -> 0 | K30: ='【製造プロセス】別添２－２_製品別計画 (各社｜共通製品）個別'!K30+'【製造プロセス】別添２－３_製品別計画（各社｜個社製品）個別'!X36 -> 0 | L30: ='【製造プロセス】別添２－２_製品別計画 (各社｜共通製品）個別'!L30+'【製造プロセス】別添２－３_製品別計画（各社｜個社製品）個別'!Y36 -> 0 | M30: ='【製造プロセス】別添２－２_製品別計画 (各社｜共通製品）個別'!M30+'【製造プロセス】別添２－３_製品別計画（各社｜個社製品）個別'!Z36 -> 0 | ... O30: ='【製造プロセス】別添２－２_製品別計画 (各社｜共通製品）個別'!O30+'【製造プロセス】別添２－３_製品別計画（各社｜個社製品）個別'!AB36 -> 0
E31: 販売費 | F31: ='【製造プロセス】別添２－２_製品別計画 (各社｜共通製品）個別'!F31+'【製造プロセス】別添２－３_製品別計画（各社｜個社製品）個別'!S37 -> 0 | G31: ='【製造プロセス】別添２－２_製品別計画 (各社｜共通製品）個別'!G31+'【製造プロセス】別添２－３_製品別計画（各社｜個社製品）個別'!T37 -> 0 | H31: ='【製造プロセス】別添２－２_製品別計画 (各社｜共通製品）個別'!H31+'【製造プロセス】別添２－３_製品別計画（各社｜個社製品）個別'!U37 -> 0 | I31: ='【製造プロセス】別添２－２_製品別計画 (各社｜共通製品）個別'!I31+'【製造プロセス】別添２－３_製品別計画（各社｜個社製品）個別'!V37 -> 0 | J31: ='【製造プロセス】別添２－２_製品別計画 (各社｜共通製品）個別'!J31+'【製造プロセス】別添２－３_製品別計画（各社｜個社製品）個別'!W37 -> 0 | K31: ='【製造プロセス】別添２－２_製品別計画 (各社｜共通製品）個別'!K31+'【製造プロセス】別添２－３_製品別計画（各社｜個社製品）個別'!X37 -> 0 | L31: ='【製造プロセス】別添２－２_製品別計画 (各社｜共通製品）個別'!L31+'【製造プロセス】別添２－３_製品別計画（各社｜個社製品）個別'!Y37 -> 0 | M31: ='【製造プロセス】別添２－２_製品別計画 (各社｜共通製品）個別'!M31+'【製造プロセス】別添２－３_製品別計画（各社｜個社製品）個別'!Z37 -> 0 | ... O31: ='【製造プロセス】別添２－２_製品別計画 (各社｜共通製品）個別'!O31+'【製造プロセス】別添２－３_製品別計画（各社｜個社製品）個別'!AB37 -> 0
E32: 固定費 | F32: ='【製造プロセス】別添２－２_製品別計画 (各社｜共通製品）個別'!F32+'【製造プロセス】別添２－３_製品別計画（各社｜個社製品）個別'!S38 -> 0 | G32: ='【製造プロセス】別添２－２_製品別計画 (各社｜共通製品）個別'!G32+'【製造プロセス】別添２－３_製品別計画（各社｜個社製品）個別'!T38 -> 0 | H32: ='【製造プロセス】別添２－２_製品別計画 (各社｜共通製品）個別'!H32+'【製造プロセス】別添２－３_製品別計画（各社｜個社製品）個別'!U38 -> 0 | I32: ='【製造プロセス】別添２－２_製品別計画 (各社｜共通製品）個別'!I32+'【製造プロセス】別添２－３_製品別計画（各社｜個社製品）個別'!V38 -> 0 | J32: ='【製造プロセス】別添２－２_製品別計画 (各社｜共通製品）個別'!J32+'【製造プロセス】別添２－３_製品別計画（各社｜個社製品）個別'!W38 -> 0 | K32: ='【製造プロセス】別添２－２_製品別計画 (各社｜共通製品）個別'!K32+'【製造プロセス】別添２－３_製品別計画（各社｜個社製品）個別'!X38 -> 0 | L32: ='【製造プロセス】別添２－２_製品別計画 (各社｜共通製品）個別'!L32+'【製造プロセス】別添２－３_製品別計画（各社｜個社製品）個別'!Y38 -> 0 | M32: ='【製造プロセス】別添２－２_製品別計画 (各社｜共通製品）個別'!M32+'【製造プロセス】別添２－３_製品別計画（各社｜個社製品）個別'!Z38 -> 0 | ... O32: ='【製造プロセス】別添２－２_製品別計画 (各社｜共通製品）個別'!O32+'【製造プロセス】別添２－３_製品別計画（各社｜個社製品）個別'!AB38 -> 0
E33: 変動費 | F33: ='【製造プロセス】別添２－２_製品別計画 (各社｜共通製品）個別'!F33+'【製造プロセス】別添２－３_製品別計画（各社｜個社製品）個別'!S39 -> 0 | G33: ='【製造プロセス】別添２－２_製品別計画 (各社｜共通製品）個別'!G33+'【製造プロセス】別添２－３_製品別計画（各社｜個社製品）個別'!T39 -> 0 | H33: ='【製造プロセス】別添２－２_製品別計画 (各社｜共通製品）個別'!H33+'【製造プロセス】別添２－３_製品別計画（各社｜個社製品）個別'!U39 -> 0 | I33: ='【製造プロセス】別添２－２_製品別計画 (各社｜共通製品）個別'!I33+'【製造プロセス】別添２－３_製品別計画（各社｜個社製品）個別'!V39 -> 0 | J33: ='【製造プロセス】別添２－２_製品別計画 (各社｜共通製品）個別'!J33+'【製造プロセス】別添２－３_製品別計画（各社｜個社製品）個別'!W39 -> 0 | K33: ='【製造プロセス】別添２－２_製品別計画 (各社｜共通製品）個別'!K33+'【製造プロセス】別添２－３_製品別計画（各社｜個社製品）個別'!X39 -> 0 | L33: ='【製造プロセス】別添２－２_製品別計画 (各社｜共通製品）個別'!L33+'【製造プロセス】別添２－３_製品別計画（各社｜個社製品）個別'!Y39 -> 0 | M33: ='【製造プロセス】別添２－２_製品別計画 (各社｜共通製品）個別'!M33+'【製造プロセス】別添２－３_製品別計画（各社｜個社製品）個別'!Z39 -> 0 | ... O33: ='【製造プロセス】別添２－２_製品別計画 (各社｜共通製品）個別'!O33+'【製造プロセス】別添２－３_製品別計画（各社｜個社製品）個別'!AB39 -> 0
E34: 一般管理費 | F34: ='【製造プロセス】別添２－２_製品別計画 (各社｜共通製品）個別'!F34+'【製造プロセス】別添２－３_製品別計画（各社｜個社製品）個別'!S40 -> 0 | G34: ='【製造プロセス】別添２－２_製品別計画 (各社｜共通製品）個別'!G34+'【製造プロセス】別添２－３_製品別計画（各社｜個社製品）個別'!T40 -> 0 | H34: ='【製造プロセス】別添２－２_製品別計画 (各社｜共通製品）個別'!H34+'【製造プロセス】別添２－３_製品別計画（各社｜個社製品）個別'!U40 -> 0 | I34: ='【製造プロセス】別添２－２_製品別計画 (各社｜共通製品）個別'!I34+'【製造プロセス】別添２－３_製品別計画（各社｜個社製品）個別'!V40 -> 0 | J34: ='【製造プロセス】別添２－２_製品別計画 (各社｜共通製品）個別'!J34+'【製造プロセス】別添２－３_製品別計画（各社｜個社製品）個別'!W40 -> 0 | K34: ='【製造プロセス】別添２－２_製品別計画 (各社｜共通製品）個別'!K34+'【製造プロセス】別添２－３_製品別計画（各社｜個社製品）個別'!X40 -> 0 | L34: ='【製造プロセス】別添２－２_製品別計画 (各社｜共通製品）個別'!L34+'【製造プロセス】別添２－３_製品別計画（各社｜個社製品）個別'!Y40 -> 0 | M34: ='【製造プロセス】別添２－２_製品別計画 (各社｜共通製品）個別'!M34+'【製造プロセス】別添２－３_製品別計画（各社｜個社製品）個別'!Z40 -> 0 | ... O34: ='【製造プロセス】別添２－２_製品別計画 (各社｜共通製品）個別'!O34+'【製造プロセス】別添２－３_製品別計画（各社｜個社製品）個別'!AB40 -> 0
E35: 固定費 | F35: ='【製造プロセス】別添２－２_製品別計画 (各社｜共通製品）個別'!F35+'【製造プロセス】別添２－３_製品別計画（各社｜個社製品）個別'!S41 -> 0 | G35: ='【製造プロセス】別添２－２_製品別計画 (各社｜共通製品）個別'!G35+'【製造プロセス】別添２－３_製品別計画（各社｜個社製品）個別'!T41 -> 0 | H35: ='【製造プロセス】別添２－２_製品別計画 (各社｜共通製品）個別'!H35+'【製造プロセス】別添２－３_製品別計画（各社｜個社製品）個別'!U41 -> 0 | I35: ='【製造プロセス】別添２－２_製品別計画 (各社｜共通製品）個別'!I35+'【製造プロセス】別添２－３_製品別計画（各社｜個社製品）個別'!V41 -> 0 | J35: ='【製造プロセス】別添２－２_製品別計画 (各社｜共通製品）個別'!J35+'【製造プロセス】別添２－３_製品別計画（各社｜個社製品）個別'!W41 -> 0 | K35: ='【製造プロセス】別添２－２_製品別計画 (各社｜共通製品）個別'!K35+'【製造プロセス】別添２－３_製品別計画（各社｜個社製品）個別'!X41 -> 0 | L35: ='【製造プロセス】別添２－２_製品別計画 (各社｜共通製品）個別'!L35+'【製造プロセス】別添２－３_製品別計画（各社｜個社製品）個別'!Y41 -> 0 | M35: ='【製造プロセス】別添２－２_製品別計画 (各社｜共通製品）個別'!M35+'【製造プロセス】別添２－３_製品別計画（各社｜個社製品）個別'!Z41 -> 0 | ... O35: ='【製造プロセス】別添２－２_製品別計画 (各社｜共通製品）個別'!O35+'【製造プロセス】別添２－３_製品別計画（各社｜個社製品）個別'!AB41 -> 0
E36: 変動費 | F36: ='【製造プロセス】別添２－２_製品別計画 (各社｜共通製品）個別'!F36+'【製造プロセス】別添２－３_製品別計画（各社｜個社製品）個別'!S42 -> 0 | G36: ='【製造プロセス】別添２－２_製品別計画 (各社｜共通製品）個別'!G36+'【製造プロセス】別添２－３_製品別計画（各社｜個社製品）個別'!T42 -> 0 | H36: ='【製造プロセス】別添２－２_製品別計画 (各社｜共通製品）個別'!H36+'【製造プロセス】別添２－３_製品別計画（各社｜個社製品）個別'!U42 -> 0 | I36: ='【製造プロセス】別添２－２_製品別計画 (各社｜共通製品）個別'!I36+'【製造プロセス】別添２－３_製品別計画（各社｜個社製品）個別'!V42 -> 0 | J36: ='【製造プロセス】別添２－２_製品別計画 (各社｜共通製品）個別'!J36+'【製造プロセス】別添２－３_製品別計画（各社｜個社製品）個別'!W42 -> 0 | K36: ='【製造プロセス】別添２－２_製品別計画 (各社｜共通製品）個別'!K36+'【製造プロセス】別添２－３_製品別計画（各社｜個社製品）個別'!X42 -> 0 | L36: ='【製造プロセス】別添２－２_製品別計画 (各社｜共通製品）個別'!L36+'【製造プロセス】別添２－３_製品別計画（各社｜個社製品）個別'!Y42 -> 0 | M36: ='【製造プロセス】別添２－２_製品別計画 (各社｜共通製品）個別'!M36+'【製造プロセス】別添２－３_製品別計画（各社｜個社製品）個別'!Z42 -> 0 | ... O36: ='【製造プロセス】別添２－２_製品別計画 (各社｜共通製品）個別'!O36+'【製造プロセス】別添２－３_製品別計画（各社｜個社製品）個別'!AB42 -> 0
D37: 3 | E37: 営業利益 （a） | F37: ='【製造プロセス】別添２－２_製品別計画 (各社｜共通製品）個別'!F37+'【製造プロセス】別添２－３_製品別計画（各社｜個社製品）個別'!S43 -> 0 | G37: ='【製造プロセス】別添２－２_製品別計画 (各社｜共通製品）個別'!G37+'【製造プロセス】別添２－３_製品別計画（各社｜個社製品）個別'!T43 -> 0 | H37: ='【製造プロセス】別添２－２_製品別計画 (各社｜共通製品）個別'!H37+'【製造プロセス】別添２－３_製品別計画（各社｜個社製品）個別'!U43 -> 0 | I37: ='【製造プロセス】別添２－２_製品別計画 (各社｜共通製品）個別'!I37+'【製造プロセス】別添２－３_製品別計画（各社｜個社製品）個別'!V43 -> 0 | J37: ='【製造プロセス】別添２－２_製品別計画 (各社｜共通製品）個別'!J37+'【製造プロセス】別添２－３_製品別計画（各社｜個社製品）個別'!W43 -> 0 | K37: ='【製造プロセス】別添２－２_製品別計画 (各社｜共通製品）個別'!K37+'【製造プロセス】別添２－３_製品別計画（各社｜個社製品）個別'!X43 -> 0 | L37: ='【製造プロセス】別添２－２_製品別計画 (各社｜共通製品）個別'!L37+'【製造プロセス】別添２－３_製品別計画（各社｜個社製品）個別'!Y43 -> 0 | M37: ='【製造プロセス】別添２－２_製品別計画 (各社｜共通製品）個別'!M37+'【製造プロセス】別添２－３_製品別計画（各社｜個社製品）個別'!Z43 -> 0 | ... O37: ='【製造プロセス】別添２－２_製品別計画 (各社｜共通製品）個別'!O37+'【製造プロセス】別添２－３_製品別計画（各社｜個社製品）個別'!AB43 -> 0
D38: 4 | E38: 減価償却費 （b）
D39: 5 | E39: 間接補助事業に要する経費（c） | F39: =【製造プロセス】入力補助シート!E42/1000 -> 0 | G39: =【製造プロセス】入力補助シート!E43/1000 -> 0 | H39: =【製造プロセス】入力補助シート!E44/1000 -> 0 | I39: =【製造プロセス】入力補助シート!E45/1000 -> 0 | J39: =【製造プロセス】入力補助シート!E46/1000 -> 0
D40: 6 | E40: 補助金額 （d） | F40: =【製造プロセス】入力補助シート!G42/1000 -> 0 | G40: =【製造プロセス】入力補助シート!G43/1000 -> 0 | H40: =【製造プロセス】入力補助シート!G44/1000 -> 0 | I40: =【製造プロセス】入力補助シート!G45/1000 -> 0 | J40: =【製造プロセス】入力補助シート!G46/1000 -> 0
E41: 他制度による収益等（d’）
D42: 7 | E42: その他費用に係る経費 （e） | F42: =【製造プロセス】入力補助シート!$H42/1000 -> 0 | G42: =【製造プロセス】入力補助シート!$H43/1000 -> 0 | H42: =【製造プロセス】入力補助シート!$H44/1000 -> 0 | I42: =【製造プロセス】入力補助シート!$H45/1000 -> 0 | J42: =【製造プロセス】入力補助シート!$H46/1000 -> 0
D43: 8 | E43: 間接補助事業におけるキャッシュフロー（f=a+b） | F43: =F37+F38 -> 0 | G43: =G37+G38 -> 0 | H43: =H37+H38 -> 0 | I43: =I37+I38 -> 0 | J43: =J37+J38 -> 0 | K43: =K37+K38 -> 0 | L43: =L37+L38 -> 0 | M43: =M37+M38 -> 0 | ... O43: =O37+O38 -> 0
D44: 9 | E44: 投資未回収額（g=前年度g+c-d-d'-f） | F44: =F39-F40-F41-F43 -> 0 | G44: =F44+G39-G40-G41-G43 -> 0 | H44: =G44+H39-H40-H41-H43 -> 0 | I44: =H44+I39-I40-I41-I43 -> 0 | J44: =I44+J39-J40-J41-J43 -> 0 | K44: =J44+K39-K40-K41-K43 -> 0 | L44: =K44+L39-L40-L41-L43 -> 0 | M44: =L44+M39-M40-M41-M43 -> 0 | N44: =M44+N39-N40-N41-N43 -> 0 | O44: =N44+O39-O40-O41-O43 -> 0
D45: 10 | E45: 投資回収期間（年） | F45: =IF(O44>=0,"投資回収できない計画となっています。ご確認ください",IF(F44<0,"事業初年度から投資回収ができる計画となっています。ご確認ください",COUNTIFS($F$44:$O$44,">="&0)+1)) -> 投資回収できない計画となっています。ご確認ください

Sheet 【製造プロセス】別添２－２_製品別計画 (各社｜共通製品）個別
A1: 別添２－２（製造プロセス転換又は構造転換（製造プロセス転換）の区分で申請する場合のみ提出）
B3: ■収支計画
D6: 提出日 ：
D7: 事業者名：
D8: 商用開始年度：
D9: 間接補助事業完了日：
D10: 間接補助事業完了日
D11: を含む事業年度：
F13: （単位：千円）
F14: 間接補助事業期間＋事業化報告期間
F15: 間接補助事業開始
F16: ２０２６年度 | G16: ２０２７年度 | H16: ２０２８年度 | I16: ２０２９年度 | J16: ２０３０年度 | K16: ２０３１年度 | L16: ２０３２年度 | M16: ２０３３年度 | N16: ２０３４年度 | O16: ２０３５年度
B18: <間接補助事業にかかる財務数値> ③共同事業者各社の収支相当分
C19: ■収支計画（間接補助事業における数値）
C20: 1 売上高、2 売上総利益、3 営業利益、4 減価償却費、6 他制度による収益等について、補助対象事業の不確実性を前提とした上で、一定の仮定に基づき以下の点に留意しつつ記載ください。
C21: ・一部については「別添１_経費明細」や「別添２_収支計画（製品別）_燃料転換用」で入力された内容が自動集計されます。特に1～3はグリーン化する製品別の収支計画の合計です（※原価計算にあたり他のコストも考慮する場合等は適宜補足資料等でご説明ください）。
C22: ・提案時点での数字や内容は必ずしも正確である必要はなく、対象製品の収益化・事業成長の見通し・スケジュール（当初計画）を確認するものです。
C23: ・今後、業務実施期間中のモニタリングにおいて、当該情報をアップデートした上で、定期的に確認を行う予定です。
C24: ・価値提供・収益化等については、「他制度による収益等」として、政府・公的機関による規制・制度的措置等に関する一定の見通し（CO2価格等）に基づき記載することで差し支えありません。
C25: ・本別添の計算過程は、様式第３「⑤ア 経済的基準」における投資判断基準の導出過程に使用することも想定しています。
D26: 1 | E26: 売上高 | F26: =ROUNDDOWN(【製造プロセス】入力補助シート!D59*【製造プロセス】入力補助シート!$D$76,0) -> 0 | G26: =ROUNDDOWN(【製造プロセス】入力補助シート!E59*【製造プロセス】入力補助シート!$D$76,0) -> 0 | H26: =ROUNDDOWN(【製造プロセス】入力補助シート!F59*【製造プロセス】入力補助シート!$D$76,0) -> 0 | I26: =ROUNDDOWN(【製造プロセス】入力補助シート!G59*【製造プロセス】入力補助シート!$D$76,0) -> 0 | J26: =ROUNDDOWN(【製造プロセス】入力補助シート!H59*【製造プロセス】入力補助シート!$D$76,0) -> 0 | K26: =ROUNDDOWN(【製造プロセス】入力補助シート!I59*【製造プロセス】入力補助シート!$D$76,0) -> 0 | L26: =ROUNDDOWN(【製造プロセス】入力補助シート!J59*【製造プロセス】入力補助シート!$D$76,0) -> 0 | M26: =ROUNDDOWN(【製造プロセス】入力補助シート!K59*【製造プロセス】入力補助シート!$D$76,0) -> 0 | ... O26: =ROUNDDOWN(【製造プロセス】入力補助シート!M59*【製造プロセス】入力補助シート!$D$76,0) -> 0
E27: 売上原価 | F27: =ROUNDDOWN(【製造プロセス】入力補助シート!D62*【製造プロセス】入力補助シート!$D$76,0) -> 0 | G27: =ROUNDDOWN(【製造プロセス】入力補助シート!E62*【製造プロセス】入力補助シート!$D$76,0) -> 0 | H27: =ROUNDDOWN(【製造プロセス】入力補助シート!F62*【製造プロセス】入力補助シート!$D$76,0) -> 0 | I27: =ROUNDDOWN(【製造プロセス】入力補助シート!G62*【製造プロセス】入力補助シート!$D$76,0) -> 0 | J27: =ROUNDDOWN(【製造プロセス】入力補助シート!H62*【製造プロセス】入力補助シート!$D$76,0) -> 0 | K27: =ROUNDDOWN(【製造プロセス】入力補助シート!I62*【製造プロセス】入力補助シート!$D$76,0) -> 0 | L27: =ROUNDDOWN(【製造プロセス】入力補助シート!J62*【製造プロセス】入力補助シート!$D$76,0) -> 0 | M27: =ROUNDDOWN(【製造プロセス】入力補助シート!K62*【製造プロセス】入力補助シート!$D$76,0) -> 0 | ... O27: =ROUNDDOWN(【製造プロセス】入力補助シート!M62*【製造プロセス】入力補助シート!$D$76,0) -> 0
E28: 固定費 | F28: =ROUNDDOWN(【製造プロセス】入力補助シート!D63*【製造プロセス】入力補助シート!$D$76,0) -> 0 | G28: =ROUNDDOWN(【製造プロセス】入力補助シート!E63*【製造プロセス】入力補助シート!$D$76,0) -> 0 | H28: =ROUNDDOWN(【製造プロセス】入力補助シート!F63*【製造プロセス】入力補助シート!$D$76,0) -> 0 | I28: =ROUNDDOWN(【製造プロセス】入力補助シート!G63*【製造プロセス】入力補助シート!$D$76,0) -> 0 | J28: =ROUNDDOWN(【製造プロセス】入力補助シート!H63*【製造プロセス】入力補助シート!$D$76,0) -> 0 | K28: =ROUNDDOWN(【製造プロセス】入力補助シート!I63*【製造プロセス】入力補助シート!$D$76,0) -> 0 | L28: =ROUNDDOWN(【製造プロセス】入力補助シート!J63*【製造プロセス】入力補助シート!$D$76,0) -> 0 | M28: =ROUNDDOWN(【製造プロセス】入力補助シート!K63*【製造プロセス】入力補助シート!$D$76,0) -> 0 | ... O28: =ROUNDDOWN(【製造プロセス】入力補助シート!M63*【製造プロセス】入力補助シート!$D$76,0) -> 0
E29: 変動費 | F29: =ROUNDDOWN(【製造プロセス】入力補助シート!D64*【製造プロセス】入力補助シート!$D$76,0) -> 0 | G29: =ROUNDDOWN(【製造プロセス】入力補助シート!E64*【製造プロセス】入力補助シート!$D$76,0) -> 0 | H29: =ROUNDDOWN(【製造プロセス】入力補助シート!F64*【製造プロセス】入力補助シート!$D$76,0) -> 0 | I29: =ROUNDDOWN(【製造プロセス】入力補助シート!G64*【製造プロセス】入力補助シート!$D$76,0) -> 0 | J29: =ROUNDDOWN(【製造プロセス】入力補助シート!H64*【製造プロセス】入力補助シート!$D$76,0) -> 0 | K29: =ROUNDDOWN(【製造プロセス】入力補助シート!I64*【製造プロセス】入力補助シート!$D$76,0) -> 0 | L29: =ROUNDDOWN(【製造プロセス】入力補助シート!J64*【製造プロセス】入力補助シート!$D$76,0) -> 0 | M29: =ROUNDDOWN(【製造プロセス】入力補助シート!K64*【製造プロセス】入力補助シート!$D$76,0) -> 0 | ... O29: =ROUNDDOWN(【製造プロセス】入力補助シート!M64*【製造プロセス】入力補助シート!$D$76,0) -> 0
D30: 2 | E30: 売上総利益 | F30: =ROUNDDOWN(【製造プロセス】入力補助シート!D65*【製造プロセス】入力補助シート!$D$76,0) -> 0 | G30: =ROUNDDOWN(【製造プロセス】入力補助シート!E65*【製造プロセス】入力補助シート!$D$76,0) -> 0 | H30: =ROUNDDOWN(【製造プロセス】入力補助シート!F65*【製造プロセス】入力補助シート!$D$76,0) -> 0 | I30: =ROUNDDOWN(【製造プロセス】入力補助シート!G65*【製造プロセス】入力補助シート!$D$76,0) -> 0 | J30: =ROUNDDOWN(【製造プロセス】入力補助シート!H65*【製造プロセス】入力補助シート!$D$76,0) -> 0 | K30: =ROUNDDOWN(【製造プロセス】入力補助シート!I65*【製造プロセス】入力補助シート!$D$76,0) -> 0 | L30: =ROUNDDOWN(【製造プロセス】入力補助シート!J65*【製造プロセス】入力補助シート!$D$76,0) -> 0 | M30: =ROUNDDOWN(【製造プロセス】入力補助シート!K65*【製造プロセス】入力補助シート!$D$76,0) -> 0 | ... O30: =ROUNDDOWN(【製造プロセス】入力補助シート!M65*【製造プロセス】入力補助シート!$D$76,0) -> 0
