Workbook
Name 図１: [1]様式5!$B$50
Name 図３: [1]様式5!$B$50

Sheet 別記様式第1号_交付申請書
D1: 別記様式第１号
D2: 年 月 日
A4: 東 京 都 知 事 殿
C6: 法人の所在地
C7: 法人名
C8: 代表者職・氏名
A10: 令和８年度居宅介護支援事業所経営改善等支援事業費補助金交付申請書
A13: このことについて、下記により東京都補助金を交付されるよう、関係書類を添えて申請します。
A16: 記
A18: １ 事業の名称 | B18: 令和８年度居宅介護支援事業所経営改善等支援事業
A19: ２ 申請事業所名
A20: ３ 事業所番号
A21: ４ 補助金交付申請額 | B21: 金 | D21: 円
A22: ５ 申請する補助金 | C22: 各交付申請額 | D22: 当てはまる補助金にチェック
A23: （１） 事務職員雇用支援補助金 | C23: ='別記様式第1号別紙1_事務職員雇用支援補助金_所要額内訳書（総'!I11 -> 0
A24: （２） 経営改善支援補助金 | C24: =別記様式第1号別紙3_経営改善支援補助金_所要額内訳書!P11 -> 0
A25: （３） 広報活動支援補助金 | C25: =別記様式第1号別紙4_広報活動支援補助金_所要額内訳書!P11 -> 0
A26: ６ 所要額内訳 別記各様式のとおり
A27: ７ 他添付書類 | D27: 提出時チェック欄 | E27: 必要書類
A28: （１）（別記様式第1号別紙1）事務職員雇用支援補助金 所要額内訳書（総括表） | E28: =IF($D$23="✓","必要","不要") -> 不要
A29: （２）（別記様式第1号別紙2）事務職員雇用支援補助金 所要額内訳書（個表） | E29: =IF($D$23="✓","必要","不要") -> 不要
A30: （３）勤務形態一覧表（勤務シフト表）（交付申請書提出月のもの) | E30: =IF($D$23="✓","必要","不要") -> 不要
A31: （４）事務職員の雇入れ通知書等（写し） | E31: =IF($D$23="✓","必要","不要") -> 不要
A32: （５）（別記様式第1号別紙3）経営改善支援補助金 所要額内訳書 | E32: =IF($D$24="✓","必要","不要") -> 不要
A33: （６）（別記様式第1号別紙4）広報活動支援補助金 所要額内訳書 | E33: =IF($D$25="✓","必要","不要") -> 不要
A34: （７）（別記様式第2号）事業計画書 | E34: =IF($D$23="✓","必要","不要") -> 不要
A36: 事務担当者 | B36: 氏 名
B37: 電話番号
B38: ﾒｰﾙｱﾄﾞﾚｽ

Sheet 別記様式第1号別紙1_事務職員雇用支援補助金_所要額内訳書（総
G1: 別記様式第1号別紙1_所要額内訳書（総括表）
A4: 事務職員雇用支援補助金 所要額内訳書（総括表）
F6: 事業所名 | G6: =別記様式第1号_交付申請書!B19 -> 0
I7: （単位：円）
A8: 経費 | B8: 総事業費 | C8: 寄付金その他 | D8: 差引額 | E8: 対象経費の | F8: 基準額 | G8: 補助率 | H8: 補助所要額（Ｈ） | I8: 選定額
C9: の収入額 | D9: （A）－（B） | E9: 支出予定額 | H9: (D)（E）を比較して少ない額に
B10: （A） | C10: （B） | D10: （C） | E10: （D） | F10: （Ｅ） | G10: （Ｇ） | H10: (G)を乗ずる | I10: （F）
A11: 人件費 | B11: ='別記様式第1号別紙2_事務職員雇用支援補助金_所領額内訳書（個'!H25 -> 0 | C11: 0 | D11: =B11-C11 -> 0 | E11: =D11 -> 0 | F11: 2700000 | G11: ３／４ | H11: =J11*3/4 -> 0 | I11: =ROUNDDOWN(H11,-3) -> 0 | J11: =MIN(E11,F11) -> 0
A13: 記入上の注意
A14: １．「寄附金その他の収入額（B）」は、該当がある場合はその金額を記入してください。
A15: ２．「対象経費の支出予定額（D）」は、総事業費のうち事業所が負担する額を記入してください。
A16: ３．「補助所要額（Ｈ）」は、「対象経費の支出予定額（Ｄ）」と「基準額（E）」を比較していずれか少ない額に補助率を乗ずる。
A17: ４．「選定額F」の合計額に1,000円未満の端数が生じた場合は、端数を切り捨てます。

Sheet 別記様式第1号別紙2_事務職員雇用支援補助金_所領額内訳書（個
N1: 別記様式第1号別紙2_所要額内訳書（個表）
A3: 事務職員雇用支援補助金 所要額内訳書（個表）
B5: ＜事務職員に係る所要額＞
B6: 事務職員 氏名 | L6: 雇用形態 | P6: 採用経路
B7: 月平均 | H7: 時間
B8: 所定労働時間
B10: 雇用期間 | G10: 補助対象期間
B14: 自 | C14: 年 月 日 | G14: 自 | H14: 年 月 日
B15: 至 | C15: 年 月 日 | G15: 至 | H15: 年 月 日
B18: 【人件費】 | L18: (円)
B19: 事務職員への 給与等(※) | F19: A
B22: 社会保険料の雇用主 負担分 | F22: B
B25: 合計 | F25: C=A+B | H25: =H19+H22 -> 0
B28: ※当該事務職員へ実際に支給する額。給料、報酬、賃金、賞与及び手当を含む。 ただし、所定労働時間を超える労働に対する賃金や手当等（残業代等）は除く。
A36: （８）（別記様式第3号）事業計画書

Sheet 別記様式第1号別紙3_経営改善支援補助金_所要額内訳書
L1: 別記様式第1号別紙3_所要額内訳書
A5: ① 経営改善活動実施期間 | D5: 令和 | F5: 年 | H5: 月 | J5: 日 | K5: ～ | L5: 令和 | N5: 年 | P5: 月 | R5: 日
A6: ② 実施予定内容
A8: ③ 所要見込額
A9: 総費用 | B9: 寄付金その他の収入額 | D9: 差引(A-B) | G9: 対象経費の 支出予定額 | J9: 補助基準額 | M9: 選定額 | P9: 補助所要額
A10: A | B10: B | D10: C | G10: D | J10: E | M10: F | P10: G
D11: =A11-B11 -> 0 | G11: =D11 -> 0 | J11: 400000 | M11: =MIN(G11,J11) -> 0 | P11: =ROUNDDOWN(M11,-3) -> 0
D27: 必要書類

Sheet 別記様式第1号別紙4_広報活動支援補助金_所要額内訳書
L1: 別記様式第1号別紙4_所要額内訳書
A5: ① 広報活動実施期間 | D5: 令和 | F5: 年 | H5: 月 | J5: 日 | K5: ～ | L5: 令和 | N5: 年 | P5: 月 | R5: 日
A6: ② 実施予定内容
A8: ③ 所要見込額
A9: 総費用 | B9: 寄付金その他の収入額 | D9: 差引(A-B) | G9: 対象経費の 支出予定額 | J9: 補助基準額 | M9: 選定額 | P9: 補助所要額
A10: A | B10: B | D10: C | G10: D | J10: E | M10: F | P10: G
D11: =A11-B11 -> 0 | G11: =D11 -> 0 | J11: 300000 | M11: =MIN(G11,J11) -> 0 | P11: =ROUNDDOWN(M11,-3) -> 0
C27: 提出時チェック欄 | D27: 必要書類

Sheet 別記様式第２号_事業計画書
A1: 別記様式第2号
A2: =別記様式第1号_交付申請書!D2 -> 年 月 日
A4: 事 業 計 画 書
A6: １ 居宅介護支援事業所の名称、所在地、管理者、事業所番号等
A7: 名称 | B7: ='別記様式第1号別紙1_事務職員雇用支援補助金_所要額内訳書（総'!G6 -> 0
A8: 所在地
A9: 管理者氏名 | C9: 事業所番号
A10: 指定年月日 | B10: 年 月 日 | C10: ケアプランを担当する介護支援専門員数 | D10: 人
A11: （予定含む） | D11: （ 年 月 日現在）
A12: 利用者数 | B12: 人 | C12: 介護支援専門員一人当たりのケアプラン担当件数（平均） | D12: 件
B13: （ 年 月 日現在） | D13: （ 年 月実績）
A15: ２ 事務職員の雇用による介護支援専門員の本来業務の生産性向上等の取組（計画）
A17: 取 組 内 容
A19: ３ 専門家（コンサル等）を利用した経営改善に向けた取組（計画）
A20: ※具体的に記載してください。
A21: 取 組 内 容
A22: =別記様式第1号別紙3_経営改善支援補助金_所要額内訳書!B7 -> 0
A23: ４ 利用者確保のために広報活動の取組（計画）
A24: ※具体的に記載してください。
A25: 取 組 内 容
A26: =別記様式第1号別紙4_広報活動支援補助金_所要額内訳書!B7 -> 0

Sheet 【記載例】別記様式第1号_交付申請書 
D1: 別記様式第１号
D2: 年 月 日
A4: 東 京 都 知 事 殿
C6: 法人の所在地 | D6: 東京都○○区○○ ○-○-○
C7: 法人名 | D7: 株式会社○○
C8: 代表者職・氏名 | D8: ○○ ○○
A10: 令和８年度居宅介護支援事業所経営改善等支援事業費補助金交付申請書
A13: このことについて、下記により東京都補助金を交付されるよう、関係書類を添えて申請します。
A16: 記
A18: １ 事業の名称 | B18: 令和８年度居宅介護支援事業所経営改善等支援事業
A19: ２ 申請事業所名 | B19: 居宅介護支援事業所A
A20: ３ 事業所番号 | B20: 12345678
A21: ４ 補助金交付申請額 | B21: 金 | C21: =SUM(C23:C25) -> 2725000 | D21: 円
A22: ５ 申請する補助金 | C22: 各交付申請額 | D22: 当てはまる補助金にチェック
A23: （１） 事務職員雇用支援補助金 | C23: 2025000 | D23: ✓
A24: （２） 経営改善支援補助金 | C24: 400000 | D24: ✓
A25: （３） 広報活動支援補助金 | C25: 300000 | D25: ✓
A26: ６ 所要額内訳 別記各様式のとおり
A27: ７ 他添付書類 | D27: 提出時チェック欄 | E27: 必要書類
A28: （１）（別記様式第1号別紙1）事務職員雇用支援補助金 所要額内訳書（総括表） | D28: ✔ | E28: =IF($D$23="✓","必要","不要") -> 必要
A29: （２）（別記様式第1号別紙2）事務職員雇用支援補助金 所要額内訳書（個表） | D29: ✔ | E29: =IF($D$23="✓","必要","不要") -> 必要
A30: （３）勤務形態一覧表（勤務シフト表）（交付申請書提出月のもの) | D30: ✔ | E30: =IF($D$23="✓","必要","不要") -> 必要
A31: （４）事務職員の雇入れ通知書等（写し） | D31: ✔ | E31: =IF($D$23="✓","必要","不要") -> 必要
A32: （５）（別記様式第1号別紙3）経営改善支援補助金 所要額内訳書 | D32: ✔ | E32: =IF($D$24="✓","必要","不要") -> 必要
A33: （６）（別記様式第1号別紙4）広報活動支援補助金 所要額内訳書 | D33: ✔ | E33: =IF($D$25="✓","必要","不要") -> 必要
A34: （７）（別記様式第2号）事業計画書 | D34: ✔ | E34: =IF($D$23="✓","必要","不要") -> 必要
A36: 事務担当者 | B36: 氏 名 | C36: ○○ ○○
B37: 電話番号 | C37: ○○-○○○○-○○○○
B38: ﾒｰﾙｱﾄﾞﾚｽ | C38: 0000@000.jp

Sheet 【記載例】別記様式第1号別紙2_所要額内訳書（個表）
N1: 別記様式第1号別紙2_所要額内訳書（個表）
A3: 事務職員雇用支援補助金 所要額内訳書（個表）
A5: ＜事務職員に係る所要額＞
B6: 事務職員 氏名 | D6: ○○ ○○ | L6: 雇用形態 | N6: 常勤 | P6: 採用経路 | R6: 面接
B7: 月平均 | F7: 170 | H7: 時間
B8: 所定労働時間
B10: 雇用期間 | G10: 補助対象期間
B14: 自 | C14: 44652 | G14: 自 | H14: 46113
B15: 至 | C15: 現在 | G15: 至 | H15: 46477
B18: 【人件費】 | L18: (円)
B19: 事務職員への 給与等(※) | F19: A | H19: 3000000
B22: 社会保険料の雇用主 負担分 | F22: B | H22: 540000
B25: 合計 | F25: C=A+B | H25: =H19+H22 -> 3540000
B28: ※当該事務職員へ実際に支給する額。給料、報酬、賃金、賞与及び手当を含む。 ただし、所定労働時間を超える労働に対する賃金や手当等（残業代等）は除く。

Sheet 【記載例】別記様式第1号別紙1_所要額内訳書（総括表）
G1: 別記様式第1号別紙1_所要額内訳書（総括表）
A4: 事務職員雇用支援補助金 所要額内訳書（総括表）
F6: 事業所名 | G6: =#REF! -> #REF!
I7: （単位：円）
A8: 経費 | B8: 総事業費 | C8: 寄付金その他 | D8: 差引額 | E8: 対象経費の | F8: 基準額 | G8: 補助率 | H8: 補助所要額（Ｈ） | I8: 選定額
C9: の収入額 | D9: （A）－（B） | E9: 支出予定額 | H9: (D)（E）を比較して少ない額に
B10: （A） | C10: （B） | D10: （C） | E10: （D） | F10: （Ｅ） | G10: （Ｇ） | H10: (G)を乗ずる | I10: （F）
A11: 人件費 | B11: ='【記載例】別記様式第1号別紙2_所要額内訳書（個表）'!H25 -> 3540000 | C11: 0 | D11: =B11-C11 -> 3540000 | E11: =D11 -> 3540000 | F11: 2700000 | G11: ３／４ | H11: =J11*3/4 -> 2025000 | I11: =ROUNDDOWN(H11,-3) -> 2025000 | J11: =MIN(E11,F11) -> 2700000
A13: 記入上の注意
A14: １．「寄附金その他の収入額（B）」は、該当がある場合はその金額を記入してください。
A15: ２．「対象経費の支出予定額（D）」は、総事業費のうち事業所が負担する額を記入してください。
A16: ３．「補助所要額（Ｈ）」は、「対象経費の支出予定額（Ｄ）」と「基準額（E）」を比較していずれか少ない額に補助率を乗ずる。
A17: ４．「選定額F」の合計額に1,000円未満の端数が生じた場合は、端数を切り捨てます。

Sheet 【記載例】別記様式第1号別紙3_経営改善支援補助金
L1: 別記様式第1号別紙3_所要額内訳書
A5: ① 経営改善活動実施期間 | D5: 令和 | F5: 年 | H5: 月 | J5: 日 | K5: ～ | L5: 令和 | N5: 年 | P5: 月 | R5: 日
A6: ② 実施予定内容
B7: 所属ケアマネジャーの処遇改善を図るため、介護業界に詳しいコンサルタントに複数回の相談を行う。
A8: ③ 所要見込額
A9: 総費用 | B9: 寄付金その他の収入額 | D9: 差引(A-B) | G9: 対象経費の 支出予定額 | J9: 補助基準額 | M9: 選定額 | P9: 補助所要額
A10: A | B10: B | D10: C | G10: D | J10: E | M10: F | P10: G
D11: =A11-B11 -> 0 | G11: =D11 -> 0 | J11: 400000 | M11: =MIN(G11,J11) -> 0 | P11: =ROUNDDOWN(M11,-3) -> 0
D27: 必要書類

Sheet 【記載例】別記様式第1号別紙4_広報活動支援補助金 
L1: 別記様式第1号別紙4_所要額内訳書
A5: ① 広報活動実施期間 | D5: 令和 | F5: 年 | H5: 月 | J5: 日 | K5: ～ | L5: 令和 | N5: 年 | P5: 月 | R5: 日
A6: ② 実施予定内容
B7: ・当社ホームページの立ち上げ費用として~ ・利用者確保に資する、周辺1kmの〇〇世帯を対象としたチラシ作成・配布を行う。
A8: ③ 所要見込額
A9: 総費用 | B9: 寄付金その他の収入額 | D9: 差引(A-B) | G9: 対象経費の 支出予定額 | J9: 補助基準額 | M9: 選定額 | P9: 補助所要額
A10: A | B10: B | D10: C | G10: D | J10: E | M10: F | P10: G
D11: =A11-B11 -> 0 | G11: =D11 -> 0 | J11: 300000 | M11: =MIN(G11,J11) -> 0 | P11: =ROUNDDOWN(M11,-3) -> 0
C27: 提出時チェック欄 | D27: 必要書類

Sheet 【記載例】別記様式第２号_事業計画書 
A1: 別記様式第2号
A2: =別記様式第1号_交付申請書!D2 -> 年 月 日
A4: 事 業 計 画 書
A6: １ 居宅介護支援事業所の名称、所在地、管理者、事業所番号等
A7: 名称 | B7: ='別記様式第1号別紙1_事務職員雇用支援補助金_所要額内訳書（総'!G6 -> 0
A8: 所在地
A9: 管理者氏名 | C9: 事業所番号
A10: 指定年月日 | B10: 年 月 日 | C10: ケアプランを担当する介護支援専門員数 | D10: 人
A11: （予定含む） | D11: （ 年 月 日現在）
A12: 利用者数 | B12: 人 | C12: 介護支援専門員一人当たりのケアプラン担当件数（平均） | D12: 件
B13: （ 年 月 日現在） | D13: （ 年 月実績）
A15: ２ 事務職員の雇用による介護支援専門員の本来業務の生産性向上等の取組（計画）
A17: 取 組 内 容
A18: ・～～を～～する。 ・～～を行う。 ・ ・ ・
A19: ３ 専門家（コンサル等）を利用した経営改善に向けた取組（計画）
A20: ※具体的に記載してください。
A21: 取 組 内 容
A22: =【記載例】別記様式第1号別紙3_経営改善支援補助金!B7 -> 所属ケアマネジャーの処遇改善を図るため、介護業界に詳しいコンサルタントに複数回の相談を行う。
A23: ４ 利用者確保のために広報活動の取組（計画）
A24: ※具体的に記載してください。
A25: 取 組 内 容
A26: ='【記載例】別記様式第1号別紙4_広報活動支援補助金 '!B7 -> ・当社ホームページの立ち上げ費用として~ ・利用者確保に資する、周辺1kmの〇〇世帯を対象としたチラシ作成・配布を行う。
